Workbook
Name f207.: [1]HRGST!#REF!
Name f207.: [1]HRGST!#REF!
Name f207.: [1]HRGST!#REF!
Name f207.: [1]HRGST!#REF!
Name f207.: [1]HRGST!#REF!
Name f207.: 'HARGA SATUAN PEKERJAAN'!$F$243
Name H23e137: BAHAN!$H$23

Sheet REKAP 
A1: REKAPITULASI RENCANA ANGGARAN BIAYA
A2: PEKERJAAN PEMBANGUNAN RUMAH TINGGAL
A3: Revisi 00 | O3: LEBAR | P3: PANJANG | Q3: LUAS
B4: Perihal | C4: : Rencana Anggaran Biaya | H4: Luas Kavling | K4: : | M4: =O4&" m x "&P4&" m ("&Q4&" m²)" -> 35 m x 66 m (2310 m²) | O4: 35 | P4: 66 | Q4: 2310
B5: Pekerjaan | C5: : Struktur dan Finishing | H5: Luas Bangunan Lantai Satu | K5: : | M5: 481
B6: Bangunan | C6: : Rumah Tinggal | H6: Luas Bangunan Lantai Dua | K6: : | M6: 0
B7: Type | C7: : Klasik Modern | H7: Luas Bangunan Lantai Atap | K7: :
B8: Pemilik | C8: : -
B9: Lokasi | C9: : -
B10: Wilayah | C10: : -
H11: Jumlah Luas Bangunan | K11: : | M11: =SUM(M5:M10) -> 481
A13: No. | B13: URAIAN PEKERJAAN | I13: JUMLAH HARGA | L13: JUMLAH HARGA TOTAL
I14: ( Rp ) | L14: ( Rp )
A15: I | B15: =BOQ!$B$16 -> PEKERJAAN PERSIAPAN | I15: Rp. | J15: =BOQ!$L$30 -> 0 | L15: Rp. | M15: =J15 -> 0
A16: III | B16: =BOQ!$B$31 -> PEKERJAAN GALIAN TANAH + URUGAN | I16: Rp. | J16: =BOQ!$L$41 -> 0 | L16: Rp. | M16: =J16 -> 0
A17: III | B17: =BOQ!$B$42 -> PEKERJAAN STRUKTUR BETON BERTULANG | L17: Rp. | M17: =SUM(J18:J23) -> 0
A18: A | B18: =BOQ!$B$43 -> Lantai 1 & Pondasi | I18: Rp. | J18: =BOQ!L119 -> 0
A19: B | B19: =BOQ!$B$120 -> Lantai 2 dan Mezannine | I19: Rp. | J19: =BOQ!L204 -> 0
A20: C | B20: =BOQ!$B$205 -> Lantai Atap | I20: Rp. | J20: =BOQ!L267 -> 0
A21: D | B21: =BOQ!$B$268 -> Lantai Atap | I21: Rp. | J21: =BOQ!$L$334 -> 0
A22: E | B22: =BOQ!$B$335 -> Lantai 4 | I22: Rp. | J22: =BOQ!L383 -> 0
A23: F | B23: Lantai Atap | I23: Rp. | J23: =BOQ!$L$432 -> 0
A24: IV | B24: =BOQ!$B$433 -> PEKERJAAN DINDING | L24: Rp. | M24: =SUM(J25:J30) -> 0
A25: A | B25: =BOQ!$B$434 -> Lantai 1 | I25: Rp. | J25: =BOQ!L439 -> 0
A26: B | B26: =BOQ!$B$440 -> Lantai 2 | I26: Rp. | J26: =BOQ!L445 -> 0
A27: C | B27: =BOQ!$B$446 -> Lantai Atap | I27: Rp. | J27: =BOQ!L451 -> 0
A28: D | B28: =BOQ!$B$452 -> Lantai Atap | I28: Rp. | J28: =BOQ!$L$457 -> 0
A29: E | B29: =BOQ!$B$458 -> Lantai 4 | I29: Rp. | J29: =BOQ!L463 -> 0
A30: F | B30: Lantai Atap | I30: Rp. | J30: =BOQ!$L$469 -> 0
A31: V | B31: =BOQ!$B$470 -> PEKERJAAN ATAP | I31: Rp. | J31: =BOQ!L495 -> 0 | L31: Rp. | M31: =J31 -> 0
A32: VI | B32: =BOQ!B496 -> PEKERJAAN KUSEN, PINTU DAN JENDELA | L32: Rp. | M32: =SUM(J33:J36) -> 0
A33: A | B33: =BOQ!$B$497 -> Lantai 1 | I33: Rp. | J33: =BOQ!L527 -> 0
A34: B | B34: =BOQ!$B$528 -> Lantai 2 dan Mezzanine | I34: Rp. | J34: =BOQ!L558 -> 0
A35: C | B35: =BOQ!$B$559 -> Lantai Atap | I35: Rp. | J35: =BOQ!L589 -> 0
A36: D | B36: =BOQ!$B$590 -> Lantai 4 | I36: Rp. | J36: =BOQ!$L$620 -> 0
A37: VII | B37: =BOQ!B621 -> PEKERJAAN ENGSEL DAN KUNCI | I37: Rp. | J37: =BOQ!L635 -> 0 | L37: Rp. | M37: =J37 -> 0
A38: VIII | B38: =BOQ!B636 -> PEKERJAAN INSTALASI AIR & SANITARI | L38: Rp. | M38: =SUM(J39:J44) -> 0
A39: A | B39: =BOQ!$B$637 -> Lantai 1 | I39: Rp. | J39: =BOQ!L679 -> 0
A40: B | B40: =BOQ!$B$680 -> Lantai 2 | I40: Rp. | J40: =BOQ!L717 -> 0
A41: C | B41: =BOQ!$B$718 -> Lantai Atap | I41: Rp. | J41: =BOQ!L756 -> 0
...

Sheet KUSTOM NAMA
E7: JAKARTA - SURABAYA - TANGERANG
B9: SPESIFIKASI TEKNIS
C11: Proyek | D11: ='REKAP '!C6 -> : Rumah Tinggal
C12: Lokasi | D12: ='REKAP '!C9 -> : -
C13: Pemilik | D13: ='REKAP '!C8 -> : -
C15: URAIAN PEKERJAAN | H15: SPESIFIKASI MATERIAL
C16: Pekerjaan Septictank | H16: Ex. Konvensional
C17: Pekerjaan Pondasi | H17: Sistem Pile Cap, dan Straus Pile
C18: Pekerjaan Struktur | H18: Mutu Beton K. 300, Semen Bosowa/Setara
H19: Beton Konvensional 1:2:3
H20: Besi ex. Setara IBD ( SNI )
C21: Pekerjaan Dinding | H21: =BOQ!$D$435 -> Bata merah tebal 1/2 bata. Adukan 1 PC : 5 PS
H22: Plester Dinding ( semua dinding )
H23: Acian ex. Semen Hitam Bosowa/setara
C24: Pekerjaan Plafond | H24: Rangka Hollow Galvanis 2x4 dan 4x4
H25: Gypsum 9mm ex. Jayaboard/Aplus/Sunda Plafond/Setara
C26: Pekerjaan Lantai | H26: Luxury Home, KIA, Masterina/setara
C27: Pekerjaan Plumbing | H27: Pipa PVC air bersih ex. Wavin type AW
H28: Pipa PVC air kotor ex. Wavin type AW
C29: Pekerjaan Listrik | H29: Kabel ex. Eterna/setara
H30: Fixture ex. Broco dan Armature ex. Phillips/setara
C31: Pekerjaan Sanitary | H31: Sanitary ex American Standard/setara
C32: Pekerjaan Pintu dan Jendela | H32: Kusen ex. Allumunium Alexindo/Setara
H33: Pintu ex. Allumunium Alexindo/Setara
H34: Jendela ex. Allumunium Alexindo/Setara
H35: Pintu ex. Kayu Kamper Samarinda /setara
H36: Pintu ex. Panel Teakwood Engineering/setara
C37: Pekerjaan Pengecatan | H37: Cat ex. Dulux/Jotun/setara
C38: Pekerjaan Water Toren | H38: Water Toren ex. Penguin/setara
H39: Mesin Pompa ex. Grundfos/setara

Sheet IDC
A3: SPESIFIKASI TEKNIS
A4: Proyek | B4: ='REKAP '!C6 -> : Rumah Tinggal
A5: Lokasi | B5: ='REKAP '!C9 -> : -
A6: Pemilik | B6: ='REKAP '!C8 -> : -
A8: URAIAN PEKERJAAN | C8: SPESIFIKASI MATERIAL
A9: Pekerjaan Septictank | C9: Ex Konvensional
A10: Pekerjaan Pondasi | C10: Sistem Pile Cap dan Straus Pile
A11: Pekerjaan Struktur | C11: Mutu Beton K. 300, Semen Hitam Tiga Roda / setara
C12: Beton Konvensional 1:2:3
C13: Besi ex. IBD SNI / setara
A14: Pekerjaan Dinding | C14: =BOQ!$D$435 -> Bata merah tebal 1/2 bata. Adukan 1 PC : 5 PS
C15: Plester Dinding (semua dinding)
C16: Acian ex. Semen Hitam Tiga Roda / setara
A17: Pekerjaan Plafond | C17: Rangka Hollow Galvanis 2x4 dan 4x4
C18: Gypsum 9mm ex. Aplus/Jayaboard / setara
A19: Pekerjaan Lantai | C19: Niro Granite, Essenza, Citigress, KIA, Masterina /setara
A20: Pekerjaan Plumbing | C20: Pipa PVC air bersih ex. Wavin type AW
C21: Pipa PVC air kotor ex. Wavin type D
A22: Pekerjaan Listrik | C22: Kabel ex. Eterna / setara
C23: Fixture ex. Broco dan Armature ex. Hannochs / setara
A24: Pekerjaan Sanitary | C24: Sanitary ex. Toto setara
A25: Pekerjaan Besi Railing | C25: Railing besi tempa
A26: Pekerjaan Pintu dan Jendela | C26: Kusen ex. UPVC Conch/setara
C27: Pintu ex. UPVC Conch/setara
C28: Jendela ex. UPVC Conch/setara
C29: Pintu ex. Panel Teakwood Engineering/ Setara
C30: Pintu ex. Kayu Kamper Samarinda/ Setara
C31: Pintu ex. WINA-SS/ Setara
C32: Pintu ex. Pintu Kasa Nyamuk/ Setara
A33: Pekerjaan Pengecatan | C33: Cat ex. Dulux/ setara
A34: Pekerjaan Water Toren | C34: Water Toren ex. Penguin / setara
C35: Mesin Pompa ex. Grundfos/ setara

Sheet BOQ
A2: REKAPITULASI RENCANA ANGGARAN BIAYA
A3: ='REKAP '!A2:M2 -> PEKERJAAN PEMBANGUNAN RUMAH TINGGAL
A4: Revisi 00
B5: Perihal | C5: ='REKAP '!C4 -> : Rencana Anggaran Biaya | I5: ='REKAP '!H4 -> Luas Kavling | J5: : | L5: ='REKAP '!M4 -> 35 m x 66 m (2310 m²)
B6: Pekerjaan | C6: ='REKAP '!C5 -> : Struktur dan Finishing | I6: ='REKAP '!H5 -> Luas Bangunan Lantai Satu | J6: : | L6: ='REKAP '!M5 -> 481
B7: Bangunan | C7: ='REKAP '!C6 -> : Rumah Tinggal | I7: ='REKAP '!H6 -> Luas Bangunan Lantai Dua | J7: : | L7: ='REKAP '!M6 -> 0
B8: Type | C8: ='REKAP '!C7 -> : Klasik Modern | I8: ='REKAP '!H7 -> Luas Bangunan Lantai Atap | J8: : | L8: ='REKAP '!M7 -> 0
B9: Pemilik | C9: ='REKAP '!C8 -> : -
B10: Lokasi | C10: ='REKAP '!C9 -> : -
B11: Wilayah | C11: ='REKAP '!C10 -> : -
I12: Jumlah Luas Bangunan | J12: : | L12: ='REKAP '!M11 -> 481
A14: No | B14: Uraian Pekerjaan | D14: Spesifikasi Ringkas | E14: Volume | F14: Sat | G14: Harga Satuan Material | H14: Harga Satuan Upah | I14: Material+Upah | J14: Jumlah Harga Material | K14: Jumlah Harga Upah | L14: Jumlah Material + Upah
G15: (Rp) | H15: (Rp) | I15: (Rp) | J15: (Rp) | K15: (Rp) | L15: (Rp)
A16: I | B16: PEKERJAAN PERSIAPAN | N16: 1
A17: 1 | B17: Pekerjaan Pagar Sementara Seng Gelombang | D17: t = 2 m | E17: =PRP!E3 -> 202 | F17: m' | G17: 0 | H17: 0 | I17: =G17+H17 -> 0 | J17: =E17*G17 -> 0 | K17: =E17*H17 -> 0 | L17: =J17+K17 -> 0
A18: 2 | B18: Pengukuran dan Pasang Bouwplank | E18: =PRP!E7 -> 202 | F18: m | G18: 0 | H18: 0 | I18: =G18+H18 -> 0 | J18: =E18*G18 -> 0 | K18: =E18*H18 -> 0 | L18: =J18+K18 -> 0
B19: Biaya perijinan IMB | E19: 1 | F19: ls | G19: 0 | H19: 0 | I19: =G19+H19 -> 0 | J19: =E19*G19 -> 0 | K19: =E19*H19 -> 0 | L19: =J19+K19 -> 0
B20: Air kerja dan Listrik Kerja | E20: 1 | F20: ls | G20: 0 | H20: 0 | I20: =G20+H20 -> 0 | J20: =E20*G20 -> 0 | K20: =E20*H20 -> 0 | L20: =J20+K20 -> 0
A21: 3 | B21: Pembuatan Kantor Sementara | D21: adukan pasir & semen | E21: 24 | F21: m² | G21: =PSP!$I$45 -> 1748312.9 | H21: =PSP!$I$50 -> 806000 | I21: =G21+H21 -> 2554312.9 | J21: =E21*G21 -> 41959509 | K21: =E21*H21 -> 19344000 | L21: 0
A22: 4 | B22: Gudang material/direksi keet | D22: Balok - Kayu - Tripleks | E22: 24 | F22: m² | G22: =PSP!$I$60 -> 1696170 | H22: =PSP!$I$64 -> 495000 | I22: =G22+H22 -> 2191170 | J22: =E22*G22 -> 40708080 | K22: =E22*H22 -> 11880000 | L22: 0
B23: Pembuatan Bedeng Buruh | D23: Balok - Kayu - Tripleks | E23: 0 | F23: m² | G23: =PSP!$I$74 -> 1515466.3 | H23: =PSP!$I$78 -> 495000 | I23: =G23+H23 -> 2010466.3 | J23: =E23*G23 -> 0 | K23: =E23*H23 -> 0 | L23: =J23+K23 -> 0
B24: Keamanan proyek | E24: 1 | F24: bln | G24: 0 | H24: 0 | I24: =G24+H24 -> 0 | J24: =E24*G24 -> 0 | K24: =E24*H24 -> 0 | L24: =J24+K24 -> 0
B25: Pembersihan & buangan sampah proyek | E25: 0 | F25: m² | G25: 0 | H25: =PSP!$I$83 -> 22600 | I25: =G25+H25 -> 22600 | J25: =E25*G25 -> 0 | K25: =E25*H25 -> 0 | L25: =J25+K25 -> 0
B26: Bongkaran Beton Bertulang | E26: 0 | F26: m³ | G26: 0 | H26: =PSP!$I$88 -> 966652 | I26: =G26+H26 -> 966652 | J26: =E26*G26 -> 0 | K26: =E26*H26 -> 0 | L26: =J26+K26 -> 0
B27: Bongkaran Dinding Tembok Bata Merah | E27: 0 | F27: m³ | G27: 0 | H27: =PSP!$I$92 -> 912652 | I27: =G27+H27 -> 912652 | J27: =E27*G27 -> 0 | K27: =E27*H27 -> 0 | L27: =J27+K27 -> 0
B28: Biaya gambar kerja Shop Drawing | E28: 1 | F28: m² | G28: 0 | H28: 0 | I28: =G28+H28 -> 0 | J28: =E28*G28 -> 0 | K28: =E28*H28 -> 0 | L28: =J28+K28 -> 0
B29: Mobilisasi dan demobilisasi | E29: 1 | F29: ls | G29: 0 | H29: 0 | I29: =G29+H29 -> 0 | J29: =E29*G29 -> 0 | K29: =E29*H29 -> 0 | L29: =J29+K29 -> 0
A30: Sub total Pekerjaan Persiapan = | J30: =SUM(J17:J29) -> 82667589 | K30: =SUM(K17:K29) -> 31224000 | L30: =SUM(L16:L29) -> 0 | M30: 1 | N30: 2
A31: II | B31: PEKERJAAN GALIAN TANAH + URUGAN | N31: 3
A32: 1 | B32: Galian Tanah Biasa | E32: ='PONDASI DAN SLOOF'!C26 -> 470.17 | F32: m³ | G32: 0 | H32: 0 | I32: =G32+H32 -> 0 | J32: =E32*G32 -> 0 | K32: =E32*H32 -> 0 | L32: =J32+K32 -> 0
A33: 2 | B33: Galian Tanah Manual Strauspile dia-30 cm | E33: ='PONDASI DAN SLOOF'!C27 -> 0 | F33: m' | G33: 0 | H33: =B!$I$17 -> 75000 | I33: =G33+H33 -> 75000 | J33: =E33*G33 -> 0 | K33: =E33*H33 -> 0 | L33: =J33+K33 -> 0
A34: 2 | B34: Galian Tanah Mesin Minicrane Strausspile dia-30 cm | E34: ='PONDASI DAN SLOOF'!C28 -> 0 | F34: m' | G34: 0 | H34: =B!$I$21 -> 120000 | I34: =G34+H34 -> 120000 | J34: =E34*G34 -> 0 | K34: =E34*H34 -> 0 | L34: =J34+K34 -> 0
B35: Pembuangan Tanah sejauh 150 m | F35: m³ | G35: 0 | H35: =B!$I$26 -> 79176 | I35: =G35+H35 -> 79176 | J35: =E35*G35 -> 0 | K35: =E35*H35 -> 0 | L35: =J35+K35 -> 0
A36: 3 | B36: Urugan Kembali | E36: =E32/3 -> 156.72333 | F36: m³ | G36: 0 | H36: 0 | I36: =G36+H36 -> 0 | J36: =E36*G36 -> 0 | K36: =E36*H36 -> 0 | L36: =J36+K36 -> 0
B37: Pemadatan urugan | D37: timbris | E37: 0 | F37: m² | G37: 0 | H37: =B!$I$36 -> 77000 | I37: =G37+H37 -> 77000 | J37: =E37*G37 -> 0 | K37: =E37*H37 -> 0 | L37: =J37+K37 -> 0
A38: 4 | B38: Urugan pasir bawah pondasi dan sloof | D38: tebal 10 cm | E38: ='PONDASI DAN SLOOF'!C50 -> 7.336 | F38: m³ | G38: 0 | H38: 0 | I38: =G38+H38 -> 0 | J38: =E38*G38 -> 0 | K38: =E38*H38 -> 0 | L38: =J38+K38 -> 0
A39: 5 | B39: Pekerjaan Urugan Sirtu | F39: m³ | G39: =B!$I$46 -> 348000 | H39: =B!$I$48 -> 38500 | I39: =G39+H39 -> 386500 | J39: =E39*G39 -> 0 | K39: =E39*H39 -> 0 | L39: =J39+K39 -> 0
B40: Pekerjaan Urugan Tanah Pilihan untuk kenaikan level | D40: T = 43 cm | E40: 0 | F40: m³ | G40: =B!$I$52 -> 306000 | H40: =B!$I$54 -> 38500 | I40: =G40+H40 -> 344500 | J40: =E40*G40 -> 0 | K40: =E40*H40 -> 0 | L40: =J40+K40 -> 0
A41: Sub Total Pekerjaan Galian Tanah + Urugan = | J41: =SUM(J32:J40) -> 0 | K41: =SUM(K32:K40) -> 0 | L41: =SUM(L32:L40) -> 0 | M41: 1 | N41: 4
A42: III | B42: PEKERJAAN STRUKTUR BETON BERTULANG | N42: 5
...

Sheet HARGA SATUAN PEKERJAAN
B2: DAFTAR HARGA SATUAN PEKERJAAN
B4: NO | C4: URAIAN PEKERJAAN | F4: HARGA (Rp)
B5: A. | C5: PEKERJAAN PERSIAPAN
B6: 1 | C6: =PSP!C6 -> 1 M' Pagar Sementara Seng Gelombang Tinggi 2 m | F6: =PSP!H20 -> 340923
B7: =B6+1 -> 2 | C7: =PSP!C21 -> 1 M2 Pengukuran Dan Pasang Bouwplank | F7: =PSP!H30 -> 72542
B8: =B7+1 -> 3 | C8: =PSP!C31 -> 1 M2 Pembuatan Kantor Sementara dgn Lantai Diplester | F8: =PSP!H52 -> 2554313
B9: =B8+1 -> 4 | C9: =PSP!C53 -> 1 M2 Pembuatan Gudang Semen dan Alat-alat | F9: =PSP!H66 -> 2191170
B10: =B9+1 -> 5 | C10: =PSP!C67 -> 1 M2 Pembuatan Bedeng Buruh | F10: =PSP!H80 -> 2010466
B11: =B10+1 -> 6 | C11: =PSP!C81 -> 1 M2 Membersihkan Lapangan dan Perataan | F11: =PSP!H85 -> 22600
B12: =B11+1 -> 7 | C12: =PSP!C86 -> 1 M3 Bongkaran Beton Bertulang | F12: =PSP!H90 -> 966652
B13: =B12+1 -> 8 | C13: =PSP!C91 -> 1 M3 Bongkaran Dinding Tembok Bata Merah | F13: =PSP!H95 -> 912652
B14: =B13+1 -> 9 | C14: =PSP!C96 -> 1 M2 Steiger Werk / perancah dari Bambu | F14: =PSP!H104 -> 70610
B16: B. | C16: PEKERJAAN TANAH
B17: 1 | C17: =B!C6 -> 1 M3 Galian Tanah Biasa sedalam 1 m | F17: =B!H10 -> 61600
B18: =B17+1 -> 2 | C18: =B!C11 -> 1 M3 Galian Tanah Biasa Sedalam 2 m | F18: =B!H15 -> 80896
B19: =B18+1 -> 3 | C19: =B!C16 -> 1 M1 Galian Tanah Manual Strauspile dia - 30 cm | F19: =B!H19 -> 75000
B20: =B19+1 -> 4 | C20: =B!C20 -> 1 M1 Galian Tanah mesin minicrane Strauspile dia - 30 cm | F20: =B!H23 -> 120000
B21: =B20+1 -> 5 | C21: =B!C24 -> 1 M3 Pembuangan Tanah sejauh 150 m | F21: =B!H28 -> 79176
B22: =B21+1 -> 6 | C22: =B!C29 -> 1 M3 Urugan Kembali | F22: =B!H33 -> 29532
B23: =B22+1 -> 7 | C23: =B!C34 -> 1 M3 Pemadatan Tanah | F23: =B!H38 -> 77000
B24: =B23+1 -> 8 | C24: =B!C39 -> 1 M3 Urugaan Pasir | F24: =B!H44 -> 246600
B25: =B24+1 -> 9 | C25: =B!C45 -> 1 M3 Urugan Sirtu | F25: =B!H50 -> 386500
B26: =B25+1 -> 10 | C26: =B!C51 -> 1 M3 Urugan Tanah Pilihan | F26: =B!H56 -> 344500
B28: C. | C28: PEKERJAAN PONDASI
B29: 1 | C29: ='C'!C6 -> 1 M3 Pasang Pondasi Batu kali adk 1pc : 5ps | F29: ='C'!H15 -> 975024
B30: =B29+1 -> 2 | C30: ='C'!C16 -> 1 M3 Pasang Pondasi Batu Kosong (aanstamping) | F30: ='C'!H24 -> 609630
B31: =B30+1 -> 3 | C31: ='C'!C25 -> 1 Titik Pemasangan Straus pile (30x30) cm kedalaman 3 meter | F31: ='C'!H37 -> 705971
B32: =B31+1 -> 4 | C32: ='C'!C38 -> 1 Titik Pemasangan Straus pile (30x30) cm kedalaman 6 meter | F32: ='C'!H50 -> 1411941
B33: =B32+1 -> 5 | C33: ='C'!C51 -> 1 Titik Pemasangan Straus pile (30x30) cm kedalaman 12,5 meter | F33: ='C'!$H$63 -> 2965077
B34: =B33+1 -> 6 | C34: ='C'!C64 -> 1 M' Memancang Tiang Pancang Beton Tulang | F34: ='C'!H69 -> 132017
B35: =B34+1 -> 7 | C35: ='C'!C70 -> 1 Buah Memotong Tiang Pancang (40x40) cm Beton Tulang | F35: ='C'!H76 -> 674217
B36: =B35+1 -> 8 | C36: ='C'!C77 -> 1 M' Menyambung Tiang Pancang Beton Bertulang | F36: ='C'!H86 -> 710798
B37: =B36+1 -> 9 | C37: ='C'!C87 -> 1 M3 Pasang Rollag Batu Bata Press 1 Pc : 5 Ps | F37: ='C'!$H$96 -> 988991
B38: =B37+1 -> 10 | C38: ='C'!C97 -> 1 Buah Tiang Pancang 20X20 cm ( 6 meter ) | F38: ='C'!H100 -> 147000
B40: D. | C40: PEKERJAAN BETON
B41: 1 | C41: =D!C6 -> 1 Kg Pembesian Dengan Besi Polos/ulir | F41: =D!H14 -> 11611
B42: =B41+1 -> 2 | C42: =D!C15 -> 1 M2 Pembesian Weirmesh M8 | F42: =D!H22 -> 82570
B43: =B42+1 -> 3 | C43: =D!C23 -> 1 M2 Pasang Bekesting Untuk Pondasi Pile Cap | F43: =D!H33 -> 173613
B44: =B43+1 -> 4 | C44: =D!C34 -> 1 M2 Pasang Bekesting Untuk Pondasi | F44: =D!H44 -> 173613
B45: =B44+1 -> 5 | C45: =D!C45 -> 1 M2 Pasang Bekisting Untuk Sloof | F45: =D!H55 -> 175256
...

Sheet KEB. MATERIAL
A1: RENCANA ANGGARAN BIAYA (RAB)
A2: Tipe | B2: ='REKAP '!C7 -> : Klasik Modern
A3: LB | B3: =" : "&'REKAP '!M11&" m2" -> : 481 m2
C5: RAB
A6: No | B6: Nama Bahan Material | C6: Jumlah | D6: Satuan | E6: Harga | F6: Jumlah
E7: Satuan | F7: Harga
A9: I | B9: HARGA MATERIAL
A10: A | B10: PEKERJAAN PASANGAN, PONDASI DAN
B11: BETON BERTULANG
A12: 1 | B12: Batu Bata Merah | C12: =E!$E$345+M!$K$94 -> 1050 | D12: bh | E12: 0 | F12: =C12*E12 -> 0 | G12: ok
B13: Bata Ringan Lokal T 10 cm | C13: =E!$K$57 -> 0 | D13: m3 | E13: 0 | F13: =C13*E13 -> 0
A14: 2 | B14: Batu Belah | C14: ='C'!$K$7+'C'!$K$17 -> 140.1345 | D14: m3 | E14: 0 | F14: =C14*E14 -> 0
A15: 3 | B15: Split Beton 2/3 | C15: =PSP!$K$11+'C'!$E$110+D!$E$315 -> 1.818 | D15: m3 | E15: 0 | F15: =C15*E15 -> 0
A16: 4 | B16: Besi Beton Polos 8mm | C16: =('C'!$K$53+D!K224)/4.8 -> 0 | D16: btg | E16: 0 | F16: =C16*E16 -> 0
A17: 5 | B17: Besi Beton Polos 10mm | C17: =D!$K$233/7.44 -> 0 | D17: btg | E17: 0 | F17: =C17*E17 -> 0
A18: 6 | B18: Besi Beton Polos 12mm | C18: =D!$K$242/10.68 -> 0 | D18: btg | E18: 0 | F18: =C18*E18 -> 0
A19: 7 | B19: Besi Beton Ulir D 10 mm | C19: =D!$K$251/7.44 -> 0 | D19: btg | E19: 0 | F19: =C19*E19 -> 0
A20: 7 | B20: Besi Beton Ulir D 13 mm | C20: =D!$K$260/12.48 -> 0 | D20: btg | E20: 0 | F20: =C20*E20 -> 0
A21: 8 | B21: Besi Beton Ulir D 16 mm | C21: =('C'!$K$52+D!$K$269+'C'!$K$26)/18.96 -> 0 | D21: btg | E21: 0 | F21: =C21*E21 -> 0
A22: 9 | B22: Weirmesh M8 | C22: =D!$K$16 -> 0 | D22: m2 | E22: 0 | F22: =C22*E22 -> 0
A23: 9 | B23: Plywood Tebal 9 mm | C23: =D!$E$320 -> 145.845 | D23: lbr | E23: 0 | F23: =C23*E23 -> 0
A24: 10 | B24: Dolken Ø-8-10/4m | C24: =PSP!$K$7+D!$E$321 -> 274.7 | D24: btg | E24: 0 | F24: =C24*E24 -> 0
A25: 11 | B25: Minyak Begisting | C25: =D!$E$318 -> 63.06 | D25: ltr | E25: 0 | F25: =C25*E25 -> 0
A26: 13 | B26: Bondex | C26: =D!$K$122 -> 0 | D26: m2 | E26: 0 | F26: =C26*E26 -> 0
A27: 14 | B27: Formite/spacer | C27: =D!$E$322 -> 0 | D27: bh | E27: 0 | F27: =C27*E27 -> 0
A28: 12 | B28: Kawat Bendrat | C28: ='C'!$E$109+D!$E$312 -> 0 | D28: kg | E28: 0 | F28: =C28*E28 -> 0
A29: 16 | B29: Kawat Las | C29: =D!$K$17+D!$K$123+G!$K$241+K!$K$153+K!$K$167+K!$K$182 -> 0 | D29: kg | E29: 0 | F29: =C29*E29 -> 0
B30: Kawat Las Nikko | C30: ='C'!$K$80 -> 0 | D30: bh | E30: 0 | F30: =C30*E30 -> 0
A31: 13 | B31: Paku biasa 2"-5" | C31: =PSP!$K$13+PSP!$K$23+D!$E$317 -> 142.28 | D31: kg | E31: 0 | F31: =C31*E31 -> 0
B32: Paku Hak Panjang 15 cm | C32: =G!$K$151+G!$K$220+G!$K$229 -> 0 | D32: kg | E32: 0 | F32: =C32*E32 -> 0
A33: 14 | B33: Seng Gelombang | C33: =PSP!$K$9 -> 242.4 | D33: lbr | E33: 0 | F33: =C33*E33 -> 0
A34: 15 | B34: Meni Besi | C34: =PSP!$K$14 -> 90.9 | D34: kg | E34: 0 | F34: =C34*E34 -> 0
A35: 16 | B35: Pasir Beton | C35: =M!$K$99 -> 0 | D35: m3 | E35: 0 | F35: =C35*E35 -> 0
A36: 17 | B36: Pasir Beton Cilegon | C36: =PSP!$K$10+D!$E$314 -> 1.01 | D36: m3 | E36: 0 | F36: =C36*E36 -> 0
B37: Pasir Urug | C37: =M!$K$295+M!$K$401 -> 0.214 | D37: m3 | E37: 0 | F37: =C37*E37 -> 0
A38: 18 | B38: Pasir Urug Cilegon | C38: =B!$K$40+'C'!$K$18 -> 66.76245 | D38: m3 | E38: 0 | F38: =C38*E38 -> 0
A39: 19 | B39: Pasir Pasang Putih Rangkas | C39: ='C'!$E$105+E!$E$347+I!$E$252 -> 60.2904 | D39: m3 | E39: 0 | F39: =C39*E39 -> 0
B40: Urugan Kerikil 3/5 | C40: =M!$K$303 -> 0 | D40: m3 | E40: 0 | F40: =C40*E40 -> 0
B41: Tanah Urug Pilihan | C41: =B!$K$52 -> 0 | D41: m3 | E41: 0 | F41: =C41*E41 -> 0
A42: 24 | B42: Anti Rayap Tanah | C42: =BOQ!$E$1282 -> 0 | D42: m2 | E42: 0 | F42: =C42*E42 -> 0
...

Sheet BAHAN
B2: DAFTAR HARGA SATUAN BAHAN BANGUNAN
B4: NO | C4: MATERIAL | D4: SAT | E4: HARGA (Rp) | F4: SPESIFIKASI | G4: GAMBAR
B5: A | C5: AGREGAT KASAR,BAHAN PEREKAT & BAHAN JADINYA
B6: 1 | C6: Pasir Urug | D6: m3 | E6: 170000
B7: 2 | C7: Tanah Urug Pilihan | D7: m3 | E7: 255000 | F7: Tanah Merah Campur
B8: 3 | C8: Sirtu | D8: m3 | E8: 290000
B9: 4 | C9: Pasir Pasang Putih Rangkas | D9: m3 | E9: 246000 | F9: Pasir Pasang
B10: 5 | C10: Pasir Beton | D10: m3 | E10: 345000 | F10: Pasir Hitam Cor Cilegon
B11: 6 | C11: Batu Gosok ( Apung ) | D11: kg | E11: 18500
B12: 7 | C12: Spilt Beton 1/2 | D12: m3 | E12: 297000 | F12: Batu Pecah ukuran 1/2 cm
B13: 8 | C13: Spilt Beton 2/3 | D13: m3 | E13: 297000 | F13: Batu Pecah ukuran 2/3 cm
B14: 9 | C14: Spilt Beton 3/5 | D14: m3 | E14: 297000 | F14: Batu Pecah ukuran 3/5 cm
B15: 10 | C15: Spilt Beton 5/7 | D15: m3 | E15: 297000 | F15: Batu Pecah ukuran 5/7 cm
B16: 11 | C16: Batu Belah Pondasi | D16: m3 | E16: 285000
B17: 12 | C17: Batu Tempel Hitam | D17: m2 | E17: 75000 | F17: Batu templek Garut
B18: 13 | C18: Batu Alam Tipe 1 | D18: m2 | E18: 125000 | F18: Uk 3x30 Batu Alam Cupang Merah
B19: 14 | C19: Batu Paras Jogja | D19: m2 | E19: 100000 | F19: Uk 20 x 40 Batu Paras Jogja Krem | K19: https://www.99.co/blog/indonesia/harga-batu-alam/
B20: 15 | C20: Koral Sikat | D20: kg | E20: 5000 | F20: Koral sikat Putih
B21: 16 | C21: Batu Candi Hitam Yogyakarta | D21: m2 | E21: 70650 | F21: Batu Candi Hitam Yogyakarta 15 X 30 CM
B22: 17 | C22: Bata Merah | D22: bh | E22: 1100 | F22: Bata Merah Pres 4x8x17 cm isi 95pcs dalam 1 m2
B23: 18 | C23: Bata Merah Expose Rustic / Bata tempel Rustic / Bata Tempel merah ( 20 cm X 5 cm X 1 cm ) isi 38 buah/box | D23: bh | E23: =68800/38 -> 1810.5263 | F23: Bata Merah Expose Rustic / Bata tempel Rustic / Bata Tempel merah
B24: 19 | C24: Bata Hebel 7.5 cm (111pcs) | D24: m3 | E24: 600000 | F24: Ex. Voscon 7.5x20x60
B25: 20 | C25: Bata Hebel 10 cm (83pcs) | D25: m3 | E25: 600000 | F25: Ex. Voscon 10x20x60
B26: 21 | C26: Roster Beton 20 x 20 | D26: bh | E26: 9500
B27: 22 | C27: Grass Blok 20 x 20 | D27: bh | E27: 60000 | F27: Grass Block lubang 5 tebal 6.5 cm
B28: 23 | C28: Paving Blok Natural 6 cm | D28: m2 | E28: 79000
B29: 24 | C29: Canstin Taman 40x20x10 | D29: m1 | E29: =(1/0.4)*17000 -> 42500
B30: 25 | C30: Semen PC /50 kg | D30: zak | E30: 75000 | F30: Semen Tiga Roda /50 kg
B31: 26 | C31: Semen Putih Tiga Roda 50kg | D31: zak | E31: 100000 | F31: Semen PC /50 kg
B32: 27 | C32: Semen MU perekat bata ringan | D32: zak | E32: 84000 | F32: Semen Perekat Bata ringan 40/kg Ex. Mortar Utama
B33: 28 | C33: Readymix Beton K350, Tanpa Pompa ( Selang ) | D33: m3 | E33: 890000 | F33: Ex. Jaya Mix slump 12 +- 2 cm
B34: 29 | C34: Readymix Beton K300, Tanpa Pompa ( Selang ) | D34: m3 | E34: 860000 | F34: Ex. Jaya Mix slump 12 +- 2 cm
B35: 30 | C35: Readymix Beton K250, Tanpa Pompa ( Selang ) | D35: m3 | E35: 810000 | F35: Ex. Jaya Mix slump 12 +- 2 cm
B36: 31 | C36: Readymix Beton K200, Tanpa Pompa ( Selang ) | D36: m3 | E36: 770000 | F36: Ex. Jaya Mix slump 12 +- 2 cm
B37: 32 | C37: Readymix Beton K175, Tanpa Pompa ( Selang ) | D37: m3 | E37: 750000 | F37: Ex. Jaya Mix slump 12 +- 2 cm
B38: 33 | C38: Sewa Pompa Beton | D38: m3 | E38: =4800000/30 -> 160000 | F38: Concrete Pump Long Boom
B39: 34 | C39: Semen Warna | D39: kg | E39: 16000 | F39: Ex. AM pengisi Nat keramik
B40: 35 | C40: Air | D40: m3 | E40: 2500
B41: 36 | C41: Formite/spacer | D41: bh | E41: 5000 | F41: Beton Penahan bekisting dengan besi
B42: 37 | C42: Tiang Pancang 20X20 CM ( 6 Meter ) | D42: bh | E42: 176500 | F42: Mutu Beton K-450, Tuangan Utama 4D13/16, Spiral Ø 6
...

Sheet UPAH
B2: DAFTAR HARGA SATUAN UPAH
B6: NO | C6: URAIAN | D6: SATUAN | E6: UPAH (Rp.) | F6: KETERANGAN
B9: 1 | C9: Mandor | D9: Org/hr | E9: 180000
B10: =B9+1 -> 2 | C10: Kepala Tukang Batu | D10: Org/hr | E10: 170000
B11: =B10+1 -> 3 | C11: Kepala Tukang Kayu | D11: Org/hr | E11: 150000
B12: =B11+1 -> 4 | C12: Kepala Tukang Besi | D12: Org/hr | E12: 170000
B13: =B12+1 -> 5 | C13: Kepala Tukang Cat | D13: Org/hr | E13: 170000
B14: =B13+1 -> 6 | C14: Kepala Tukang Listrik | D14: Org/hr | E14: 170000
B15: =B14+1 -> 7 | C15: Kepala Tukang pipa | D15: Org/hr | E15: 160000
B16: =B15+1 -> 8 | C16: Tukang Batu | D16: Org/hr | E16: 160000
B17: =B16+1 -> 9 | C17: Tukang Kayu | D17: Org/hr | E17: 160000
B18: =B17+1 -> 10 | C18: Tukang Besi/Baja | D18: Org/hr | E18: 160000
B19: =B18+1 -> 11 | C19: Tukang Cat | D19: Org/hr | E19: 160000
B20: =B19+1 -> 12 | C20: Tukang Listrik | D20: Org/hr | E20: 170000
B21: =B20+1 -> 13 | C21: Tukang Pipa | D21: Org/hr | E21: 150000
... B33: =B32+1 -> 25 | C33: Pembantu Mekanik | D33: Org/hr | E33: 160000
B36: harga sudah termasuk PPN dan keuntungan

Sheet PONDASI DAN SLOOF
B1: GALIAN
B3: PONDASI
C5: P1 | F5: P2 | I5: P3 | L5: P4 | O5: P6 | R5: P7 | U5: P5
B6: Panjang Pondasi X ( m ) | C6: 0.8 | F6: 0.6 | S6: LUAS | U6: 0.775 | V6: LUAS
B7: Panjang Pondasi Y ( m ) | C7: 0.8 | F7: 0.6 | U7: 190
B8: Ketebalan Pondasi | C8: 0.3 | F8: 0.3
B9: Jumlah Pondasi ( bh ) | C9: 46 | F9: 15
B10: Kedalaman Galian Pondasi ( m ) | C10: 3.5 | E10: =C6*C7*C9*C10 -> 103.04 | F10: 3.5 | H10: =F6*F7*F9*F10 -> 18.9 | K10: =I6*I7*I9*I10 -> 0 | N10: =L6*L7*L9*L10 -> 0 | Q10: =O6*O7*O9*O10 -> 0 | T10: =R6*R7*R9*R10 -> 0 | U10: 2 | W10: =U6*U7*U10 -> 294.5
B11: Jumlah Tiang Strauspile/Pondasi ( bh ) | U11: 0
B12: Kedalaman Galian Straus Pile ( Manual ) | E12: =$C$9*$C$11*$C$12 -> 0 | H12: =$F$9*$F$11*$F$12 -> 0 | K12: =$I$9*$I$11*$I$12 -> 0 | N12: =$L$9*$L$11*$L$12 -> 0 | Q12: =$L$9*$L$11*$L$12 -> 0 | T12: =$L$9*$L$11*$L$12 -> 0 | U12: 0 | W12: =$U$9*$U$11*$U$12 -> 0
B13: Kedalaman Galian Straus Pile ( Mesin ) | E13: =C9*C11*C13 -> 0 | H13: =F9*F11*F13 -> 0 | K13: =I9*I11*I13 -> 0 | N13: =L9*L11*L13 -> 0 | Q13: =O9*O11*O13 -> 0 | T13: =R9*R11*R13 -> 0 | U13: 0 | W13: =U9*U11*U13 -> 0
B15: * asumsi pengerjaan galian straus pile menggunakan mesin apabila kedalaman tanah keras lebih dari 3 meter
B17: SLOOF
C18: TB1 | F18: TB2 | I18: TB3
B19: Panjang Sloof ( m' ) | C19: 405 | F19: 136 | N19: tiang straus pile | O19: =C9*C11+F9*F11+I9*I11 -> 0 | P19: bh
B20: Lebar Sloof ( m ) | C20: 0.2 | F20: 0.15
B21: Tinggi Sloof ( m ) | C21: 0.4 | F21: 0.3
B22: Ketebalan Pasir Urug ( m ) | C22: 0.1 | F22: 0.1 | I22: 0.1
B23: Ketebalan Lantai Kerja ( m ) | C23: 0.05 | E23: =($C$19+D19)*$C$20*($C$21+$C$22+$C$23) -> 44.55 | F23: 0.05 | H23: =(G19+$F$19)*$F$20*($F$21+$F$22+$F$23) -> 9.18 | I23: 0.05 | K23: =(J19+$I$19)*$I$20*($I$21+$I$22+$I$23) -> 0
B25: TOTAL PEK. GALIAN
B26: Pondasi dan Sloof | C26: =$E$10+$H$10+$K$10+$N$10+$W$10+$E$23+$H$23+$K$23+Q10+T10 -> 470.17
B27: Jumlah Kedalaman Galian Straus Pile ( Manual ) | C27: =$E$12+$H$12+$K$12+$N$12+$W$12 -> 0 | J27: =-Q24600 -> 0
B28: Jumlah Kedalaman Galian Straus Pile ( Mesin ) | C28: =$E$13+$H$13+$K$13+$N$13+$W$13 -> 0
B31: URUGAN
B33: URUGAN PASIR PONDASI
C35: P1 | F35: P2 | I35: P3 | L35: P4 | O35: P6 | R35: P7 | U35: P5
B36: Panjang Pondasi X ( m ) | C36: =$C$6 -> 0.8 | D36: LUAS | F36: =$F$6 -> 0.6 | G36: LUAS | I36: =$I$6 -> 0 | J36: LUAS | L36: =$L$6 -> 0 | M36: LUAS | O36: =O6 -> 0 | P36: LUAS | R36: =R6 -> 0 | S36: LUAS | U36: =U6 -> 0.775 | V36: LUAS
B37: Panjang Pondasi Y ( m ) | C37: =$C$7 -> 0.8 | F37: =$F$7 -> 0.6 | I37: =$I$7 -> 0 | L37: =$L$7 -> 0 | O37: =O7 -> 0 | R37: =R7 -> 0 | U37: =U7 -> 190
B38: Jumlah Pondasi ( bh ) | C38: =$C$9 -> 46 | F38: =$F$9 -> 15 | I38: =$I$9 -> 0 | L38: =$L$9 -> 0 | O38: =$L$9 -> 0 | R38: =$L$9 -> 0 | U38: =U8 -> 0
B39: Ketebalan Pasir Urug T : 10 cm ( m ) | C39: =$C$22 -> 0.1 | E39: =$C$36*$C$37*$C$38*$C$39 -> 2.944 | F39: =$C$22 -> 0.1 | H39: =$F$36*$F$37*$F$38*$F$39 -> 0.54 | I39: =$C$22 -> 0.1 | K39: =$I$36*$I$37*$I$38*$I$39 -> 0 | L39: =$C$22 -> 0.1 | N39: =$L$36*$L$37*$L$38*$L$39 -> 0 | O39: =$C$22 -> 0.1 | Q39: =$L$36*$L$37*$L$38*$L$39 -> 0 | R39: =$C$22 -> 0.1 | T39: =$L$36*$L$37*$L$38*$L$39 -> 0 | U39: =$C$22 -> 0.1 | W39: =$U$36*$U$37*$U$38*$U$39 -> 0
B42: URUGAN PASIR SLOOF
B43: TB1 | F43: TB2 | I43: TB3
B44: Panjang Sloof ( m' ) | C44: =SUM(C19:D19) -> 405 | D44: LUAS | F44: =SUM(F19:G19) -> 136 | G44: LUAS | I44: =SUM(I19:J19) -> 0 | J44: LUAS
B45: Lebar Sloof ( m ) | C45: =$C$20 -> 0.2 | F45: =$F$20 -> 0.15 | I45: =$I$20 -> 0
B46: Tinggi Sloof ( m ) | C46: =$C$21 -> 0.4 | F46: =$F$21 -> 0.3 | I46: =$I$21 -> 0
B47: Ketebalan Pasir Urug T : 10 cm ( m ) | C47: =$C$22 -> 0.1 | E47: =$C$44*$C$45*$C$46*$C$47 -> 3.24 | F47: =$C$22 -> 0.1 | H47: =$F$44*$F$45*$F$46*$F$47 -> 0.612 | I47: =$C$22 -> 0.1 | K47: =$I$44*$I$45*$I$46*$I$47 -> 0
B49: TOTAL PEKERJAAN URUGAN
B50: Urugan Pasir Pondasi dan Sloof | C50: =$E$39+$H$39+$K$39+$N$39+$W$39+$E$47+$H$47+$K$47+Q39+T39 -> 7.336
B53: LANTAI KERJA
B55: LANTAI KERJA PONDASI
...

Sheet HIT. BESI, BETON, DAN BEKISTING
A3: BESI PONDASI | O3: kg
B4: PANJANG X | D4: Jumlah Besi Arah X | E4: Panjang Besi Arah X | F4: Total Panjang Besi Arah X | G4: TOTAL | H4: D16 | I4: Ø12 | J4: D13 | N4: D16 | O4: 1.58
A5: P1 | B5: =('PONDASI DAN SLOOF'!$C$6-0.1)*100 -> 70 | C5: =B5/15 -> 4.6666667 | D5: =ROUNDUP(C5,0) -> 5 | E5: =(B7/100)+0.45+0.45 -> 1.6 | F5: =D5*E5 -> 8 | G5: =F5*'PONDASI DAN SLOOF'!$C$9 -> 368 | N5: D13 | O5: 1.04
B6: PANJANG Y | D6: Jumlah Besi Araha Y | E6: Panjang Besi Arah Y | F6: Total Panjang Besi Arah Y | N6: D10 | O6: 0.617
B7: =('PONDASI DAN SLOOF'!$C$7-0.1)*100 -> 70 | C7: =B7/15 -> 4.6666667 | D7: =ROUNDUP(C7,0) -> 5 | E7: =(B5/100)+0.45+0.45 -> 1.6 | F7: =D7*E7 -> 8 | G7: =F7*'PONDASI DAN SLOOF'!$C$9 -> 368 | N7: d12 | O7: 0.888
G8: =SUM(G5:G7) -> 736 | H8: =G8*1.58 -> 1162.88 | I8: =G8*0.89*0 -> 0 | J8: =G8*1.04*0 -> 0 | N8: d10 | O8: 0.617
B9: =B4 -> PANJANG X | D9: T. BESI X | E9: P. BESI X | F9: N | N9: d8 | O9: 0.395
A10: P2 | B10: =('PONDASI DAN SLOOF'!$F$6-0.1)*100 -> 50 | C10: =B10/15 -> 3.3333333 | D10: =ROUNDUP(C10,0) -> 4 | E10: =(B12/100)+0.45+0.45 -> 1.4 | F10: =D10*E10 -> 5.6 | G10: =F10*'PONDASI DAN SLOOF'!$F$9 -> 84
B11: =B6 -> PANJANG Y | D11: T. BESI Y | E11: P. BESI Y | F11: N
B12: =('PONDASI DAN SLOOF'!$F$7-0.1)*100 -> 50 | C12: =B12/15 -> 3.3333333 | D12: =ROUNDUP(C12,0) -> 4 | E12: =(B10/100)+0.45+0.45 -> 1.4 | F12: =D12*E12 -> 5.6 | G12: =F12*'PONDASI DAN SLOOF'!$F$9 -> 84
G13: =SUM(G10:G12) -> 168 | H13: =G13*1.58 -> 265.44 | I13: =G13*0.89*0 -> 0 | J13: =G13*1.04*0 -> 0
B14: =B9 -> PANJANG X | D14: T. BESI X | E14: P. BESI X | F14: N
A15: P3 | B15: =('PONDASI DAN SLOOF'!$I$6-0.1)*100 -> -10 | C15: =B15/12 -> -0.83333333 | D15: =ROUNDUP(C15,0) -> -1 | E15: =(B17/100)+0.2+0.2 -> 0.3 | F15: =D15*E15 -> -0.3 | G15: =F15*'PONDASI DAN SLOOF'!$I$9 -> 0
B16: =B11 -> PANJANG Y | D16: T. BESI Y | E16: P. BESI Y | F16: N
B17: =('PONDASI DAN SLOOF'!$I$7-0.1)*100 -> -10 | C17: =B17/12 -> -0.83333333 | D17: =ROUNDUP(C17,0) -> -1 | E17: =(B15/100)+0.2+0.2 -> 0.3 | F17: =D17*E17 -> -0.3 | G17: =F17*'PONDASI DAN SLOOF'!$I$9 -> 0
G18: =SUM(G15:G17) -> 0 | H18: =G18*1.58 -> 0 | I18: =G18*0.89*0 -> 0 | J18: =G18*1.04*0 -> 0
B19: =B4 -> PANJANG X | D19: T. BESI X | E19: P. BESI X | F19: N
A20: P4 | B20: =('PONDASI DAN SLOOF'!$L$6-0.1)*100 -> -10 | C20: =B20/12 -> -0.83333333 | D20: =ROUNDUP(C20,0) -> -1 | E20: =(B22/100)+0.2+0.2 -> 0.3 | F20: =D20*E20 -> -0.3 | G20: =F20*'PONDASI DAN SLOOF'!$L$9 -> 0
B21: =B6 -> PANJANG Y | D21: T. BESI Y | E21: P. BESI Y | F21: N
B22: =('PONDASI DAN SLOOF'!$L$7-0.1)*100 -> -10 | C22: =B22/12 -> -0.83333333 | D22: =ROUNDUP(C22,0) -> -1 | E22: =(B20/100)+0.2+0.2 -> 0.3 | F22: =D22*E22 -> -0.3 | G22: =F22*'PONDASI DAN SLOOF'!$L$9 -> 0
G23: =SUM(G20:G22) -> 0 | H23: =G23*1.58*0 -> 0 | I23: =G23*0.89*0 -> 0 | J23: =G23*1.04*0 -> 0
B24: =B9 -> PANJANG X | D24: T. BESI X | E24: P. BESI X | F24: N
A25: P5 | B25: 0 | C25: =B25/12 -> 0 | D25: =ROUNDUP(C25,0) -> 0 | E25: =(B27/100)+0.2+0.2 -> 0.4 | F25: =D25*E25 -> 0 | G25: =F25*'PONDASI DAN SLOOF'!$U$9 -> 0
B26: =B11 -> PANJANG Y | D26: T. BESI Y | E26: P. BESI Y | F26: N
B27: 0 | C27: =B27/12 -> 0 | D27: =ROUNDUP(C27,0) -> 0 | E27: =(B25/100)+0.2+0.2 -> 0.4 | F27: =D27*E27 -> 0 | G27: =F27*'PONDASI DAN SLOOF'!$U$9 -> 0
G28: =SUM(G25:G27) -> 0 | H28: =G28*1.58 -> 0 | I28: =G28*0.89*0 -> 0 | J28: =G28*1.04*0 -> 0
A29: TOTAL BESI ( Kg ) | H29: =H8+H13+H18+H23+H28 -> 1428.32 | I29: =I8+I13+I18+I23+I28 -> 0 | J29: =J8+J13+J18+J23+J28 -> 0
M30: PONDASI BATU KALI
A31: BETON PONDASI | N31: BATU KALI | O31: AANSTAMPING
B32: P1 | C32: VOLUME (m3) | D32: P2 | E32: VOLUME (m3) | F32: P3 | G32: VOLUME (m3) | H32: P4 | I32: VOLUME (m3) | J32: P5 | K32: VOLUME (m3) | M32: ATAS | N32: 0.3 | O32: 0.785
A33: Panjang Pondasi | B33: ='PONDASI DAN SLOOF'!C6 -> 0.8 | C33: =B33*B34*B35*B36 -> 8.832 | D33: ='PONDASI DAN SLOOF'!F6 -> 0.6 | E33: =D33*D34*D35*D36 -> 1.62 | F33: ='PONDASI DAN SLOOF'!I6 -> 0 | G33: =F33*F34*F35*F36 -> 0 | H33: ='PONDASI DAN SLOOF'!L6 -> 0 | I33: =H33*H34*H35*H36 -> 0 | K33: =J33*J34*J35*J36 -> 0 | M33: BAWAH | N33: 0.7 | O33: 0.762
A34: Lebar Pondasi | B34: ='PONDASI DAN SLOOF'!C7 -> 0.8 | D34: ='PONDASI DAN SLOOF'!F7 -> 0.6 | F34: ='PONDASI DAN SLOOF'!I7 -> 0 | H34: ='PONDASI DAN SLOOF'!L7 -> 0 | M34: TINGGI | N34: 1.65 | O34: 0.1
A35: Tebal Pondasi | B35: ='PONDASI DAN SLOOF'!C8 -> 0.3 | D35: ='PONDASI DAN SLOOF'!F8 -> 0.3 | F35: ='PONDASI DAN SLOOF'!I8 -> 0 | H35: ='PONDASI DAN SLOOF'!L8 -> 0 | M35: PANJANG | N35: ='PONDASI DAN SLOOF'!$U$7 -> 190 | O35: ='PONDASI DAN SLOOF'!$U$7 -> 190
A36: Jumlah Pondasi | B36: ='PONDASI DAN SLOOF'!C9 -> 46 | D36: ='PONDASI DAN SLOOF'!F9 -> 15 | F36: ='PONDASI DAN SLOOF'!I9 -> 0 | H36: ='PONDASI DAN SLOOF'!L9 -> 0 | M36: VOLUME M3 | N36: =(N32+N33)/2*N34*N35 -> 156.75 | O36: =(O32+O33)/2*O34*O35 -> 14.6965
A37: TOTAL KEB. BETON PONDASI ( M3 ) | J37: =C33+E33+G33+I33+K33 -> 10.452
A41: BETON SLOOF
A42: JENIS | B42: Panjang Sloof ( m' ) | C42: Ukuran Sloof | D42: TOTAL
A43: SL1 | B43: ='PONDASI DAN SLOOF'!$C$19 -> 405 | C43: ='PONDASI DAN SLOOF'!$C$20*'PONDASI DAN SLOOF'!$C$21 -> 0.08 | D43: =B43*C43 -> 32.4
A44: SL2 | B44: ='PONDASI DAN SLOOF'!$F$19 -> 136 | C44: ='PONDASI DAN SLOOF'!$F$20*'PONDASI DAN SLOOF'!$F$21 -> 0.045 | D44: =B44*C44 -> 6.12
A45: SL3 | B45: ='PONDASI DAN SLOOF'!$I$19 -> 0 | C45: ='PONDASI DAN SLOOF'!$I$20*'PONDASI DAN SLOOF'!$I$21 -> 0 | D45: =B45*C45 -> 0
...

Sheet BTN
A2: SLOOF | E2: KLIK UNTUK LOMPAT KE :
B3: D16 | C3: D12 | E3: TANGGA LT1 | F3: TANGGA LT2 | G3: TANGGA LT3 | H3: TANGGA LT4 | I3: TANGGA LT5 | J3: TANGGA ATAP
A4: TB1 | B4: 8 | C4: 0.1
A5: TB2 | B5: 4 | C5: 0.1
A6: TB3
H7: KONGLIONG: | I7: 90.17
A8: KOLOM | H8: TINGGI KOLOM : | I8: 5.15
B9: PANJANG | C9: LEBAR | D9: SENGKANG | E9: D16 | F9: D13 | G9: Ø12 | H9: D10 | I9: LANTAI 1 | J9: 2 | K9: 3 | L9: 4 | M9: 5 | N9: ATAP
A10: K1 | B10: 0.55 | C10: 0.55 | D10: 10 | E10: 8 | I10: 16
A11: K2
A12: K3 | B12: 0.4 | C12: 0.2 | D12: 10 | E12: 10 | I12: 8
A13: K4 | B13: 0.4 | C13: 0.15 | D13: 10 | E13: 8 | I13: 42
A14: K5 | B14: 0.3 | C14: 0.15 | D14: 10 | G14: 6 | I14: 24
A15: K6 | B15: 0.25 | C15: 0.25 | D15: 10 | G15: 8 | I15: 5
A16: K7 | B16: 0.25 | C16: 0.15 | D16: 10 | G16: 6 | I16: 40
A17: K8
A18: K9
A19: K10
A20: K11
A21: K12
A22: K13
A23: K14
A24: K15
A25: K16
A26: K17
A27: K18
A28: KP1 | B28: 0.13 | C28: 0.13 | D28: 8 | H28: 4 | I28: 79 | N28: 69
A29: KP2
A31: BALOK
B32: LEBAR | C32: TINGGI | D32: LEBAR B | E32: TINGGI B | F32: TINGGI A-B | G32: SENGKANG | H32: D16 | I32: D 13 | J32: Ø 12 | K32: Ø10 | L32: D 10 | M32: SLOOF II | N32: 2 | O32: 3 | P32: 4 | Q32: 5 | R32: ATAP
A33: B1 | B33: 0.2 | C33: 0.4 | G33: 10 | H33: 10 | M33: 318
A34: B2 | B34: 0.15 | C34: 0.55 | D34: 0.1 | E34: 0.15 | F34: =C34-E34 -> 0.4 | G34: 10 | H34: 10 | K34: 1 | M34: 133
A35: B3 | B35: 0.15 | C35: 0.8 | D35: 0.1 | E35: 0.4 | F35: =C35-E35 -> 0.4 | G35: 10 | H35: 10 | K35: 3 | M35: 2
A36: B4 | B36: 0.15 | C36: 0.3 | D36: 0.15 | G36: 10 | H36: 6 | K36: 4 | M36: 101
A37: B5
A38: B6
A39: B7
A40: B8
A41: B9
A42: B10
...

Sheet HIT.PINTU
A2: DAFTAR KUSEN | R2: KUSEN | U2: DAUN PINTU | Y2: KACA PINTU | AC2: DAUN JENDELA | AG2: KACA JENDELA | AO2: TOTAL HARGA MATERIAL | AP2: Rp. | AQ2: =BOQ!$J$1290 -> 0
A3: NO | B3: JUMLAH | C3: NAMA | D3: KUSEN | E3: D PINTU | F3: D JENDELA | G3: KACA 5 MM | H3: KACA 8 MM | I3: KACA 10 MM | J3: KACA INLAY 5 MM | K3: tralis kusen | L3: list profilan kusen | M3: opening jendela | N3: TOTAL LUAS | O3: OPENING | R3: TINGGI | S3: LEBAR | T3: MATERIAL | U3: TINGGI | V3: LEBAR | W3: JUMLAH | X3: MATERIAL | Y3: TINGGI | Z3: LEBAR | AA3: JUMLAH | AB3: MATERIAL | AC3: TINGGI | AD3: LEBAR | AE3: JUMLAH | AF3: MATERIAL | AG3: TINGGI | AH3: LEBAR | AJ3: MATERIAL | AO3: TOTALL HARGA UPAH | AP3: Rp. | AQ3: =BOQ!$K$1290 -> 0
A4: 1 | N4: =B4*M4 -> 0 | P4: =B4*O4 -> 0 | AO4: TOTAL HARGA MATERIAL + UPAH | AP4: Rp. | AQ4: =SUM(AQ2:AQ3) -> 0
A5: =A4+1 -> 2 | N5: =B5*M5 -> 0 | P5: =B5*O5 -> 0
A6: =A5+1 -> 3 | N6: =B6*M6 -> 0 | P6: =B6*O6 -> 0
A7: =A6+1 -> 4 | N7: =B7*M7 -> 0 | P7: =B7*O7 -> 0
A8: =A7+1 -> 5 | N8: =B8*M8 -> 0 | P8: =B8*O8 -> 0
A9: =A8+1 -> 6 | N9: =B9*M9 -> 0 | P9: =B9*O9 -> 0
A10: =A9+1 -> 7 | N10: =B10*M10 -> 0 | P10: =B10*O10 -> 0
A11: =A10+1 -> 8 | N11: =B11*M11 -> 0 | P11: =B11*O11 -> 0
A12: =A11+1 -> 9 | N12: =B12*M12 -> 0 | P12: =B12*O12 -> 0
A13: =A12+1 -> 10 | N13: =B13*M13 -> 0 | P13: =B13*O13 -> 0
A14: =A13+1 -> 11 | N14: =M14*B14 -> 0 | P14: =B14*O14 -> 0
A15: =A14+1 -> 12 | N15: =B15*M15 -> 0 | P15: =B15*O15 -> 0
A16: =A15+1 -> 13 | N16: =B16*M16 -> 0 | P16: =O16*B16 -> 0
A17: =A16+1 -> 14 | N17: =B17*M17 -> 0 | P17: =O17*B17 -> 0
A18: =A17+1 -> 15 | N18: =B18*M18 -> 0 | P18: =O18*B18 -> 0
A19: =A18+1 -> 16 | N19: =B19*M19 -> 0 | P19: =O19*B19 -> 0
A20: =A19+1 -> 17 | N20: =B20*M20 -> 0 | P20: =O20*B20 -> 0
A21: =A20+1 -> 18 | N21: =B21*M21 -> 0 | P21: =O21*B21 -> 0
A22: =A21+1 -> 19 | N22: =B22*M22 -> 0 | P22: =O22*B22 -> 0
A23: =A22+1 -> 20 | N23: =B23*M23 -> 0 | P23: =O23*B23 -> 0
A24: =A23+1 -> 21 | N24: =B24*M24 -> 0 | P24: =O24*B24 -> 0
A25: =A24+1 -> 22 | N25: =B25*M25 -> 0 | P25: =O25*B25 -> 0
A26: =A25+1 -> 23 | N26: =B26*M26 -> 0 | P26: =O26*B26 -> 0
A27: =A26+1 -> 24 | N27: =B27*M27 -> 0 | P27: =O27*B27 -> 0
... A32: =A31+1 -> 29 | N32: =B32*M32 -> 0 | P32: =O32*B32 -> 0
A35: LANTAI 1
A36: NO | B36: NAMA | D36: LANTAI 1 | E36: LANTAI 2 | F36: LANTAI 3 | G36: LANTAI 4 | H36: TOTAL | I36: total tralis | J36: total list profil
A37: 1 | B37: =$B$68&C4&" "&$C$68 -> Pemasangan (Full Aksesoris) | H37: =SUM(D37:G37) -> 0 | I37: =H37*K4 -> 0 | J37: =H37*L4 -> 0
A38: =A37+1 -> 2 | B38: =$B$68&C5&" "&$C$68 -> Pemasangan (Full Aksesoris) | H38: =SUM(D38:G38) -> 0 | I38: =H38*K5 -> 0 | J38: =H38*L5 -> 0
A39: =A38+1 -> 3 | B39: =$B$68&C6&" "&$C$68 -> Pemasangan (Full Aksesoris) | H39: =SUM(D39:G39) -> 0 | I39: =H39*K6 -> 0 | J39: =H39*L6 -> 0
A40: =A39+1 -> 4 | B40: =$B$68&C7&" "&$C$68 -> Pemasangan (Full Aksesoris) | H40: =SUM(D40:G40) -> 0 | I40: =H40*K7 -> 0 | J40: =H40*L7 -> 0
A41: =A40+1 -> 5 | B41: =$B$68&C8&" "&$C$68 -> Pemasangan (Full Aksesoris) | H41: =SUM(D41:G41) -> 0 | I41: =H41*K8 -> 0 | J41: =H41*L8 -> 0
A42: =A41+1 -> 6 | B42: =$B$68&C9&" "&$C$68 -> Pemasangan (Full Aksesoris) | H42: =SUM(D42:G42) -> 0 | I42: =H42*K9 -> 0 | J42: =H42*L9 -> 0
A43: =A42+1 -> 7 | B43: =$B$68&C10&" "&$C$68 -> Pemasangan (Full Aksesoris) | H43: =SUM(D43:G43) -> 0 | I43: =H43*K10 -> 0 | J43: =H43*L10 -> 0
A44: =A43+1 -> 8 | B44: =$B$68&C11&" "&$C$68 -> Pemasangan (Full Aksesoris) | H44: =SUM(D44:G44) -> 0 | I44: =H44*K11 -> 0 | J44: =H44*L11 -> 0
A45: =A44+1 -> 9 | B45: =$B$68&C12&" "&$C$68 -> Pemasangan (Full Aksesoris) | H45: =SUM(D45:G45) -> 0 | I45: =H45*K12 -> 0 | J45: =H45*L12 -> 0
A46: =A45+1 -> 10 | B46: =$B$68&C13&" "&$C$68 -> Pemasangan (Full Aksesoris) | H46: =SUM(D46:G46) -> 0 | I46: =H46*K13 -> 0 | J46: =H46*L13 -> 0
A47: =A46+1 -> 11 | B47: =$B$68&C14&" "&$C$68 -> Pemasangan (Full Aksesoris) | H47: =SUM(D47:G47) -> 0 | I47: =H47*K14 -> 0 | J47: =H47*L14 -> 0
...

Sheet ANALISA HARGA PINTU
A2: Q. ANALISA HARGA SATUAN PEKERJAAN KUSEN, PINTU, DAN JENDELA KAYU
L3: 1 | M3: ='HARGA SATUAN PEKERJAAN'!C170 -> 1 M3 Kusen Pintu & jendela kayu Kamper Samarinda | N3: ='HARGA SATUAN PEKERJAAN'!$F$170 -> 20677333
A4: No. | B4: URAIAN | D4: SATUAN | E4: VOLUME | F4: HARGA SATUAN | G4: HARGA | L4: 2 | M4: ='HARGA SATUAN PEKERJAAN'!$C$191 -> 1 m' Pasang kusen pintu/jendela alluminium warna 4" | N4: ='HARGA SATUAN PEKERJAAN'!$F$191 -> 105337
F5: (Rp) | G5: (Rp) | L5: 3 | M5: ='HARGA SATUAN PEKERJAAN'!$C$192 -> 1 m' Pasang kusen pintu/jendela alluminium warna 3" | N5: ='HARGA SATUAN PEKERJAAN'!$F$192 -> 83337
A6: 4 | B6: =B243 -> 1 Unit Pek. Pintu ( ) | L6: 4 | M6: ='HARGA SATUAN PEKERJAAN'!$C$193 -> 1 m' Pasang kusen pintu/jendela UPVC | N6: ='HARGA SATUAN PEKERJAAN'!$F$193 -> 259337
B7: 1 | C7: Kusen & | D7: m3 | E7: =HIT.PINTU!$D$4*0.05*0.1 -> 0 | F7: =VLOOKUP(B7,$L$3:$N$50,3,TRUE) -> 20677333 | G7: =E7*F7 -> 0 | H7: =E7*K!$I$85 -> 0 | I7: =E7*K!$I$89 -> 0 | J7: =SUM(H7:I7) -> 0 | K7: =C7&C8 -> Kusen & Pintu Panel Kayu Kamper Samarinda | L7: 5 | M7: ='HARGA SATUAN PEKERJAAN'!$C$194 -> 1 m1 Pasang Pintu/jendela kaca rangka UPVC | N7: ='HARGA SATUAN PEKERJAAN'!$F$194 -> 528305
B8: 6 | C8: Pintu Panel Kayu Kamper Samarinda | D8: m2 | E8: =HIT.PINTU!$E$4 -> 0 | F8: =VLOOKUP(B8,$L$3:$N$50,3,TRUE) -> 1195283 | G8: =E8*F8 -> 0 | H8: =J8-I8 -> 0 | I8: =E8*K!$I$89 -> 0 | J8: =G8 -> 0 | L8: 6 | M8: ='HARGA SATUAN PEKERJAAN'!$C$171 -> 1 M2 Pintu Panel Kayu Kamper Samarinda | N8: ='HARGA SATUAN PEKERJAAN'!$F$171 -> 1195283
B9: 44 | C9: CAT | D9: m2 | E9: =HIT.PINTU!$E$4 -> 0 | F9: =VLOOKUP(B9,$L$3:$N$50,3,TRUE) -> 75000 | G9: =E9*F9 -> 0 | H9: =J9-I9 -> 0 | I9: =E9*K!$I$89 -> 0 | J9: =G9 -> 0 | L9: 7 | M9: ='HARGA SATUAN PEKERJAAN'!$C$172 -> 1 M2 Pintu Triplek Rangkap, Rangka Tertutup Kayu Kamper Samarinda | N9: ='HARGA SATUAN PEKERJAAN'!$F$172 -> 853394
H10: =J10-I10 -> 0 | I10: =E10*K!$I$89 -> 0 | J10: =G10 -> 0 | L10: 8 | M10: ='HARGA SATUAN PEKERJAAN'!$C$173 -> 1 M3 Kusen Pintu & jendela kayu Merbau | N10: ='HARGA SATUAN PEKERJAAN'!$F$173 -> 39050000
G11: =E11*F11 -> 0 | L11: 9
C12: Upah Pasang | D12: set | E12: 1 | F12: =(250000*1)+(200000*0) -> 250000 | G12: =E12*F12 -> 250000 | H12: 0 | I12: =F12 -> 250000 | J12: =SUM(H12:I12) -> 250000 | L12: 10 | M12: ='HARGA SATUAN PEKERJAAN'!$C$174 -> 1 M2 Pintu Panel Kayu Merbau | N12: ='HARGA SATUAN PEKERJAAN'!$F$174 -> 1783688
C13: Jumlah | G13: =SUM(G7:G12) -> 250000 | H13: =J13-I13 -> 0 | I13: 250000 | J13: =G13 -> 250000 | L13: 11 | M13: ='HARGA SATUAN PEKERJAAN'!$C$175 -> 1 M3 Kusen Pintu & jendela kayu Bengirai | N13: ='HARGA SATUAN PEKERJAAN'!$F$175 -> 15750000
B14: Dibulatkan | G14: =ROUND(G13,0) -> 250000 | L14: 12 | M14: ='HARGA SATUAN PEKERJAAN'!$C$176 -> 1 M2 Pintu Panel Kayu Bengirai | N14: ='HARGA SATUAN PEKERJAAN'!$F$176 -> 1023688
A15: 5 | B15: =B244 -> 1 Unit Pek. Pintu ( ) | L15: 13 | M15: ='HARGA SATUAN PEKERJAAN'!$C$177 -> 1 M3 Kusen Pintu & jendela kayu Jati | N15: ='HARGA SATUAN PEKERJAAN'!$F$177 -> 57750000
B16: 2 | C16: Kusen Allumunium 4", | D16: m' | E16: =HIT.PINTU!$D$5 -> 0 | F16: =VLOOKUP(B16,$L$3:$N$50,3,TRUE) -> 105337 | G16: =E16*F16 -> 0 | H16: =J16-I16 -> 0 | I16: =E16*K!$I$89 -> 0 | J16: =G16 -> 0 | K16: =C16&C17&C18 -> Kusen Allumunium 4", Pintu Panel Teakwood | L16: 14 | M16: ='HARGA SATUAN PEKERJAAN'!$C$178 -> 1 M2 Pintu Panel Kayu Jati | N16: ='HARGA SATUAN PEKERJAAN'!$F$178 -> 2373688
B17: 7 | C17: Pintu Panel Teakwood | D17: m2 | E17: =HIT.PINTU!$E$5 -> 0 | F17: =VLOOKUP(B17,$L$3:$N$50,3,TRUE) -> 853394 | G17: =E17*F17 -> 0 | H17: =J17-I17 -> 0 | I17: =E17*K!$I$89 -> 0 | J17: =G17 -> 0 | L17: 15 | M17: ='HARGA SATUAN PEKERJAAN'!C209 -> PEKERJAAN KUNCI DAN KACA
H19: =J19-I19 -> 0 | I19: =E19*K!$I$89 -> 0 | J19: =G19 -> 0 | L19: 16 | M19: ='HARGA SATUAN PEKERJAAN'!C210 -> 1 Buah Pasang Kunci setara Solid | N19: ='HARGA SATUAN PEKERJAAN'!$F$210 -> 293700
H20: =E20*F20 -> 0 | I20: =E20*K!$I$89 -> 0 | J20: =G20 -> 0 | L20: 17 | M20: ='HARGA SATUAN PEKERJAAN'!C211 -> 1 Buah Pasang Kunci Tanam setara Solid | N20: ='HARGA SATUAN PEKERJAAN'!$F$211 -> 176760
B21: - | C21: Upah Pasang | D21: set | E21: 1 | F21: =(250000*1)+(200000*0) -> 250000 | G21: =E21*F21 -> 250000 | H21: 0 | I21: =F21 -> 250000 | J21: =SUM(H21:I21) -> 250000 | L21: 18 | M21: ='HARGA SATUAN PEKERJAAN'!C212 -> 1 Buah Pasang Kunci Grendel Jendela | N21: ='HARGA SATUAN PEKERJAAN'!$F$212 -> 138760
C22: Jumlah | G22: =SUM(G16:G21) -> 250000 | H22: =J22-I22 -> 0 | I22: 250000 | J22: =G22 -> 250000 | L22: 19 | M22: ='HARGA SATUAN PEKERJAAN'!C213 -> 1 Buah Pasang Engsel Jendela Kupu-kupu setara Solid | N22: ='HARGA SATUAN PEKERJAAN'!$F$213 -> 58450
B23: Dibulatkan | G23: =ROUND(G22,0) -> 250000 | L23: 20 | M23: ='HARGA SATUAN PEKERJAAN'!C214 -> 1 Buah Pasang Engsel Jendela Casement | N23: ='HARGA SATUAN PEKERJAAN'!$F$214 -> 65450
A24: 6 | B24: =B245 -> 1 Unit Pek. Pintu ( ) | L24: 21 | M24: ='HARGA SATUAN PEKERJAAN'!C215 -> 1 Buah Pasang Engsel Pintu Kupu-kupu setara Solid | N24: ='HARGA SATUAN PEKERJAAN'!$F$215 -> 151950
B25: 2 | C25: Kusen Allumunium 4", | D25: m' | E25: =HIT.PINTU!$D$6 -> 0 | F25: =VLOOKUP(B25,$L$3:$N$50,3,TRUE) -> 105337 | G25: =E25*F25 -> 0 | H25: =J25-I25 -> 0 | I25: =E25*K!$I$89 -> 0 | J25: =G25 -> 0 | K25: =C25&C26&C27&C28 -> Kusen Allumunium 4", Pintu KM/WC Allumunium, Kaca Clear 5 mm | L25: 22 | M25: ='HARGA SATUAN PEKERJAAN'!C216 -> 1 Buah Pasang Kait Angin | N25: ='HARGA SATUAN PEKERJAAN'!$F$216 -> 48434
C26: Pintu KM/WC Allumunium, | D26: m2 | E26: =HIT.PINTU!$E$6 -> 0 | F26: =BAHAN!$E$191 -> 759050 | G26: =E26*F26 -> 0 | L26: 23 | M26: ='HARGA SATUAN PEKERJAAN'!C217 -> 1 Buah Pasang Door Closer | N26: ='HARGA SATUAN PEKERJAAN'!$F$217 -> 368750
B28: 27 | C28: Kaca Clear 5 mm | D28: m2 | E28: =HIT.PINTU!$G$6 -> 0 | F28: =VLOOKUP(B28,$L$3:$N$50,3,TRUE) -> 149975 | G28: =E28*F28 -> 0 | L28: 24
L29: 25 | M29: ='HARGA SATUAN PEKERJAAN'!C218 -> 1 Buah Pasang Pegangan Pintu / Door Holder | N29: ='HARGA SATUAN PEKERJAAN'!$F$218 -> 214750
G30: =E30*F30 -> 0 | L30: 26 | N30: ='HARGA SATUAN PEKERJAAN'!$F$219 -> 149975
G31: =E31*F31 -> 0 | L31: 27 | M31: ='HARGA SATUAN PEKERJAAN'!C220 -> 1 M2 Pasang Kaca Rayban , tebal 5 mm | N31: ='HARGA SATUAN PEKERJAAN'!$F$219 -> 149975
G32: =E32*F32 -> 0 | L32: 28 | M32: ='HARGA SATUAN PEKERJAAN'!C219 -> 1 M2 Pasang Kaca , tebal 3 mm | N32: ='HARGA SATUAN PEKERJAAN'!$F$220 -> 154769
B33: - | C33: Upah Pasang | D33: set | E33: 1 | F33: =(250000*1)+(200000*0) -> 250000 | G33: =E33*F33 -> 250000 | L33: 29 | N33: ='HARGA SATUAN PEKERJAAN'!$F$220 -> 154769
C34: Jumlah | G34: =SUM(G25:G33) -> 250000 | H34: =J34-I34 -> 0 | I34: 250000 | J34: =G34 -> 250000 | L34: 30 | M34: ='HARGA SATUAN PEKERJAAN'!C221 -> 1 M2 Pasang Kaca Tempered , tebal 8 mm | N34: ='HARGA SATUAN PEKERJAAN'!$F$221 -> 413434
B35: Dibulatkan | G35: =ROUND(G34,0) -> 250000 | L35: 31 | M35: ='HARGA SATUAN PEKERJAAN'!C222 -> 1 M2 Pasang Kaca Tempered , tebal 10 mm | N35: ='HARGA SATUAN PEKERJAAN'!$F$222 -> 438434
A36: 7 | B36: =B246 -> 1 Unit Pek. Jendela ( ) | L36: 32 | M36: ='HARGA SATUAN PEKERJAAN'!C223 -> 1 M2 Pasang Kaca Inlay Tebal 5 mm | N36: ='HARGA SATUAN PEKERJAAN'!$F$223 -> 2528434
B37: 2 | C37: Kusen Allumunium 4", | D37: m' | E37: =HIT.PINTU!D7 -> 0 | F37: =VLOOKUP(B37,$L$3:$N$50,3,TRUE) -> 105337 | G37: =E37*F37 -> 0 | K37: =C37&C38&C39&C40 -> Kusen Allumunium 4", Jendela Allumunium 3", Kaca Temperred 8 mm | L37: 33
L38: 34 | M38: ='HARGA SATUAN PEKERJAAN'!C224 -> 1 Buah Pasang Handle Single setara Solid | N38: ='HARGA SATUAN PEKERJAAN'!$F$224 -> 293760
B39: 40 | C39: Jendela Allumunium 3", | D39: ` | E39: =HIT.PINTU!$F$7 -> 0 | F39: =VLOOKUP(B39,$L$3:$N$50,3,TRUE) -> 137405 | G39: =E39*F39 -> 0
B40: 30 | C40: Kaca Temperred 8 mm | D40: m2 | E40: =HIT.PINTU!$H$7 -> 0 | F40: =VLOOKUP(B40,$L$3:$N$50,3,TRUE) -> 413434 | G40: =E40*F40 -> 0 | L40: 35
L41: 36 | M41: ='HARGA SATUAN PEKERJAAN'!C225 -> 1 Buah Pasang Handle Double setara Solid | N41: ='HARGA SATUAN PEKERJAAN'!$F$225 -> 548760
L42: 37 | M42: ='HARGA SATUAN PEKERJAAN'!C226 -> 1 Buah Pasang asesoris sliding | N42: ='HARGA SATUAN PEKERJAAN'!$F$226 -> 248760
L43: 38
...

Sheet ACC PINTU JENDELA
B2: Q. ANALISA HARGA SATUAN PEKERJAAN KUSEN, PINTU, DAN JENDELA KAYU
B4: No. | C4: URAIAN | E4: SATUAN | F4: VOLUME | G4: HARGA SATUAN | H4: HARGA
G5: (Rp) | H5: (Rp)
B6: 1 | C6: =VLOOKUP(B6,$C$488:$D$516,2,TRUE) -> 1 Unit Pek. Pintu ( ) | H6: =H21 -> 1137000
C7: - | D7: Kunci Tanam di Handle | E7: bh | F7: 1 | G7: =L!$I$7 -> 180000 | H7: =F7*G7 -> 180000 | I7: =HIT.PINTU!H37 -> 0 | J7: =$I$7*F7 -> 0
C8: - | D8: Kunci Tanam di Samping | E8: bh | F8: 1 | G8: =L!$I$15 -> 93000 | H8: =F8*G8 -> 93000 | J8: =$I$7*F8 -> 0
C9: - | D9: Kunci Grendel Jendela | E9: bh | G9: =L!$I$23 -> 55000 | H9: =F9*G9 -> 0 | J9: =$I$7*F9 -> 0
C10: - | D10: Kunci Allumunium Rabuncis | E10: ps | G10: =L!$I$151 -> 13500 | H10: =F10*G10 -> 0 | J10: =$I$7*F10 -> 0
C11: - | D11: Engsel Jendela 4" | E11: ps | G11: =L!$I$31 -> 39500 | H11: =F11*G11 -> 0 | J11: =$I$7*F11 -> 0
C12: - | D12: Engsel Jendela casement | E12: ps | G12: =L!$I$39 -> 46500 | H12: =F12*G12 -> 0 | J12: =$I$7*F12 -> 0
C13: - | D13: Engsel Pintu 4" | E13: ps | F13: 3 | G13: =L!$I$47 -> 133000 | H13: =F13*G13 -> 399000 | J13: =$I$7*F13 -> 0
C14: - | D14: Kait Angin | E14: ps | G14: =L!$I$55 -> 20000 | H14: =F14*G14 -> 0 | J14: =$I$7*F14 -> 0
C15: - | D15: Door Closer | E15: bh | G15: =L!$I$63 -> 274000 | H15: =F15*G15 -> 0 | J15: =$I$7*F15 -> 0
C16: - | D16: Pegangan Pintu/Door Holder | E16: bh | G16: =L!$I$71 -> 120000 | H16: =F16*G16 -> 0 | J16: =$I$7*F16 -> 0
C17: - | D17: Aksesoris Sliding | E17: bh | G17: =L!$I$143 -> 165000 | H17: =F17*G17 -> 0 | J17: =$I$7*F17 -> 0
C18: - | D18: Handle Pintu Single | E18: ps | G18: =L!$I$127 -> 210000 | H18: =F18*G18 -> 0 | J18: =$I$7*F18 -> 0
C19: - | D19: Handle Pintu Double | E19: ps | F19: 1 | G19: =L!$I$135 -> 465000 | H19: =F19*G19 -> 465000 | J19: =$I$7*F19 -> 0
D20: Jumlah | H20: =SUM(H7:H19) -> 1137000
C21: Dibulatkan | H21: =ROUND(H20,0) -> 1137000
B22: 2 | C22: =VLOOKUP(B22,$C$488:$D$516,2,TRUE) -> 1 Unit Pek. Pintu ( ) | H22: =H37 -> 656000
C23: - | D23: Kunci Tanam di Handle | E23: bh | F23: 1 | G23: =L!$I$7 -> 180000 | H23: =F23*G23 -> 180000 | I23: =HIT.PINTU!H38 -> 0 | J23: =$I$23*F23 -> 0
C24: - | D24: Kunci Tanam di Samping | E24: bh | G24: =L!$I$15 -> 93000 | H24: =F24*G24 -> 0 | J24: =$I$23*F24 -> 0
C25: - | D25: Kunci Grendel Jendela | E25: bh | G25: =L!$I$23 -> 55000 | H25: =F25*G25 -> 0 | J25: =$I$23*F25 -> 0
C26: - | D26: Kunci Allumunium Rabuncis | E26: ps | G26: =L!$I$151 -> 13500 | H26: =F26*G26 -> 0 | J26: =$I$23*F26 -> 0
C27: - | D27: Engsel Jendela 4" | E27: ps | G27: =L!$I$31 -> 39500 | H27: =F27*G27 -> 0 | J27: =$I$23*F27 -> 0
C28: - | D28: Engsel Jendela casement | E28: ps | G28: =L!$I$39 -> 46500 | H28: =F28*G28 -> 0 | J28: =$I$23*F28 -> 0
C29: - | D29: Engsel Pintu 4" | E29: ps | F29: 2 | G29: =L!$I$47 -> 133000 | H29: =F29*G29 -> 266000 | J29: =$I$23*F29 -> 0
C30: - | D30: Kait Angin | E30: ps | G30: =L!$I$55 -> 20000 | H30: =F30*G30 -> 0 | J30: =$I$23*F30 -> 0
C31: - | D31: Door Closer | E31: bh | G31: =L!$I$63 -> 274000 | H31: =F31*G31 -> 0 | J31: =$I$23*F31 -> 0
C32: - | D32: Pegangan Pintu/Door Holder | E32: bh | G32: =L!$I$71 -> 120000 | H32: =F32*G32 -> 0 | J32: =$I$23*F32 -> 0
C33: - | D33: Aksesoris Sliding | E33: bh | G33: =L!$I$143 -> 165000 | H33: =F33*G33 -> 0 | J33: =$I$23*F33 -> 0
C34: - | D34: Handle Pintu Single | E34: ps | F34: 1 | G34: =L!$I$127 -> 210000 | H34: =F34*G34 -> 210000 | J34: =$I$23*F34 -> 0
C35: - | D35: Handle Pintu Double | E35: ps | G35: =L!$I$135 -> 465000 | H35: =F35*G35 -> 0 | J35: =$I$23*F35 -> 0
D36: Jumlah | H36: =SUM(H23:H35) -> 656000
C37: Dibulatkan | H37: =ROUND(H36,0) -> 656000
B38: 3 | C38: =VLOOKUP(B38,$C$488:$D$516,2,TRUE) -> 1 Unit Pek. Pintu ( ) | H38: =H53 -> 716000
C39: - | D39: Kunci Tanam di Handle | E39: bh | F39: 1 | G39: =L!$I$7 -> 180000 | H39: =F39*G39 -> 180000 | I39: =HIT.PINTU!H39 -> 0 | J39: =$I$39*F39 -> 0
C40: - | D40: Kunci Tanam di Samping | E40: bh | G40: =L!$I$15 -> 93000 | H40: =F40*G40 -> 0 | J40: =$I$39*F40 -> 0
C41: - | D41: Kunci Grendel Jendela | E41: bh | G41: =L!$I$23 -> 55000 | H41: =F41*G41 -> 0 | J41: =$I$39*F41 -> 0
C42: - | D42: Kunci Allumunium Rabuncis | E42: ps | F42: 1 | G42: =L!$I$151 -> 13500 | H42: =F42*G42 -> 13500 | J42: =$I$39*F42 -> 0
...

Sheet HIT.DINDING,ATAP
A1: A | B1: PAS. DINDING BERSIH LT 1 | E1: =((Q3*Q4)+(Q6*Q7)+(R6*R7)+(S6*S7))-E5 -> #REF! | G1: PAS BATU ALAM
B2: PAS. DINDING EKSTERIOR LT 1 | E2: =(Q7*Q6)+(R7*R6)+(S7*S6) -> 239.4 | G2: wpc | H2: =0 -> 0 | P2: DINDING INTERIOR LANTAI 1
B3: CAT DINDING INTERIOR | E3: =(E1*2)-(E2+E6) -> #REF! | G3: susun sirih | H3: 0 | P3: TINGGI | Q3: 4 | R3: 0 | S3: 0
B4: CAT DINDING EKSTERIOR | E4: =E2-(E7+H6) -> #REF! | G4: granit | H4: 1.4 | P4: PANJANG | Q4: =9.5+6.7+2.48+2.48+2.48+1.8+1.75+2.7+2.7 -> 32.59 | R4: 0 | S4: 0
B5: KUSEN PASDING | E5: =HIT.PINTU!#REF! -> #REF! | G5: palimanan | P5: DINDING EKSTERIOR LANTAI 1
B6: KUSEN CATINT | E6: =E5-E7 -> #REF! | H6: =SUM(H2:H5) -> 1.4 | P6: TINGGI | Q6: 4 | R6: 0 | S6: 0
B7: KUSEN CATEKS | E7: =HIT.PINTU!#REF! -> #REF! | P7: PANJANG | Q7: =7.7+11.5+9.5+4.2+2+3.5+5.7+2.75+6+6+1 -> 59.85
P8: DINDING INTERIOR LANTAI 2
A9: B | B9: PAS. DINDING BERSIH LT 2 | E9: =((Q9*Q10)+(Q12*Q13)+(T12))-E13 -> #REF! | G9: PAS BATU ALAM | P9: TINGGI | Q9: 4 | R9: 0 | S9: 0
B10: PAS. DINDING EKSTERIOR LT 2 | E10: =(Q13*Q12)+(R13*R12)+(S13*S12) -> 184.88 | G10: wpc | P10: PANJANG | Q10: =3.5+3.5+3.5+3.5+6.5+2+1.8+2.88+4.2 -> 31.38 | R10: 0 | S10: 0
B11: CAT DINDING INTERIOR | E11: =(E9*2)-(E10+E14) -> #REF! | G11: keramik | H11: 0 | P11: DINDING EKSTERIOR LANTAI 2 | T11: DINDING TAMBAHAN
B12: CAT DINDING EKSTERIOR | E12: =E10-(E15+H14) -> #REF! | G12: granit | H12: 4.2 | P12: TINGGI | Q12: 4 | R12: 0 | S12: 0 | T12: =4.5*2 -> 9
B13: KUSEN PASDING | E13: =HIT.PINTU!#REF! -> #REF! | G13: palimanan | H13: 0 | P13: PANJANG | Q13: =11.11+7.7+1+13.8+4.16+2.75+1.5+4.2 -> 46.22 | R13: 0 | S13: 0
B14: KUSEN CATINT | E14: =E13-E15 -> #REF! | H14: =SUM(H10:H13) -> 4.2 | P14: DINDING INTERIOR LANTAI 3
B15: KUSEN CATEKS | E15: =HIT.PINTU!#REF! -> #REF! | P15: TINGGI | Q15: 3.5 | R15: 0 | S15: 0
P16: PANJANG | Q16: =4.87+2.88+3.5+3.5+1.25+1.25 -> 17.25 | R16: 0 | S16: 0
A17: C | B17: PAS. DINDING BERSIH 3 | E17: =(Q19*Q18)+(R19*R18)+(S19*S18)+(Q16*Q15)+(R16*R15)+(S16*S15)+(T18) -> 218.525 | P17: DINDING EKSTERIOR LANTAI 3 | T17: DINDING TAMBAHAN
B18: PAS. DINDING EKSTERIOR 3 | E18: =(Q18*Q19)+(R19*R18)+(S19*S18) -> 141.15 | P18: TINGGI | Q18: 3.5 | R18: 1 | S18: 0 | T18: =8.5*2 -> 17
B19: CAT DINDING INTERIOR | E19: =(E17*2)-(E18+E22) -> #REF! | P19: PANJANG | Q19: =8.1+8.1+7.7+7.7+0.5+1.8+4.2 -> 38.1 | R19: =4.2+1.8+1.8 -> 7.8 | S19: 0
B20: CAT DINDING EKSTERIOR | E20: =E18-(E23+H22) -> #REF! | P20: DINDING INTERIOR LANTAI 3
B21: KUSEN PASDING | E21: =HIT.PINTU!#REF! -> #REF! | P21: TINGGI | Q21: 0 | R21: 0 | S21: 0
B22: KUSEN CATINT | E22: =E21-E23 -> #REF! | P22: PANJANG | Q22: 0 | R22: 0 | S22: 0
B23: KUSEN CATEKS | E23: =HIT.PINTU!#REF! -> #REF! | P23: DINDING ATAP | T23: DINDING TAMBAHAN
P24: TINGGI | Q24: 0.6 | R24: 0 | S24: 0 | T24: 0
A25: C | B25: PAS. DINDING BERSIH ATAP | E25: =(Q25*Q24)+(R25*R24)+(S25*S24)+(Q22*Q21)+(R22*R21)+(S22*S21)+(T24) -> 8.4 | P25: PANJANG | Q25: =5.86+4.07*2 -> 14 | S25: 0
B26: PAS. DINDING EKSTERIOR ATAP | E26: =(Q26*Q27)+(R27*R26)+(S27*S26) -> 0
B27: CAT DINDING INTERIOR | E27: 0
B28: CAT DINDING EKSTERIOR | E28: =(E25*2)-(E26+E30) -> #REF!
B29: KUSEN PASDING | E29: =HIT.PINTU!#REF! -> #REF!
B30: KUSEN CATINT | E30: =E29-E31 -> #REF!
B31: KUSEN CATEKS | E31: =HIT.PINTU!#REF! -> #REF!
B35: ATAP 1 | F35: NOK/ BUBUNGAN | H35: ATAP SKYLIGHT
B36: - | C36: segitiga | D36: 0 | F36: =3.88*4+1.79 -> 17.31 | H36: PANJANG | I36: LEBAR | J36: VOLUME
C37: trafesium | D37: 0 | F37: 0 | H37: 0 | I37: 0 | J37: =H37*I37 -> 0
F38: =SUM(F36:F37) -> 17.31
B39: - | C39: segitiga | D39: 0
C40: jrgenjang | D40: 0
B42: ATAP 2
B43: - | C43: segitiga | D43: 0
C44: Limas | D44: 0
...

Sheet DINDING BATA
B1: LT. 1 | C1: LT. 2 | D1: LT. 3 | E1: LT. 4 | F1: LT. 5 | G1: LT. 6
A2: LUAS DINDING | B2: =D12+E17 -> 1134.05 | C2: =D23+D28 -> 0 | D2: =D34+F39 -> 0 | E2: =D45+D50 -> 0 | F2: =D56+D61 -> 0 | G2: =D67+D72 -> 0
A3: CAT INTERIOR | B3: =B2*2-B4-B5 -> 1356.488 | C3: =C2*2-C4-C5 -> 0 | D3: =15.45*D6 -> 0 | E3: =D45 -> 0 | F3: =F2*2-F4-F5 -> 0 | G3: 0
A4: CAT EXTERIOR | B4: =28.08*B6+E17 -> 425.112 | C4: =21.78*C6 -> 0 | D4: 0
A5: WATERPROOF | B5: =40*B6+A17 -> 486.5 | C5: =34.62*C6 -> 0 | D5: 0
A6: TINGGI | B6: 5.15 | C6: 0 | D6: 0
A8: =B1 -> LT. 1
A9: tinggi | B9: =B6 -> 5.15 | C9: m'
A10: kongliong garasi | B10: 161 | C10: m2
A11: 1 | B11: 2 | C11: 3 | D11: LUAS
A12: 197 | D12: =SUM(A12:C12)*B9-B10 -> 853.55 | F12: "KOTAK NOMER 2 DAN 3 ADALAH KOTAK TAMBAHAN. TIDAK DIISI JIKA SELURUH PANJANG DINDING SUDAH DIMASUKKAN KOTAK 1
A14: 1 | B14: 2 | C14: 3 | D14: 4
A15: 165
A16: 1.7 | E16: luas
A17: =A15*A16 -> 280.5 | B17: =B15*B16 -> 0 | C17: =C15*C16 -> 0 | D17: =D15*D16/2 -> 0 | E17: =SUM(A17:D17) -> 280.5
A19: =C1 -> LT. 2
A20: tinggi | B20: =C6 -> 0 | C20: m'
A22: H1 | B22: v1 | C22: H3 | D22: LUAS
D23: =SUM(A23:C23)*B20-B21 -> 0
A25: h1 | B25: v1 | C25: h3
D27: luas
A28: =A26*A27 -> 0 | B28: =B26*B27 -> 0 | C28: =C26*C27 -> 0 | D28: =SUM(A28:C28) -> 0
A30: =D1 -> LT. 3 | F30: "JIKA BANGUNAN HANYA 2 LANTAI, MAKA ISI BAGIAN INI UNTUK MENGHITUNG ATAP. BEGITU JUGA SETERUSNYA
A31: tinggi | B31: =D6 -> 0 | C31: m'
A33: H1 | B33: H2 | C33: H3 | D33: LUAS
A34: 23.5 | D34: =SUM(A34:C34)*B31-B32 -> 0
A36: h1 | B36: h2 | C36: h3
F38: luas
A39: =A37*A38 -> 0 | B39: =B37*B38 -> 0 | C39: =C37*C38 -> 0 | D39: =D37*D38 -> 0 | E39: =E37*E38 -> 0 | F39: =SUM(A39:C39) -> 0
A41: =E1 -> LT. 4
A42: tinggi | B42: =E6 -> 0 | C42: m'
A44: H1 | B44: H2 | C44: H3 | D44: LUAS
D45: =SUM(A45:C45)*B42-B43 -> 0
A47: h1 | B47: h2 | C47: h3
D49: luas
A50: =A48*A49 -> 0 | B50: =B48*B49 -> 0 | C50: =C48*C49 -> 0 | D50: =SUM(A50:C50) -> 0
A52: =F1 -> LT. 5
A53: tinggi | B53: =F6 -> 0 | C53: m'
A55: H1 | B55: H2 | C55: H3 | D55: LUAS
D56: =SUM(A56:C56)*B53-B54 -> 0
...

Sheet KUSEN PINTU
AN1: No | AO1: Spesifikasi | AP1: Harga
AN2: 1 | AO2: Kusen Aluminium 4" | AP2: ='HARGA SATUAN PEKERJAAN'!$F$191 -> 105337
AN3: 2 | AO3: , Pintu Aluminium 4" | AP3: ='HARGA SATUAN PEKERJAAN'!$F$196 -> 159700
AN4: 3 | AO4: , Jendela Aluminium 3" | AP4: ='HARGA SATUAN PEKERJAAN'!$F$195 -> 137405
AN5: 4 | AO5: Pintu KM/WC PVC | AP5: =BAHAN!$E$191 -> 759050
AN6: 5 | AO6: Kusen UPVC | AP6: ='HARGA SATUAN PEKERJAAN'!$F$193 -> 259337
AN7: 6 | AO7: , Pintu UPVC | AP7: ='HARGA SATUAN PEKERJAAN'!$F$194 -> 528305
AN8: 7 | AO8: , Jendela UPVC | AP8: ='HARGA SATUAN PEKERJAAN'!$F$194 -> 528305
AN9: 8 | AO9: , Pintu UPVC Natural | AP9: =BAHAN!$E$190 -> 900000
AN10: 9 | AO10: Kusen | AP10: ='HARGA SATUAN PEKERJAAN'!$F$170*0.005 -> 103386.67
AN11: 10 | AO11: , Pintu Kayu Kamper Samarinda | AP11: ='HARGA SATUAN PEKERJAAN'!$F$171 -> 1195283
AN12: 11 | AO12: dan Jendela Kayu Kamper Samarinda | AP12: ='HARGA SATUAN PEKERJAAN'!$F$180 -> 196898.01
AN13: 12 | AO13: , Pintu Panel Teakwood | AP13: ='HARGA SATUAN PEKERJAAN'!$F$172 -> 853394
AN14: 13 | AO14: Pintu WINA-SS | AP14: =BAHAN!$E$194 -> 5070000
AN15: 14 | AO15: Folding Gate Galvalum | AP15: =BAHAN!$E$189 -> 400000
AN16: 15 | AO16: =BAHAN!C193 -> Pintu Kasa Nyamuk Besi Hollow | AP16: =BAHAN!E193 -> 2150000
AN17: 16 | AO17: =BAHAN!$C$195 -> Jalusi Allumunium | AP17: =BAHAN!$E$195 -> 1350000
AN18: 17
AN19: 99
AN20: 90 | AO20: , Kaca Clear 5 mm | AP20: ='HARGA SATUAN PEKERJAAN'!$F$219 -> 149975
AN21: 91 | AO21: , Kaca Tempered 8 mm | AP21: ='HARGA SATUAN PEKERJAAN'!$F$221 -> 413434
AO22: Upah Pasang | AP22: 250000
A27: DAFTAR KUSEN | N27: 180000 | O27: 93000 | P27: 55000 | Q27: 13500 | R27: 39500 | S27: 46500 | T27: 133000 | U27: 20000 | V27: 274000 | W27: 120000 | X27: 165000 | Y27: 210000 | Z27: 465000
