Workbook
Name f207.: [1]HRGST!#REF!
Name f207.: [1]HRGST!#REF!
Name f207.: [1]HRGST!#REF!
Name f207.: [1]HRGST!#REF!
Name f207.: [1]HRGST!#REF!
Name f207.: 'HARGA SATUAN PEKERJAAN'!$F$243
Name H23e137: BAHAN!$H$23

Sheet REKAP 
A1: REKAPITULASI RENCANA ANGGARAN BIAYA
A2: PEKERJAAN PEMBANGUNAN RUMAH TINGGAL
A3: Revisi 00 | O3: LEBAR | P3: PANJANG | Q3: LUAS
B4: Perihal | C4: : Rencana Anggaran Biaya | H4: Luas Kavling | K4: : | M4: =O4&" m x "&P4&" m ("&Q4&" m²)" -> 35 m x 66 m (2310 m²) | O4: 35 | P4: 66 | Q4: 2310
B5: Pekerjaan | C5: : Struktur dan Finishing | H5: Luas Bangunan Lantai Satu | K5: : | M5: 481
B6: Bangunan | C6: : Rumah Tinggal | H6: Luas Bangunan Lantai Dua | K6: : | M6: 0
B7: Type | C7: : Klasik Modern | H7: Luas Bangunan Lantai Atap | K7: :
B8: Pemilik | C8: : -
B9: Lokasi | C9: : -
B10: Wilayah | C10: : -
H11: Jumlah Luas Bangunan | K11: : | M11: =SUM(M5:M10) -> 481
A13: No. | B13: URAIAN PEKERJAAN | I13: JUMLAH HARGA | L13: JUMLAH HARGA TOTAL
I14: ( Rp ) | L14: ( Rp )
A15: I | B15: =BOQ!$B$16 -> PEKERJAAN PERSIAPAN | I15: Rp. | J15: =BOQ!$L$30 -> 0 | L15: Rp. | M15: =J15 -> 0
A16: III | B16: =BOQ!$B$31 -> PEKERJAAN GALIAN TANAH + URUGAN | I16: Rp. | J16: =BOQ!$L$41 -> 0 | L16: Rp. | M16: =J16 -> 0
A17: III | B17: =BOQ!$B$42 -> PEKERJAAN STRUKTUR BETON BERTULANG | L17: Rp. | M17: =SUM(J18:J23) -> 0
A18: A | B18: =BOQ!$B$43 -> Lantai 1 & Pondasi | I18: Rp. | J18: =BOQ!L119 -> 0
A19: B | B19: =BOQ!$B$120 -> Lantai 2 dan Mezannine | I19: Rp. | J19: =BOQ!L204 -> 0
A20: C | B20: =BOQ!$B$205 -> Lantai Atap | I20: Rp. | J20: =BOQ!L267 -> 0
A21: D | B21: =BOQ!$B$268 -> Lantai Atap | I21: Rp. | J21: =BOQ!$L$334 -> 0
A22: E | B22: =BOQ!$B$335 -> Lantai 4 | I22: Rp. | J22: =BOQ!L383 -> 0
A23: F | B23: Lantai Atap | I23: Rp. | J23: =BOQ!$L$432 -> 0
A24: IV | B24: =BOQ!$B$433 -> PEKERJAAN DINDING | L24: Rp. | M24: =SUM(J25:J30) -> 0
A25: A | B25: =BOQ!$B$434 -> Lantai 1 | I25: Rp. | J25: =BOQ!L439 -> 0
A26: B | B26: =BOQ!$B$440 -> Lantai 2 | I26: Rp. | J26: =BOQ!L445 -> 0
A27: C | B27: =BOQ!$B$446 -> Lantai Atap | I27: Rp. | J27: =BOQ!L451 -> 0
A28: D | B28: =BOQ!$B$452 -> Lantai Atap | I28: Rp. | J28: =BOQ!$L$457 -> 0
A29: E | B29: =BOQ!$B$458 -> Lantai 4 | I29: Rp. | J29: =BOQ!L463 -> 0
A30: F | B30: Lantai Atap | I30: Rp. | J30: =BOQ!$L$469 -> 0
A31: V | B31: =BOQ!$B$470 -> PEKERJAAN ATAP | I31: Rp. | J31: =BOQ!L495 -> 0 | L31: Rp. | M31: =J31 -> 0
A32: VI | B32: =BOQ!B496 -> PEKERJAAN KUSEN, PINTU DAN JENDELA | L32: Rp. | M32: =SUM(J33:J36) -> 0
A33: A | B33: =BOQ!$B$497 -> Lantai 1 | I33: Rp. | J33: =BOQ!L527 -> 0
A34: B | B34: =BOQ!$B$528 -> Lantai 2 dan Mezzanine | I34: Rp. | J34: =BOQ!L558 -> 0
A35: C | B35: =BOQ!$B$559 -> Lantai Atap | I35: Rp. | J35: =BOQ!L589 -> 0
A36: D | B36: =BOQ!$B$590 -> Lantai 4 | I36: Rp. | J36: =BOQ!$L$620 -> 0
A37: VII | B37: =BOQ!B621 -> PEKERJAAN ENGSEL DAN KUNCI | I37: Rp. | J37: =BOQ!L635 -> 0 | L37: Rp. | M37: =J37 -> 0
A38: VIII | B38: =BOQ!B636 -> PEKERJAAN INSTALASI AIR & SANITARI | L38: Rp. | M38: =SUM(J39:J44) -> 0
A39: A | B39: =BOQ!$B$637 -> Lantai 1 | I39: Rp. | J39: =BOQ!L679 -> 0
A40: B | B40: =BOQ!$B$680 -> Lantai 2 | I40: Rp. | J40: =BOQ!L717 -> 0
A41: C | B41: =BOQ!$B$718 -> Lantai Atap | I41: Rp. | J41: =BOQ!L756 -> 0
A42: D | B42: =BOQ!$B$757 -> Lantai Atap | I42: Rp. | J42: =BOQ!$L$795 -> 0
A43: E | B43: =BOQ!$B$796 -> Lantai 4 | I43: Rp. | J43: =BOQ!L834 -> 0
A44: F | B44: Lantai Atap | I44: Rp. | J44: =BOQ!$L$873 -> 0
A45: IX | B45: =BOQ!B874 -> PEKERJAAN PLAFOND | L45: Rp. | M45: =SUM(J46:J50) -> 0
A46: A | B46: =BOQ!$B$875 -> Lantai 1 | I46: Rp. | J46: =BOQ!L882 -> 0
A47: B | B47: =BOQ!$B$883 -> Lantai 2 | I47: Rp. | J47: =BOQ!L890 -> 0
A48: C | B48: =BOQ!$B$891 -> Lantai Atap | I48: Rp. | J48: =BOQ!$L$898 -> 0
A49: D | B49: =BOQ!$B$899 -> Lantai Atap | I49: Rp. | J49: =BOQ!$L$906 -> 0
A50: D | B50: =BOQ!$B$796 -> Lantai 4 | I50: Rp. | J50: =BOQ!$L$914 -> 0
A51: X | B51: =BOQ!B915 -> PEKERJAAN KERAMIK LANTAI & DINDING | L51: Rp. | M51: =SUM(J52:J63) -> 0
A52: A | B52: =BOQ!$B$916 -> Pasangan keramik Lantai 1 | I52: Rp. | J52: =BOQ!L931 -> 0
A53: B | B53: =BOQ!$B$932 -> Pasangan keramik Lantai 2 dan Mezzanine | I53: Rp. | J53: =BOQ!L939 -> 0
A54: C | B54: =BOQ!$B$940 -> Pasangan keramik Lantai Atap | I54: Rp. | J54: =BOQ!L944 -> 0
A55: D | B55: =BOQ!$B$945 -> Pasangan keramik Lantai Atap | I55: Rp. | J55: =BOQ!$L$949 -> 0
A56: E | B56: =BOQ!$B$950 -> Pasangan keramik Lantai 4 | I56: Rp. | J56: =BOQ!L958 -> 0
A57: F | B57: Pasangan keramik Lantai Atap | I57: Rp. | J57: =BOQ!$L$961 -> 0
A58: D | B58: =BOQ!$B$962 -> Pasangan Dinding Keramik Lantai 1 | I58: Rp. | J58: =BOQ!L966 -> 0
A59: E | B59: =BOQ!$B$967 -> Pasangan Dinding Keramik Lantai 2 | I59: Rp. | J59: =BOQ!L970 -> 0
A60: F | B60: =BOQ!$B$971 -> Pasangan Dinding Waterproofing Lantai Atap | I60: Rp. | J60: =BOQ!L974 -> 0
A61: H | B61: =BOQ!$B$975 -> Pasangan Dinding Keramik Lantai Atap | I61: Rp. | J61: =BOQ!$L$977 -> 0
A62: K | B62: Pasangan Dinding Keramik Lantai 4 | I62: Rp. | J62: =BOQ!$L$981 -> 0
A63: L | B63: Pasangan Dinding Keramik Lantai Atap | I63: Rp. | J63: =BOQ!$L$984 -> 0
A64: XI | B64: =BOQ!B985 -> PEKERJAAN INSTALASI LISTRIK | L64: Rp. | M64: =SUM(J65:J70) -> 0
A65: A | B65: =BOQ!$B$986 -> Lantai 1 dan Mezzanine | I65: Rp. | J65: =BOQ!L1028 -> 0
A66: B | B66: =BOQ!$B$1029 -> Lantai 2 | I66: Rp. | J66: =BOQ!L1072 -> 0
A67: C | B67: =BOQ!$B$1073 -> Lantai Atap | I67: Rp. | J67: =BOQ!L1115 -> 0
A68: D | B68: =BOQ!$B$1116 -> Lantai Atap | I68: Rp. | J68: =BOQ!$L$1158 -> 0
A69: E | B69: =BOQ!$B$796 -> Lantai 4 | I69: Rp. | J69: =BOQ!$L$1201 -> 0
A70: D | B70: =BOQ!$B$1202 -> Instalasi Telepon + Instalasi TV | I70: Rp. | J70: =BOQ!L1209 -> 0
A71: XII | B71: =BOQ!B1210 -> PEKERJAAN PENGECATAN | L71: Rp. | M71: =SUM(J72:J77) -> 0
A72: A | B72: =BOQ!$B$1211 -> Lantai 1 | I72: Rp. | J72: =BOQ!L1217 -> 0
A73: B | B73: =BOQ!$B$1218 -> Lantai 2 | I73: Rp. | J73: =BOQ!L1224 -> 0
A74: C | B74: =BOQ!$B$1225 -> Lantai Atap | I74: Rp. | J74: =BOQ!L1231 -> 0
A75: D | B75: =BOQ!$B$1232 -> Lantai Atap | I75: Rp. | J75: =BOQ!$L$1238 -> 0
A76: E | B76: =BOQ!$B$1239 -> Lantai 4 | I76: Rp. | J76: =BOQ!L1245 -> 0
A77: F | B77: Lantai Atap | I77: Rp. | J77: =BOQ!$L$1250 -> 0
A78: XIII | B78: =BOQ!B1251 -> PEKERJAAN LAIN-LAIN | I78: Rp. | J78: =BOQ!L1289 -> 0 | L78: Rp. | M78: =J78 -> 0
A80: TOTAL = | I80: Rp. | J80: =SUM(J15:J78) -> 0 | L80: Rp. | M80: =SUM(L15:M79) -> 0 | O80: =O84*M11 -> 2405000000 | P80: =M80-O80 -> -2405000000
H81: FEE KONTRAKTOR (10%) = | I81: Rp. | J81: 0
A82: PPN / TAX = | I82: Rp. | J82: by Owner
A83: GRAND TOTAL = | I83: Rp. | J83: =SUM(J80:J81) -> 0
A84: ROUNDED = | I84: Rp. | J84: =INT(J83/1000000)*1000000 -> 0 | M84: =J84/M11 -> 0 | O84: =5000000-M84 -> 5000000 | P84: =M84-O84 -> -5000000
L86: Jakarta, 30 Juni 20…
P91: tofu
B98: Info Harga / asumsi biaya bangun Rumah Kost standar rata-rata untuk saat ini di tahun 2020 :
B99: 1). Model Desain Kost Bertingkat kisaran biaya di 4,5 jt - 5 jt /m2 bangunan.
B100: 2). Model Desain Rumah Kost Tidak bertingkat kisaran biaya 3 jt - 3.5 jt /m2 bangunan
B101: Untuk harga bangun sangat dipengaruhi oleh model desain dan spesifikasi material bangunan yang digunakan 🙏
B103: Info Harga / asumsi biaya bangun standar rata-rata untuk saat ini di tahun 2020 :
B104: A). BANGUNAN BERTINGKAT ( 2 LANTAI KE ATAS )
B105: 1). Model Desain Minimalis kisaran biaya di 5 jt - 5,5 jt /m2 bangunan.
B106: 2). Model Desain Tropis kisaran biaya 5,5 jt - 6 jt /m2 bangunan
B107: 3). Model Desain Klasik Modern kisaran biaya 6 jt - 7 jt /m2 bangunan
B108: B). BANGUNAN TIDAK BERTINGKAT ( 1 LANTAI )
B109: 1). Model Desain Minimalis kisaran biaya di 3 jt - 3,5 jt /m2 bangunan.
B110: 2). Model Desain Tropis kisaran biaya 3,5 jt - 4 jt /m2 bangunan
... B112: Untuk harga bangun sangat dipengaruhi oleh model desain dan spesifikasi material bangunan yang digunakan 🙏
A116: 1 | B116: =LOOKUP(A116,BOQ!$N$16:$N$1289,BOQ!$B$16:$B$1289) -> PEKERJAAN PERSIAPAN | J116: =LOOKUP(A116,BOQ!$N$16:$N$1289,BOQ!$L$16:$L$1289) -> 0
A117: 2 | B117: =LOOKUP(A117,BOQ!$N$16:$N$1289,BOQ!$B$16:$B$1289) -> 0 | J117: =LOOKUP(A117,BOQ!$N$16:$N$1289,BOQ!$L$16:$L$1289) -> 0 | O117: =B116 -> PEKERJAAN PERSIAPAN | P117: =J117 -> 0
A118: 3 | B118: =LOOKUP(A118,BOQ!$N$16:$N$1289,BOQ!$B$16:$B$1289) -> PEKERJAAN GALIAN TANAH + URUGAN | J118: =LOOKUP(A118,BOQ!$N$16:$N$1289,BOQ!$L$16:$L$1289) -> 0 | O118: =B117 -> 0 | P118: =J118 -> 0
...

Sheet KUSTOM NAMA
E7: JAKARTA - SURABAYA - TANGERANG
B9: SPESIFIKASI TEKNIS
C11: Proyek | D11: ='REKAP '!C6 -> : Rumah Tinggal
C12: Lokasi | D12: ='REKAP '!C9 -> : -
C13: Pemilik | D13: ='REKAP '!C8 -> : -
C15: URAIAN PEKERJAAN | H15: SPESIFIKASI MATERIAL
C16: Pekerjaan Septictank | H16: Ex. Konvensional
C17: Pekerjaan Pondasi | H17: Sistem Pile Cap, dan Straus Pile
C18: Pekerjaan Struktur | H18: Mutu Beton K. 300, Semen Bosowa/Setara
H19: Beton Konvensional 1:2:3
H20: Besi ex. Setara IBD ( SNI )
C21: Pekerjaan Dinding | H21: =BOQ!$D$435 -> Bata merah tebal 1/2 bata. Adukan 1 PC : 5 PS
H22: Plester Dinding ( semua dinding )
H23: Acian ex. Semen Hitam Bosowa/setara
C24: Pekerjaan Plafond | H24: Rangka Hollow Galvanis 2x4 dan 4x4
H25: Gypsum 9mm ex. Jayaboard/Aplus/Sunda Plafond/Setara
C26: Pekerjaan Lantai | H26: Luxury Home, KIA, Masterina/setara
C27: Pekerjaan Plumbing | H27: Pipa PVC air bersih ex. Wavin type AW
H28: Pipa PVC air kotor ex. Wavin type AW
C29: Pekerjaan Listrik | H29: Kabel ex. Eterna/setara
H30: Fixture ex. Broco dan Armature ex. Phillips/setara
C31: Pekerjaan Sanitary | H31: Sanitary ex American Standard/setara
C32: Pekerjaan Pintu dan Jendela | H32: Kusen ex. Allumunium Alexindo/Setara
H33: Pintu ex. Allumunium Alexindo/Setara
H34: Jendela ex. Allumunium Alexindo/Setara
H35: Pintu ex. Kayu Kamper Samarinda /setara
H36: Pintu ex. Panel Teakwood Engineering/setara
C37: Pekerjaan Pengecatan | H37: Cat ex. Dulux/Jotun/setara
C38: Pekerjaan Water Toren | H38: Water Toren ex. Penguin/setara
H39: Mesin Pompa ex. Grundfos/setara

Sheet IDC
A3: SPESIFIKASI TEKNIS
A4: Proyek | B4: ='REKAP '!C6 -> : Rumah Tinggal
A5: Lokasi | B5: ='REKAP '!C9 -> : -
A6: Pemilik | B6: ='REKAP '!C8 -> : -
A8: URAIAN PEKERJAAN | C8: SPESIFIKASI MATERIAL
A9: Pekerjaan Septictank | C9: Ex Konvensional
A10: Pekerjaan Pondasi | C10: Sistem Pile Cap dan Straus Pile
A11: Pekerjaan Struktur | C11: Mutu Beton K. 300, Semen Hitam Tiga Roda / setara
C12: Beton Konvensional 1:2:3
C13: Besi ex. IBD SNI / setara
A14: Pekerjaan Dinding | C14: =BOQ!$D$435 -> Bata merah tebal 1/2 bata. Adukan 1 PC : 5 PS
C15: Plester Dinding (semua dinding)
C16: Acian ex. Semen Hitam Tiga Roda / setara
A17: Pekerjaan Plafond | C17: Rangka Hollow Galvanis 2x4 dan 4x4
C18: Gypsum 9mm ex. Aplus/Jayaboard / setara
A19: Pekerjaan Lantai | C19: Niro Granite, Essenza, Citigress, KIA, Masterina /setara
A20: Pekerjaan Plumbing | C20: Pipa PVC air bersih ex. Wavin type AW
C21: Pipa PVC air kotor ex. Wavin type D
A22: Pekerjaan Listrik | C22: Kabel ex. Eterna / setara
C23: Fixture ex. Broco dan Armature ex. Hannochs / setara
A24: Pekerjaan Sanitary | C24: Sanitary ex. Toto setara
A25: Pekerjaan Besi Railing | C25: Railing besi tempa
A26: Pekerjaan Pintu dan Jendela | C26: Kusen ex. UPVC Conch/setara
C27: Pintu ex. UPVC Conch/setara
C28: Jendela ex. UPVC Conch/setara
C29: Pintu ex. Panel Teakwood Engineering/ Setara
C30: Pintu ex. Kayu Kamper Samarinda/ Setara
C31: Pintu ex. WINA-SS/ Setara
C32: Pintu ex. Pintu Kasa Nyamuk/ Setara
A33: Pekerjaan Pengecatan | C33: Cat ex. Dulux/ setara
A34: Pekerjaan Water Toren | C34: Water Toren ex. Penguin / setara
C35: Mesin Pompa ex. Grundfos/ setara

Sheet BOQ
A2: REKAPITULASI RENCANA ANGGARAN BIAYA
A3: ='REKAP '!A2:M2 -> PEKERJAAN PEMBANGUNAN RUMAH TINGGAL
A4: Revisi 00
B5: Perihal | C5: ='REKAP '!C4 -> : Rencana Anggaran Biaya | I5: ='REKAP '!H4 -> Luas Kavling | J5: : | L5: ='REKAP '!M4 -> 35 m x 66 m (2310 m²)
B6: Pekerjaan | C6: ='REKAP '!C5 -> : Struktur dan Finishing | I6: ='REKAP '!H5 -> Luas Bangunan Lantai Satu | J6: : | L6: ='REKAP '!M5 -> 481
B7: Bangunan | C7: ='REKAP '!C6 -> : Rumah Tinggal | I7: ='REKAP '!H6 -> Luas Bangunan Lantai Dua | J7: : | L7: ='REKAP '!M6 -> 0
B8: Type | C8: ='REKAP '!C7 -> : Klasik Modern | I8: ='REKAP '!H7 -> Luas Bangunan Lantai Atap | J8: : | L8: ='REKAP '!M7 -> 0
B9: Pemilik | C9: ='REKAP '!C8 -> : -
B10: Lokasi | C10: ='REKAP '!C9 -> : -
B11: Wilayah | C11: ='REKAP '!C10 -> : -
I12: Jumlah Luas Bangunan | J12: : | L12: ='REKAP '!M11 -> 481
A14: No | B14: Uraian Pekerjaan | D14: Spesifikasi Ringkas | E14: Volume | F14: Sat | G14: Harga Satuan Material | H14: Harga Satuan Upah | I14: Material+Upah | J14: Jumlah Harga Material | K14: Jumlah Harga Upah | L14: Jumlah Material + Upah
G15: (Rp) | H15: (Rp) | I15: (Rp) | J15: (Rp) | K15: (Rp) | L15: (Rp)
A16: I | B16: PEKERJAAN PERSIAPAN | N16: 1
A17: 1 | B17: Pekerjaan Pagar Sementara Seng Gelombang | D17: t = 2 m | E17: =PRP!E3 -> 202 | F17: m' | G17: 0 | H17: 0 | I17: =G17+H17 -> 0 | J17: =E17*G17 -> 0 | K17: =E17*H17 -> 0 | L17: =J17+K17 -> 0
A18: 2 | B18: Pengukuran dan Pasang Bouwplank | E18: =PRP!E7 -> 202 | F18: m | G18: 0 | H18: 0 | I18: =G18+H18 -> 0 | J18: =E18*G18 -> 0 | K18: =E18*H18 -> 0 | L18: =J18+K18 -> 0
B19: Biaya perijinan IMB | E19: 1 | F19: ls | G19: 0 | H19: 0 | I19: =G19+H19 -> 0 | J19: =E19*G19 -> 0 | K19: =E19*H19 -> 0 | L19: =J19+K19 -> 0
B20: Air kerja dan Listrik Kerja | E20: 1 | F20: ls | G20: 0 | H20: 0 | I20: =G20+H20 -> 0 | J20: =E20*G20 -> 0 | K20: =E20*H20 -> 0 | L20: =J20+K20 -> 0
A21: 3 | B21: Pembuatan Kantor Sementara | D21: adukan pasir & semen | E21: 24 | F21: m² | G21: =PSP!$I$45 -> 1748312.9 | H21: =PSP!$I$50 -> 806000 | I21: =G21+H21 -> 2554312.9 | J21: =E21*G21 -> 41959509 | K21: =E21*H21 -> 19344000 | L21: 0
A22: 4 | B22: Gudang material/direksi keet | D22: Balok - Kayu - Tripleks | E22: 24 | F22: m² | G22: =PSP!$I$60 -> 1696170 | H22: =PSP!$I$64 -> 495000 | I22: =G22+H22 -> 2191170 | J22: =E22*G22 -> 40708080 | K22: =E22*H22 -> 11880000 | L22: 0
B23: Pembuatan Bedeng Buruh | D23: Balok - Kayu - Tripleks | E23: 0 | F23: m² | G23: =PSP!$I$74 -> 1515466.3 | H23: =PSP!$I$78 -> 495000 | I23: =G23+H23 -> 2010466.3 | J23: =E23*G23 -> 0 | K23: =E23*H23 -> 0 | L23: =J23+K23 -> 0
B24: Keamanan proyek | E24: 1 | F24: bln | G24: 0 | H24: 0 | I24: =G24+H24 -> 0 | J24: =E24*G24 -> 0 | K24: =E24*H24 -> 0 | L24: =J24+K24 -> 0
B25: Pembersihan & buangan sampah proyek | E25: 0 | F25: m² | G25: 0 | H25: =PSP!$I$83 -> 22600 | I25: =G25+H25 -> 22600 | J25: =E25*G25 -> 0 | K25: =E25*H25 -> 0 | L25: =J25+K25 -> 0
B26: Bongkaran Beton Bertulang | E26: 0 | F26: m³ | G26: 0 | H26: =PSP!$I$88 -> 966652 | I26: =G26+H26 -> 966652 | J26: =E26*G26 -> 0 | K26: =E26*H26 -> 0 | L26: =J26+K26 -> 0
B27: Bongkaran Dinding Tembok Bata Merah | E27: 0 | F27: m³ | G27: 0 | H27: =PSP!$I$92 -> 912652 | I27: =G27+H27 -> 912652 | J27: =E27*G27 -> 0 | K27: =E27*H27 -> 0 | L27: =J27+K27 -> 0
B28: Biaya gambar kerja Shop Drawing | E28: 1 | F28: m² | G28: 0 | H28: 0 | I28: =G28+H28 -> 0 | J28: =E28*G28 -> 0 | K28: =E28*H28 -> 0 | L28: =J28+K28 -> 0
B29: Mobilisasi dan demobilisasi | E29: 1 | F29: ls | G29: 0 | H29: 0 | I29: =G29+H29 -> 0 | J29: =E29*G29 -> 0 | K29: =E29*H29 -> 0 | L29: =J29+K29 -> 0
A30: Sub total Pekerjaan Persiapan = | J30: =SUM(J17:J29) -> 82667589 | K30: =SUM(K17:K29) -> 31224000 | L30: =SUM(L16:L29) -> 0 | M30: 1 | N30: 2
A31: II | B31: PEKERJAAN GALIAN TANAH + URUGAN | N31: 3
A32: 1 | B32: Galian Tanah Biasa | E32: ='PONDASI DAN SLOOF'!C26 -> 470.17 | F32: m³ | G32: 0 | H32: 0 | I32: =G32+H32 -> 0 | J32: =E32*G32 -> 0 | K32: =E32*H32 -> 0 | L32: =J32+K32 -> 0
A33: 2 | B33: Galian Tanah Manual Strauspile dia-30 cm | E33: ='PONDASI DAN SLOOF'!C27 -> 0 | F33: m' | G33: 0 | H33: =B!$I$17 -> 75000 | I33: =G33+H33 -> 75000 | J33: =E33*G33 -> 0 | K33: =E33*H33 -> 0 | L33: =J33+K33 -> 0
A34: 2 | B34: Galian Tanah Mesin Minicrane Strausspile dia-30 cm | E34: ='PONDASI DAN SLOOF'!C28 -> 0 | F34: m' | G34: 0 | H34: =B!$I$21 -> 120000 | I34: =G34+H34 -> 120000 | J34: =E34*G34 -> 0 | K34: =E34*H34 -> 0 | L34: =J34+K34 -> 0
B35: Pembuangan Tanah sejauh 150 m | F35: m³ | G35: 0 | H35: =B!$I$26 -> 79176 | I35: =G35+H35 -> 79176 | J35: =E35*G35 -> 0 | K35: =E35*H35 -> 0 | L35: =J35+K35 -> 0
A36: 3 | B36: Urugan Kembali | E36: =E32/3 -> 156.72333 | F36: m³ | G36: 0 | H36: 0 | I36: =G36+H36 -> 0 | J36: =E36*G36 -> 0 | K36: =E36*H36 -> 0 | L36: =J36+K36 -> 0
B37: Pemadatan urugan | D37: timbris | E37: 0 | F37: m² | G37: 0 | H37: =B!$I$36 -> 77000 | I37: =G37+H37 -> 77000 | J37: =E37*G37 -> 0 | K37: =E37*H37 -> 0 | L37: =J37+K37 -> 0
A38: 4 | B38: Urugan pasir bawah pondasi dan sloof | D38: tebal 10 cm | E38: ='PONDASI DAN SLOOF'!C50 -> 7.336 | F38: m³ | G38: 0 | H38: 0 | I38: =G38+H38 -> 0 | J38: =E38*G38 -> 0 | K38: =E38*H38 -> 0 | L38: =J38+K38 -> 0
A39: 5 | B39: Pekerjaan Urugan Sirtu | F39: m³ | G39: =B!$I$46 -> 348000 | H39: =B!$I$48 -> 38500 | I39: =G39+H39 -> 386500 | J39: =E39*G39 -> 0 | K39: =E39*H39 -> 0 | L39: =J39+K39 -> 0
B40: Pekerjaan Urugan Tanah Pilihan untuk kenaikan level | D40: T = 43 cm | E40: 0 | F40: m³ | G40: =B!$I$52 -> 306000 | H40: =B!$I$54 -> 38500 | I40: =G40+H40 -> 344500 | J40: =E40*G40 -> 0 | K40: =E40*H40 -> 0 | L40: =J40+K40 -> 0
A41: Sub Total Pekerjaan Galian Tanah + Urugan = | J41: =SUM(J32:J40) -> 0 | K41: =SUM(K32:K40) -> 0 | L41: =SUM(L32:L40) -> 0 | M41: 1 | N41: 4
A42: III | B42: PEKERJAAN STRUKTUR BETON BERTULANG | N42: 5
A43: A | B43: Lantai 1 & Pondasi | N43: 6
A44: 1 | B44: Lantai kerja bawah pondasi plat dan sloof | D44: beton site mix dengan mutu beton K-125 | E44: ='PONDASI DAN SLOOF'!C72 -> 3.668 | F44: m³ | G44: 0 | H44: 0 | I44: =G44+H44 -> 0 | J44: =E44*G44 -> 0 | K44: =E44*H44 -> 0 | L44: =J44+K44 -> 0 | P44: TOTAL VOLUME
A45: =A44+1 -> 2 | B45: Pondasi Batu Kali | G45: 0 | H45: 0
B46: > Pasangan Batu kali | D46: Pasangan Batu Kali adukan 1 pc : 5 ps | E46: =1.1*BTN!$P$104 -> 109.725 | F46: m³ | G46: 0 | H46: 0 | I46: =G46+H46 -> 0 | J46: =E46*G46 -> 0 | K46: =E46*H46 -> 0 | L46: =J46+K46 -> 0
B47: > Pasangan Anstamping | D47: Pasangan Batu Kosong (Anstamping) | E47: =1.1*BTN!$Q$104 -> 16.1975 | F47: m³ | G47: 0 | H47: 0 | I47: =G47+H47 -> 0 | J47: =E47*G47 -> 0 | K47: =E47*H47 -> 0 | L47: =J47+K47 -> 0
A48: =A45+1 -> 3 | B48: Pondasi Pile cap | G48: 0 | H48: 0 | P48: D16 | Q48: =SUMIF($G$44:$G$2199,R48,$E$44:$E$2199) -> 0 | R48: =D!$I$270 -> 9279.7755
B49: >beton poer | D49: beton site mix dengan mutu beton K-300 | E49: =1.1*BTN!$J$105 -> 11.4972 | F49: m³ | G49: 0 | H49: 0 | I49: =G49+H49 -> 0 | J49: =E49*G49 -> 0 | K49: =E49*H49 -> 0 | L49: =J49+K49 -> 0 | P49: D13 | Q49: =SUMIF($G$44:$G$2199,R49,$E$44:$E$2199) -> 0 | R49: =D!$I$261 -> 9365.886
B50: >tulangan poer | G50: 0 | H50: 0 | P50: D10 | Q50: =SUMIF($G$44:$G$2199,R50,$E$44:$E$2199) -> 0 | R50: =D!$I$252 -> 9796.7115
C51: - | D51: bagian atas besi beton D 16 mm | E51: =1.1*BTN!$H$97 -> 1571.152 | F51: kg | G51: 0 | H51: 0 | I51: =G51+H51 -> 0 | J51: =E51*G51 -> 0 | K51: =E51*H51 -> 0 | L51: =J51+K51 -> 0 | P51: Ø 12 | Q51: =SUMIF($G$44:$G$2199,R51,$E$44:$E$2199) -> 0 | R51: =D!$I$243 -> 8750.67
C52: - | D52: bagian atas besi beton D 16 mm | E52: =1.1*BTN!$H$97 -> 1571.152 | F52: kg | G52: 0 | H52: 0 | I52: =G52+H52 -> 0 | J52: =E52*G52 -> 0 | K52: =E52*H52 -> 0 | L52: =J52+K52 -> 0 | P52: Ø 10 | Q52: =SUMIF($G$44:$G$2199,R52,$E$44:$E$2199) -> 0 | R52: =D!$I$234 -> 8903.2665
B53: >bekisting poer | D53: triplek & kaso | E53: 0 | F53: m² | G53: 0 | H53: 0 | I53: =G53+H53 -> 0 | J53: =E53*G53 -> 0 | K53: =E53*H53 -> 0 | L53: =J53+K53 -> 0 | P53: Ø 8 | Q53: =SUMIF($G$44:$G$2199,R53,$E$44:$E$2199) -> 0 | R53: =D!$I$225 -> 9105.3285
A54: =A48+1 -> 4 | B54: Pemasangan Tiang Strauss Pile | D54: T= 12 M | E54: ='PONDASI DAN SLOOF'!$O$19 -> 0 | F54: titik | G54: 0 | H54: 0 | I54: =G54+H54 -> 0 | J54: =E54*G54 -> 0 | K54: =E54*H54 -> 0 | L54: =J54+K54 -> 0 | P54: site mix k300 | Q54: =SUMIF($G$44:$G$2199,R54,$E$44:$E$2199) -> 0 | R54: =D!$I$189 -> 1119202
A55: =A54+1 -> 5 | B55: Sloof | G55: 0 | H55: 0 | P55: site mix k125 | Q55: =SUMIF($G$44:$G$2199,R55,$E$44:$E$2199) -> 0 | R55: =D!$I$134 -> 892522.86
B56: >beton sloof | D56: beton site mix dengan mutu beton K-300 | E56: =1.1*BTN!$D$114 -> 42.372 | F56: m³ | G56: 0 | H56: 0 | I56: =G56+H56 -> 0 | J56: =E56*G56 -> 0 | K56: =E56*H56 -> 0 | L56: =J56+K56 -> 0 | P56: ready mix k300 | Q56: =SUMIF($G$44:$G$2199,R56,$E$44:$E$2199) -> 0 | R56: =D!$I$216 -> 1063000
B57: >tulangan sloof | G57: 0 | H57: 0 | P57: wiremesh | Q57: =SUMIF($G$44:$G$2199,R57,$E$44:$E$2199) -> 0 | R57: =D!$I$17 -> 55169.837
C58: - | D58: Tulangan Utama Besi Beton D 16 mm | E58: =1.1*BTN!$D$123 -> 6576.592 | F58: kg | G58: 0 | H58: 0 | I58: =G58+H58 -> 0 | J58: =E58*G58 -> 0 | K58: =E58*H58 -> 0 | L58: =J58+K58 -> 0 | P58: bondex | Q58: =SUMIF($G$44:$G$2199,R58,$E$44:$E$2199) -> 0 | R58: =D!$I$124 -> 115280.68
C59: - | D59: Tulangan Utama Besi Beton D 10 mm | E59: =1.1*BTN!$I$123 -> 52.84488 | F59: kg | G59: 0 | H59: 0 | I59: =G59+H59 -> 0 | J59: =E59*G59 -> 0 | K59: =E59*H59 -> 0 | L59: =J59+K59 -> 0 | P59: bekisting balok | Q59: =SUMIF($G$44:$G$2199,R59,$E$44:$E$2199) -> 0 | R59: =D!$I$74 -> 233806.25
C60: - | D60: Tulangan Sengkang besi beton Ø 10 mm | E60: =1.1*BTN!R123 -> 865.68864 | F60: kg | G60: 0 | H60: 0 | I60: =G60+H60 -> 0 | J60: =E60*G60 -> 0 | K60: =E60*H60 -> 0 | L60: =J60+K60 -> 0 | P60: bekisting kolom | Q60: =SUMIF($G$44:$G$2199,R60,$E$44:$E$2199) -> 0 | R60: =D!$I$61 -> 196006.25
C61: - | D61: Tulangan Sengkang besi beton Ø 8 mm | E61: =1.1*BTN!R122 -> 0 | F61: kg | G61: 0 | H61: 0 | I61: =G61+H61 -> 0 | J61: =E61*G61 -> 0 | K61: =E61*H61 -> 0 | L61: =J61+K61 -> 0 | P61: bekisting kolom | Q61: =SUMIF($G$44:$G$2199,R61,$E$44:$E$2199) -> 0 | R61: =D!$I$61 -> 196006.25
B62: >bekisting sloof | D62: tripleks dengan kaso | E62: =BTN!$D$130 -> 405.6 | F62: m² | G62: 0 | H62: 0 | I62: =G62+H62 -> 0 | J62: =E62*G62 -> 0 | K62: =E62*H62 -> 0 | L62: =J62+K62 -> 0 | P62: bekisting lantai | Q62: =SUMIF($G$44:$G$2199,R62,$E$44:$E$2199) -> 0 | R62: =D!$I$87 -> 349150
A63: =A55+1 -> 6 | B63: Kolom struktur | G63: 0 | H63: 0 | P63: bekisting DINDING | Q63: =SUMIF($G$44:$G$2199,R63,$E$44:$E$2199) -> 0 | R63: =D!$I$114 -> 238650
B64: >beton kolom | D64: beton site mix dengan mutu beton K-300 | E64: =1.1*BTN!$E$152 -> 69.344413 | F64: m³ | G64: 0 | H64: 0 | I64: =G64+H64 -> 0 | J64: =E64*G64 -> 0 | K64: =E64*H64 -> 0 | L64: =J64+K64 -> 0
B65: >tulangan kolom | G65: 0 | H65: 0
C66: - | D66: Tulangan Utama Besi Beton D 16 mm | E66: =1.1*BTN!$H$180 -> 6377.7648 | F66: kg | G66: 0 | H66: 0 | I66: =G66+H66 -> 0 | J66: =E66*G66 -> 0 | K66: =E66*H66 -> 0 | L66: =J66+K66 -> 0
C67: - | D67: Tulangan Utama besi beton D 13 mm | E67: =1.1*BTN!$I$180 -> 0 | F67: kg | G67: 0 | H67: 0 | I67: =G67+H67 -> 0 | J67: =E67*G67 -> 0 | K67: =E67*H67 -> 0 | L67: =J67+K67 -> 0
C68: - | D68: Tulangan Utama besi beton D 10 mm | E68: =1.1*BTN!$K$180 -> 0 | F68: kg | G68: 0 | H68: 0 | I68: =G68+H68 -> 0 | J68: =E68*G68 -> 0 | K68: =E68*H68 -> 0 | L68: =J68+K68 -> 0
C69: - | D69: Tulangan Utama besi beton Ø 12 mm | E69: =1.1*BTN!$J$180 -> 2137.7444 | F69: kg | G69: 0 | H69: 0 | I69: =G69+H69 -> 0 | J69: =E69*G69 -> 0 | K69: =E69*H69 -> 0 | L69: =J69+K69 -> 0
C70: - | D70: Tulangan Sengkang besi beton Ø 10 mm | E70: =1.1*BTN!$R$180 -> 3673.5419 | F70: kg | G70: 0 | H70: 0 | I70: =G70+H70 -> 0 | J70: =E70*G70 -> 0 | K70: =E70*H70 -> 0 | L70: =J70+K70 -> 0
C71: - | D71: Tulangan Sengkang besi beton Ø 8 mm | E71: =1.1*BTN!$R$179 -> 0 | F71: kg | G71: 0 | H71: 0 | I71: =G71+H71 -> 0 | J71: =E71*G71 -> 0 | K71: =E71*H71 -> 0 | L71: =J71+K71 -> 0
B72: >bekisting kolom | D72: tripleks dengan kaso | E72: =BTN!$E$207 -> 874.6 | F72: m² | G72: 0 | H72: 0 | I72: =G72+H72 -> 0 | J72: =E72*G72 -> 0 | K72: =E72*H72 -> 0 | L72: =J72+K72 -> 0
B73: >Baja WF | D73: Baja WF 250x125x6x9 mm | E73: =0*1.1 -> 0 | F73: m' | G73: 0 | H73: 0 | I73: =G73+H73 -> 0 | J73: =E73*G73 -> 0 | K73: =E73*H73 -> 0 | L73: =J73+K73 -> 0
A74: =A63+1 -> 7 | B74: Kolom Praktis | G74: 0 | H74: 0
B75: >beton kolom | D75: beton site mix dengan mutu beton K-125 | E75: =1.1*BTN!$E$157 -> 10.069538 | F75: m³ | G75: 0 | H75: 0 | I75: =G75+H75 -> 0 | J75: =E75*G75 -> 0 | K75: =E75*H75 -> 0 | L75: =J75+K75 -> 0
B76: >tulangan kolom | G76: 0 | H76: 0
C77: - | D77: Tulangan Utama besi beton D 10 mm | E77: =1.1*BTN!$F$186 -> 1109.8868 | F77: kg | G77: 0 | H77: 0 | I77: =G77+H77 -> 0 | J77: =E77*G77 -> 0 | K77: =E77*H77 -> 0 | L77: =J77+K77 -> 0
C78: - | D78: Tulangan Sengkang besi beton Ø 8 mm | E78: =1.1*BTN!$Q$186 -> 537.042 | F78: kg | G78: 0 | H78: 0 | I78: =G78+H78 -> 0 | J78: =E78*G78 -> 0 | K78: =E78*H78 -> 0 | L78: =J78+K78 -> 0
B79: >bekisting kolom | D79: tripleks dengan kaso | E79: =BTN!$E$214 -> 244.11 | F79: m² | G79: 0 | H79: 0 | I79: =G79+H79 -> 0 | J79: =E79*G79 -> 0 | K79: =E79*H79 -> 0 | L79: =J79+K79 -> 0
A80: =A74+1 -> 8 | B80: Cor Tangga | G80: 0 | H80: 0
B81: >beton Tangga | D81: beton site mix dengan mutu beton K-300 | E81: =1.1*BTN!$E$224 -> 0 | F81: m³ | G81: 0 | H81: 0 | I81: =G81+H81 -> 0 | J81: =E81*G81 -> 0 | K81: =E81*H81 -> 0 | L81: =J81+K81 -> 0
B82: >tulangan Tangga | G82: 0 | H82: 0
C83: - | D83: Tulangan Pendek besi beton Ø 12 mm | E83: =1.1*BTN!$G$255 -> 0 | F83: kg | G83: 0 | H83: 0 | I83: =G83+H83 -> 0 | J83: =E83*G83 -> 0 | K83: =E83*H83 -> 0 | L83: =J83+K83 -> 0
C84: - | D84: Tulangan Panjang besi beton Ø 8 mm | E84: =1.1*BTN!$G$256 -> 0 | F84: kg | G84: 0 | H84: 0 | I84: =G84+H84 -> 0 | J84: =E84*G84 -> 0 | K84: =E84*H84 -> 0 | L84: =J84+K84 -> 0
B85: >bekisting Tangga | D85: tripleks dengan kaso | E85: =BTN!$D$265 -> 0 | F85: m² | G85: 0 | H85: 0 | I85: =G85+H85 -> 0 | J85: =E85*G85 -> 0 | K85: =E85*H85 -> 0 | L85: =J85+K85 -> 0
A86: =A80+1 -> 9 | B86: Cor meja dapur | G86: 0 | H86: 0
B87: >beton Meja dapur | D87: beton site mix dengan mutu beton K-125 | E87: =1.1*BTN!$D$269 -> 0.41195 | F87: m³ | G87: 0 | H87: 0 | I87: =G87+H87 -> 0 | J87: =E87*G87 -> 0 | K87: =E87*H87 -> 0 | L87: =J87+K87 -> 0
B88: >tulangan Meja dapur | G88: 0 | H88: 0
C89: - | D89: Tulangan Pendek besi beton Ø 10 mm | E89: =1.1*BTN!$F$275 -> 15.9588 | F89: kg | G89: 0 | H89: 0 | I89: =G89+H89 -> 0 | J89: =E89*G89 -> 0 | K89: =E89*H89 -> 0 | L89: =J89+K89 -> 0
C90: - | D90: Tulangan Panjang besi beton Ø 10 mm | E90: =1.1*BTN!$F$276 -> 18.073 | F90: kg | G90: 0 | H90: 0 | I90: =G90+H90 -> 0 | J90: =E90*G90 -> 0 | K90: =E90*H90 -> 0 | L90: =J90+K90 -> 0
B91: >bekisting Meja Dapur | D91: tripleks dengan kaso | E91: =BTN!$D$281 -> 4.28 | F91: m² | G91: 0 | H91: 0 | I91: =G91+H91 -> 0 | J91: =E91*G91 -> 0 | K91: =E91*H91 -> 0 | L91: =J91+K91 -> 0
A92: =A86+1 -> 10 | B92: Balok Kongliong diatas kusen | G92: 0 | H92: 0
B93: >beton kongliong | D93: beton site mix dengan mutu beton K-125 | E93: 2.025 | F93: m³ | G93: 0 | H93: 0 | I93: =G93+H93 -> 0 | J93: =E93*G93 -> 0 | K93: =E93*H93 -> 0 | L93: =J93+K93 -> 0
B94: >tulangan kongliong | G94: 0 | H94: 0
C95: - | D95: Tulangan Utama besi beton Ø 10 mm | E95: =1.1*BTN!$J$288 -> 245.98376 | F95: kg | G95: 0 | H95: 0 | I95: =G95+H95 -> 0 | J95: =E95*G95 -> 0 | K95: =E95*H95 -> 0 | L95: =J95+K95 -> 0
C96: - | D96: Tulangan Sengkang besi beton Ø 8 mm | E96: =1.1*BTN!$P$288 -> 83.31708 | F96: kg | G96: 0 | H96: 0 | I96: =G96+H96 -> 0 | J96: =E96*G96 -> 0 | K96: =E96*H96 -> 0 | L96: =J96+K96 -> 0
B97: >bekisting kongliong | D97: tripleks dengan kaso | E97: =BTN!$D$300 -> 40.5765 | F97: m² | G97: 0 | H97: 0 | I97: =G97+H97 -> 0 | J97: =E97*G97 -> 0 | K97: =E97*H97 -> 0 | L97: =J97+K97 -> 0
A98: =A92+1 -> 11 | B98: Kanopi + Sirip + Listplank | G98: 0 | H98: 0 | I98: =G98+H98 -> 0 | J98: =E98*G98 -> 0 | K98: =E98*H98 -> 0 | L98: =J98+K98 -> 0
B99: >beton balok kanopi | D99: beton site mix dengan mutu beton K-125 | E99: 1.725 | F99: m³ | G99: 0 | H99: 0 | I99: =G99+H99 -> 0 | J99: =E99*G99 -> 0 | K99: =E99*H99 -> 0 | L99: =J99+K99 -> 0
B100: >tulangan balok kanopi | G100: 0 | H100: 0 | I100: =G100+H100 -> 0 | J100: =E100*G100 -> 0 | K100: =E100*H100 -> 0 | L100: =J100+K100 -> 0
C101: - | D101: Tulangan Utama besi beton Ø 10 mm | E101: =1.1*BTN!$J$310 -> 117.68592 | F101: kg | G101: 0 | H101: 0 | I101: =G101+H101 -> 0 | J101: =E101*G101 -> 0 | K101: =E101*H101 -> 0 | L101: =J101+K101 -> 0
C102: - | D102: Tulangan Sengkang besi beton Ø 8 mm | E102: =1.1*BTN!$P$310 -> 68.33376 | F102: kg | G102: 0 | H102: 0 | I102: =G102+H102 -> 0 | J102: =E102*G102 -> 0 | K102: =E102*H102 -> 0 | L102: =J102+K102 -> 0
...

Sheet HARGA SATUAN PEKERJAAN
B2: DAFTAR HARGA SATUAN PEKERJAAN
B4: NO | C4: URAIAN PEKERJAAN | F4: HARGA (Rp)
B5: A. | C5: PEKERJAAN PERSIAPAN
B6: 1 | C6: =PSP!C6 -> 1 M' Pagar Sementara Seng Gelombang Tinggi 2 m | F6: =PSP!H20 -> 340923
B7: =B6+1 -> 2 | C7: =PSP!C21 -> 1 M2 Pengukuran Dan Pasang Bouwplank | F7: =PSP!H30 -> 72542
B8: =B7+1 -> 3 | C8: =PSP!C31 -> 1 M2 Pembuatan Kantor Sementara dgn Lantai Diplester | F8: =PSP!H52 -> 2554313
B9: =B8+1 -> 4 | C9: =PSP!C53 -> 1 M2 Pembuatan Gudang Semen dan Alat-alat | F9: =PSP!H66 -> 2191170
B10: =B9+1 -> 5 | C10: =PSP!C67 -> 1 M2 Pembuatan Bedeng Buruh | F10: =PSP!H80 -> 2010466
B11: =B10+1 -> 6 | C11: =PSP!C81 -> 1 M2 Membersihkan Lapangan dan Perataan | F11: =PSP!H85 -> 22600
B12: =B11+1 -> 7 | C12: =PSP!C86 -> 1 M3 Bongkaran Beton Bertulang | F12: =PSP!H90 -> 966652
B13: =B12+1 -> 8 | C13: =PSP!C91 -> 1 M3 Bongkaran Dinding Tembok Bata Merah | F13: =PSP!H95 -> 912652
B14: =B13+1 -> 9 | C14: =PSP!C96 -> 1 M2 Steiger Werk / perancah dari Bambu | F14: =PSP!H104 -> 70610
B16: B. | C16: PEKERJAAN TANAH
B17: 1 | C17: =B!C6 -> 1 M3 Galian Tanah Biasa sedalam 1 m | F17: =B!H10 -> 61600
B18: =B17+1 -> 2 | C18: =B!C11 -> 1 M3 Galian Tanah Biasa Sedalam 2 m | F18: =B!H15 -> 80896
B19: =B18+1 -> 3 | C19: =B!C16 -> 1 M1 Galian Tanah Manual Strauspile dia - 30 cm | F19: =B!H19 -> 75000
B20: =B19+1 -> 4 | C20: =B!C20 -> 1 M1 Galian Tanah mesin minicrane Strauspile dia - 30 cm | F20: =B!H23 -> 120000
B21: =B20+1 -> 5 | C21: =B!C24 -> 1 M3 Pembuangan Tanah sejauh 150 m | F21: =B!H28 -> 79176
B22: =B21+1 -> 6 | C22: =B!C29 -> 1 M3 Urugan Kembali | F22: =B!H33 -> 29532
B23: =B22+1 -> 7 | C23: =B!C34 -> 1 M3 Pemadatan Tanah | F23: =B!H38 -> 77000
B24: =B23+1 -> 8 | C24: =B!C39 -> 1 M3 Urugaan Pasir | F24: =B!H44 -> 246600
B25: =B24+1 -> 9 | C25: =B!C45 -> 1 M3 Urugan Sirtu | F25: =B!H50 -> 386500
B26: =B25+1 -> 10 | C26: =B!C51 -> 1 M3 Urugan Tanah Pilihan | F26: =B!H56 -> 344500
B28: C. | C28: PEKERJAAN PONDASI
B29: 1 | C29: ='C'!C6 -> 1 M3 Pasang Pondasi Batu kali adk 1pc : 5ps | F29: ='C'!H15 -> 975024
B30: =B29+1 -> 2 | C30: ='C'!C16 -> 1 M3 Pasang Pondasi Batu Kosong (aanstamping) | F30: ='C'!H24 -> 609630
B31: =B30+1 -> 3 | C31: ='C'!C25 -> 1 Titik Pemasangan Straus pile (30x30) cm kedalaman 3 meter | F31: ='C'!H37 -> 705971
B32: =B31+1 -> 4 | C32: ='C'!C38 -> 1 Titik Pemasangan Straus pile (30x30) cm kedalaman 6 meter | F32: ='C'!H50 -> 1411941
B33: =B32+1 -> 5 | C33: ='C'!C51 -> 1 Titik Pemasangan Straus pile (30x30) cm kedalaman 12,5 meter | F33: ='C'!$H$63 -> 2965077
B34: =B33+1 -> 6 | C34: ='C'!C64 -> 1 M' Memancang Tiang Pancang Beton Tulang | F34: ='C'!H69 -> 132017
B35: =B34+1 -> 7 | C35: ='C'!C70 -> 1 Buah Memotong Tiang Pancang (40x40) cm Beton Tulang | F35: ='C'!H76 -> 674217
B36: =B35+1 -> 8 | C36: ='C'!C77 -> 1 M' Menyambung Tiang Pancang Beton Bertulang | F36: ='C'!H86 -> 710798
B37: =B36+1 -> 9 | C37: ='C'!C87 -> 1 M3 Pasang Rollag Batu Bata Press 1 Pc : 5 Ps | F37: ='C'!$H$96 -> 988991
B38: =B37+1 -> 10 | C38: ='C'!C97 -> 1 Buah Tiang Pancang 20X20 cm ( 6 meter ) | F38: ='C'!H100 -> 147000
B40: D. | C40: PEKERJAAN BETON
B41: 1 | C41: =D!C6 -> 1 Kg Pembesian Dengan Besi Polos/ulir | F41: =D!H14 -> 11611
B42: =B41+1 -> 2 | C42: =D!C15 -> 1 M2 Pembesian Weirmesh M8 | F42: =D!H22 -> 82570
B43: =B42+1 -> 3 | C43: =D!C23 -> 1 M2 Pasang Bekesting Untuk Pondasi Pile Cap | F43: =D!H33 -> 173613
B44: =B43+1 -> 4 | C44: =D!C34 -> 1 M2 Pasang Bekesting Untuk Pondasi | F44: =D!H44 -> 173613
B45: =B44+1 -> 5 | C45: =D!C45 -> 1 M2 Pasang Bekisting Untuk Sloof | F45: =D!H55 -> 175256
B46: =B45+1 -> 6 | C46: =D!C56 -> 1 M2 Pasang Bekesting Untuk Kolom | F46: =D!H67 -> 298356
B47: =B46+1 -> 7 | C47: =D!C68 -> 1 M2 Pasang Bekesting Untuk Balok | F47: =D!H80 -> 336156
B48: =B47+1 -> 8 | C48: =D!C81 -> 1 M2 Pasang Bekesting Untuk Lantai | F48: =D!H93 -> 451500
B49: =B48+1 -> 9 | C49: =D!C94 -> 1 M2 Pasang Bekesting Untuk Tangga | F49: =D!H106 -> 308856
B50: =B49+1 -> 10 | C50: =D!C107 -> 1 M2 Pasang Bekesting Untuk Dinding | F50: =D!H120 -> 341000
B51: =B50+1 -> 11 | C51: =D!C121 -> 1 M2 Pasang Bondex | F51: =D!H129 -> 128681
B52: =B51+1 -> 12 | C52: =D!C130 -> 1 M3 Membuat Beton Cor Mutu K-125 | F52: =D!H140 -> 1180623
B53: =B52+1 -> 13 | C53: =D!C141 -> 1 M3 Membuat Beton Cor Mutu K-200 | F53: =D!H151 -> 1285360
B54: =B53+1 -> 14 | C54: =D!C152 -> 1 M3 Membuat Beton Cor Mutu K-225 | F54: =D!H162 -> 1354727
B55: =B54+1 -> 15 | C55: =D!C163 -> 1 M3 Membuat Beton Cor Mutu K-250 | F55: =D!H173 -> 1370720
B56: =B55+1 -> 16 | C56: =D!C174 -> 1 M3 Membuat Beton Cor Mutu K-275 | F56: =D!H184 -> 1399025
B57: =B56+1 -> 17 | C57: =D!C185 -> 1 M3 Membuat Beton Cor Mutu K-300 | F57: =D!H195 -> 1407302
B58: =B57+1 -> 18 | C58: =D!C196 -> 1 M3 Ready mix Beton Cor Mutu K-200 | F58: =D!H204 -> 1256800
B59: =B58+1 -> 19 | C59: =D!C205 -> 1 M3 Ready mix Beton Cor Mutu K-250 | F59: =D!H213 -> 1298800
B60: =B59+1 -> 20 | C60: =D!C214 -> 1 M3 Ready mix Beton Cor Mutu K-300 | F60: =D!H222 -> 1351300
B61: =B60+1 -> 21 | C61: =D!C223 -> 1 Kg Pembesian Dengan Besi Polos diameter 8 mm | F61: =D!H231 -> 11350
B62: =B61+1 -> 22 | C62: =D!C232 -> 1 Kg Pembesian Dengan Besi Polos diameter 10 mm | F62: =D!H240 -> 11148
B63: =B62+1 -> 23 | C63: =D!C241 -> 1 Kg Pembesian Dengan Besi Polos diameter 12 mm | F63: =D!H249 -> 10996
B64: =B63+1 -> 24 | C64: =D!C250 -> 1 Kg Pembesian Dengan Besi Ulir diameter 10 mm | F64: =D!H258 -> 12042
B65: =B64+1 -> 25 | C65: =D!C259 -> 1 Kg Pembesian Dengan Besi Ulir diameter 13 mm | F65: =D!H267 -> 11611
B66: =B65+1 -> 26 | C66: =D!C268 -> 1 Kg Pembesian Dengan Besi Ulir diameter 16 mm | F66: =D!H276 -> 11525
B67: =B66+1 -> 27 | C67: =D!C277 -> 1 Kg Pembesian Dengan Besi Ulir diameter 19 mm | F67: =D!H285 -> 19326
B68: 28 | C68: =D!$C$292 -> 1 m' Pemasangan baja WF 250 x 125 x 6 x 9 mm | F68: =D!$H$297 -> 452837
B69: 29 | C69: =D!$C$298 -> 1 m' Pemasangan baja WF 200 x 100 x 5,7 x 8 mm | F69: =D!$H$303 -> 235725
B70: =B69+1 -> 30 | C70: =D!$C$304 -> 1 m' Pemasangan baja WF 150 x 75 x 5 x 7 mm | F70: =D!$H$309 -> 214828
B72: E. | C72: PEKERJAAN PASANGAN DINDING
B73: 1 | C73: =E!C6 -> 1 M2 Pasang Bata Merah Tebal 1 Bata, 1pc : 3ps (TRASRAM) | F73: =E!H15 -> 355011
B74: =B73+1 -> 2 | C74: =E!C16 -> 1 M2 Pasang Bata Merah Tebal 1 Bata, 1pc : 5ps | F74: =E!H25 -> 341592
B75: =B74+1 -> 3 | C75: =E!C26 -> 1 M2 Pasang Bata Merah Tebal 1/2 Bata, 1pc : 3ps (TRASRAM) | F75: =E!H35 -> 172315
B76: =B75+1 -> 4 | C76: =E!C36 -> 1 M2 Pasang Bata Merah Tebal 1/2 Bata, 1pc : 5ps | F76: =E!H45 -> 166510
B77: =B76+1 -> 5 | C77: =E!C46 -> 1 M2 Pasang Dinding Roster Beton 20 x 20 adk 1pc : 4ps | F77: =E!H55 -> 323810
B78: =B77+1 -> 6 | C78: =E!C56 -> 1 M2 Pasang Dinding BATA RINGAN (10cm) | F78: =E!H64 -> 105035
B79: =B78+1 -> 7 | C79: =E!C65 -> 1 M2 Pasang Dinding BATA RINGAN (7cm) | F79: =E!H73 -> 87851
B80: =B79+1 -> 8 | C80: 1 M2 Dinding Granite Niro 80x80 | F80: =E!$H$117 -> 352056
B81: =B80+1 -> 9 | C81: =E!C74 -> 1 M2 Dinding Kamar Mandi Keramik Dinding 30x60 Ex. Roman dBritannia Rhombus W63843R | F81: =E!H84 -> 287616
B82: =B81+1 -> 10 | C82: =E!C85 -> 1 M2 Dinding Keramik Kamar Mandi dan area service 30 x 30 cm Setara Mulia | F82: =E!H95 -> 242170
B83: =B82+1 -> 11 | C83: =E!C96 -> 1 M2 Dinding Keramik 25x40 Ex. Gemilang Fiorentina Beige | F83: =E!H106 -> 218806
B84: =B83+1 -> 12 | C84: =E!C118 -> 1 M2 Dinding Keramik 30x60 Ex. Habitat Brescia Gris | F84: =E!H128 -> 290306
B85: =B84+1 -> 13 | C85: =E!C140 -> 1 M2 Dinding WPC 1,1 cm x 15 cm x 290 cm setara WPC DECK Type KA 150 S10 | F85: =E!H149 -> 588250
B86: =B85+1 -> 14 | C86: =E!C150 -> 1 M2 Dinding Batu Alam Susun Sirih | F86: =E!H159 -> 309155
B87: =B86+1 -> 15 | C87: =E!C160 -> 1 M2 Dinding Batu Paras Yogyakarta | F87: =E!H169 -> 282905
B88: =B87+1 -> 16 | C88: =E!C170 -> 1 M2 Dinding Batu Palimanan Putih | F88: =E!H179 -> 327530
B89: =B88+1 -> 17 | C89: =E!C180 -> 1 M2 Wall paper | F89: =E!H188 -> 131353
B90: =B89+1 -> 18 | C90: =E!C189 -> 1 M2 Dinding Pemisah GRC t = 4 mm + rangka besi hollow | F90: =E!H202 -> 89299
B91: =B90+1 -> 19 | C91: =E!C203 -> 1 M2 Dinding Pemisah Gypsum t = 9 mm + rangka besi hollow | F91: =E!H216 -> 79727
B92: =B91+1 -> 20 | C92: =E!C217 -> 1 M2 Dinding Pemisah Plywood t = 9 mm + rangka besi hollow | F92: =E!H228 -> 81544
B93: =B92+1 -> 21 | C93: =E!C229 -> 1 M2 Pasang Dinding Glass Block 20 x 20 adk 1pc : 4ps | F93: =E!H238 -> 661310
B94: =B93+1 -> 22 | C94: =E!C271 -> 1 M2 Dinding Batu Templek | F94: =E!$H$280 -> 256655
B95: =B94+1 -> 23 | C95: =E!C334 -> 1 M2 Panel Wallpaper Dinding 3D | F95: =E!$H$342 -> 421100
B96: =B95+1 -> 24 | C96: =E!C302 -> 1 M2 Dinding Batu Alam Candi Hitam Yogyakarta | F96: =E!$H$311 -> 252088
B97: =B96+1 -> 25 | C97: =E!C312 -> 1 M2 Dinding Keramik 15x80 Motif Kayu Ex. Torch 158016 | F97: =E!$H$322 -> 318306
B98: =B97+1 -> 26 | C98: =E!C323 -> 1 M2 Dinding Keramik 30x60 Motif Marmer Hitam Ex. Roman dPortoro Black W63456R | F98: =E!$H$333 -> 342750
B100: F. | C100: PEKERJAAN PLESTERAN DAN SIARAN
B101: 1 | C101: =F!C6 -> 1 M2 Plesteran adk. 1pc : 3ps Tebal 15 mm | F101: =F!H14 -> 84394
B102: =B101+1 -> 2 | C102: =F!C15 -> 1 M2 Acian Plesteran | F102: =F!H22 -> 46243
B104: G. | C104: PEKERJAAN ATAP
B105: 1 | C105: =G!C6 -> 1 M2 Pasang Atap Genteng Keramik setara Kanmuri Flat | F105: =G!H13 -> 185978
B106: 2 | C106: =G!C14 -> 1 M2 Pasang Atap Genteng Keramik Berglazur setara Kanmuri Milano | F106: =G!H21 -> 178890
B107: 3 | C107: =G!C22 -> 1 M2 Pasang Atap buka tutup Lovera | F107: =G!H29 -> 3815040
B108: 4 | C108: =G!C30 -> 1 M' Pasang Genteng Bubung Kanmuri Flat | F108: =G!H37 -> 124706
...

Sheet KEB. MATERIAL
A1: RENCANA ANGGARAN BIAYA (RAB)
A2: Tipe | B2: ='REKAP '!C7 -> : Klasik Modern
A3: LB | B3: =" : "&'REKAP '!M11&" m2" -> : 481 m2
C5: RAB
A6: No | B6: Nama Bahan Material | C6: Jumlah | D6: Satuan | E6: Harga | F6: Jumlah
E7: Satuan | F7: Harga
A9: I | B9: HARGA MATERIAL
A10: A | B10: PEKERJAAN PASANGAN, PONDASI DAN
B11: BETON BERTULANG
A12: 1 | B12: Batu Bata Merah | C12: =E!$E$345+M!$K$94 -> 1050 | D12: bh | E12: 0 | F12: =C12*E12 -> 0 | G12: ok
B13: Bata Ringan Lokal T 10 cm | C13: =E!$K$57 -> 0 | D13: m3 | E13: 0 | F13: =C13*E13 -> 0
A14: 2 | B14: Batu Belah | C14: ='C'!$K$7+'C'!$K$17 -> 140.1345 | D14: m3 | E14: 0 | F14: =C14*E14 -> 0
A15: 3 | B15: Split Beton 2/3 | C15: =PSP!$K$11+'C'!$E$110+D!$E$315 -> 1.818 | D15: m3 | E15: 0 | F15: =C15*E15 -> 0
A16: 4 | B16: Besi Beton Polos 8mm | C16: =('C'!$K$53+D!K224)/4.8 -> 0 | D16: btg | E16: 0 | F16: =C16*E16 -> 0
A17: 5 | B17: Besi Beton Polos 10mm | C17: =D!$K$233/7.44 -> 0 | D17: btg | E17: 0 | F17: =C17*E17 -> 0
A18: 6 | B18: Besi Beton Polos 12mm | C18: =D!$K$242/10.68 -> 0 | D18: btg | E18: 0 | F18: =C18*E18 -> 0
A19: 7 | B19: Besi Beton Ulir D 10 mm | C19: =D!$K$251/7.44 -> 0 | D19: btg | E19: 0 | F19: =C19*E19 -> 0
A20: 7 | B20: Besi Beton Ulir D 13 mm | C20: =D!$K$260/12.48 -> 0 | D20: btg | E20: 0 | F20: =C20*E20 -> 0
A21: 8 | B21: Besi Beton Ulir D 16 mm | C21: =('C'!$K$52+D!$K$269+'C'!$K$26)/18.96 -> 0 | D21: btg | E21: 0 | F21: =C21*E21 -> 0
A22: 9 | B22: Weirmesh M8 | C22: =D!$K$16 -> 0 | D22: m2 | E22: 0 | F22: =C22*E22 -> 0
A23: 9 | B23: Plywood Tebal 9 mm | C23: =D!$E$320 -> 145.845 | D23: lbr | E23: 0 | F23: =C23*E23 -> 0
A24: 10 | B24: Dolken Ø-8-10/4m | C24: =PSP!$K$7+D!$E$321 -> 274.7 | D24: btg | E24: 0 | F24: =C24*E24 -> 0
A25: 11 | B25: Minyak Begisting | C25: =D!$E$318 -> 63.06 | D25: ltr | E25: 0 | F25: =C25*E25 -> 0
A26: 13 | B26: Bondex | C26: =D!$K$122 -> 0 | D26: m2 | E26: 0 | F26: =C26*E26 -> 0
A27: 14 | B27: Formite/spacer | C27: =D!$E$322 -> 0 | D27: bh | E27: 0 | F27: =C27*E27 -> 0
A28: 12 | B28: Kawat Bendrat | C28: ='C'!$E$109+D!$E$312 -> 0 | D28: kg | E28: 0 | F28: =C28*E28 -> 0
A29: 16 | B29: Kawat Las | C29: =D!$K$17+D!$K$123+G!$K$241+K!$K$153+K!$K$167+K!$K$182 -> 0 | D29: kg | E29: 0 | F29: =C29*E29 -> 0
B30: Kawat Las Nikko | C30: ='C'!$K$80 -> 0 | D30: bh | E30: 0 | F30: =C30*E30 -> 0
A31: 13 | B31: Paku biasa 2"-5" | C31: =PSP!$K$13+PSP!$K$23+D!$E$317 -> 142.28 | D31: kg | E31: 0 | F31: =C31*E31 -> 0
B32: Paku Hak Panjang 15 cm | C32: =G!$K$151+G!$K$220+G!$K$229 -> 0 | D32: kg | E32: 0 | F32: =C32*E32 -> 0
A33: 14 | B33: Seng Gelombang | C33: =PSP!$K$9 -> 242.4 | D33: lbr | E33: 0 | F33: =C33*E33 -> 0
A34: 15 | B34: Meni Besi | C34: =PSP!$K$14 -> 90.9 | D34: kg | E34: 0 | F34: =C34*E34 -> 0
A35: 16 | B35: Pasir Beton | C35: =M!$K$99 -> 0 | D35: m3 | E35: 0 | F35: =C35*E35 -> 0
A36: 17 | B36: Pasir Beton Cilegon | C36: =PSP!$K$10+D!$E$314 -> 1.01 | D36: m3 | E36: 0 | F36: =C36*E36 -> 0
B37: Pasir Urug | C37: =M!$K$295+M!$K$401 -> 0.214 | D37: m3 | E37: 0 | F37: =C37*E37 -> 0
A38: 18 | B38: Pasir Urug Cilegon | C38: =B!$K$40+'C'!$K$18 -> 66.76245 | D38: m3 | E38: 0 | F38: =C38*E38 -> 0
A39: 19 | B39: Pasir Pasang Putih Rangkas | C39: ='C'!$E$105+E!$E$347+I!$E$252 -> 60.2904 | D39: m3 | E39: 0 | F39: =C39*E39 -> 0
B40: Urugan Kerikil 3/5 | C40: =M!$K$303 -> 0 | D40: m3 | E40: 0 | F40: =C40*E40 -> 0
B41: Tanah Urug Pilihan | C41: =B!$K$52 -> 0 | D41: m3 | E41: 0 | F41: =C41*E41 -> 0
A42: 24 | B42: Anti Rayap Tanah | C42: =BOQ!$E$1282 -> 0 | D42: m2 | E42: 0 | F42: =C42*E42 -> 0
B43: Pas Ijuk | C43: =M!$K$302 -> 0 | D43: kg | E43: 0 | F43: =C43*E43 -> 0
B44: HCL | C44: =I!$L$198 -> 0 | D44: ltr | E44: 0 | F44: =C44*E44 -> 0
B45: Opening Untuk kusen allumunium dan Kayu/PVC & Garasi | C45: 0 | D45: m1 | E45: 0 | F45: =C45*E45 -> 0
A46: 20 | B46: =BAHAN!F30 -> Semen Tiga Roda /50 kg | C46: =('C'!$E$104+D!$E$313+E!$E$346+F!$E$25+I!$E$251+M!$K$95)/50 -> 778.15676 | D46: zak | E46: 0 | F46: =C46*E46 -> 0
A47: 21 | B47: Semen Warna | C47: =E!$E$349+I!$E$253 -> 0 | D47: kg | E47: 0 | F47: =C47*E47 -> 0
B48: Semen MU perekat bata ringan | C48: =E!$K$58 -> 0 | D48: zak | E48: 0 | F48: =C48*E48 -> 0
B49: Beton K-250 Jaya Mix | C49: =D!$K$206 -> 0 | D49: m3 | E49: 0 | F49: =C49*E49 -> 0
A50: 27 | B50: Beton K-300 Jaya Mix | C50: =D!$K$215 -> 0 | D50: m3 | E50: 0 | F50: =C50*E50 -> 0
A51: 28 | B51: Sewa Pompa Beton | C51: =D!$K$216+D!$K$207 -> 0 | D51: m3 | E51: 0 | F51: =C51*E51 -> 0
B52: Crawler crane lengkap | C52: ='C'!$K$65 -> 0 | D52: jam | E52: ='C'!$G$65 -> 1078774 | F52: =C52*E52 -> 0
B53: Besi pelat | C53: ='C'!$K$78 -> 0 | D53: kg | E53: ='C'!$G$78 -> 7000 | F53: =C53*E53 -> 0
B54: Tiang Pancang 20X20 cm | C54: ='C'!$K$98 -> 0 | D54: m1 | E54: ='C'!$G$98 -> 176500 | F54: =C54*E54 -> 0
B55: TOTAL | F55: =SUM(F12:F54) -> 0 | G55: 1
A57: B | B57: PEKERJAAN KAYU UNTUK BEKISTING,
B58: RANGKA ATAP DAN PLAFOND
A59: 1 | B59: Kayu Balok 5/7/3 albasia | C59: =PSP!$K$12+PSP!$K$22 -> 16.968 | D59: m3 | E59: 0 | F59: =E59*C59 -> 0 | G59: ok
A60: 2 | B60: Kayu Papan albasia 2/20/3 | C60: =PSP!$K$24 -> 1.414 | D60: m3 | E60: 0 | F60: =E60*C60 -> 0
A61: 3 | B61: Balok Kayu 5/7 kelas III | C61: =D!$K$46+D!$K$57+D!$K$72+D!$K$85+D!$K$98+D!$K$111 -> 7.5228 | D61: m3 | E61: 0 | F61: =E61*C61 -> 0
A62: 4 | B62: Balok Kayu Kelas III | C62: =D!$K$69+D!$K$82+D!$K$95+D!$K$108 -> 0.333 | D62: m3 | E62: 0 | F62: =E62*C62 -> 0
A63: 5 | B63: Steger Alat Bantu Kerja | C63: =BOQ!$E$881+BOQ!$E$889 -> 8 | D63: ls | E63: 0 | F63: =E63*C63 -> 0
B64: TOTAL | F64: =SUM(F59:F63) -> 0 | G64: 1
A66: C | B66: PEKERJAAN KUSEN, PINTU DAN JENDELA | G66: ok
A67: 1 | B67: =BOQ!B498 -> Pemasangan P1 (Full Aksesoris) | C67: ='KUSEN PINTU'!H62 -> 1 | D67: unit | E67: 0 | F67: =C67*E67 -> 0
A68: 2 | B68: =BOQ!B499 -> Pemasangan P2 (Full Aksesoris) | C68: ='KUSEN PINTU'!H63 -> 2 | D68: unit | E68: 0 | F68: =C68*E68 -> 0
A69: 3 | B69: =BOQ!B500 -> Pemasangan P3 (Full Aksesoris) | C69: ='KUSEN PINTU'!H64 -> 1 | D69: unit | E69: 0 | F69: =C69*E69 -> 0
A70: 4 | B70: =BOQ!B501 -> Pemasangan P4 (Full Aksesoris) | C70: ='KUSEN PINTU'!H65 -> 1 | D70: unit | E70: 0 | F70: =C70*E70 -> 0
A71: 5 | B71: =BOQ!B502 -> Pemasangan P5 (Full Aksesoris) | C71: ='KUSEN PINTU'!H66 -> 1 | D71: unit | E71: 0 | F71: =C71*E71 -> 0
A72: 6 | B72: =BOQ!B503 -> Pemasangan P6 (Full Aksesoris) | C72: ='KUSEN PINTU'!H67 -> 1 | D72: unit | E72: 0 | F72: =C72*E72 -> 0
A73: 7 | B73: =BOQ!B504 -> Pemasangan P7 (Full Aksesoris) | C73: ='KUSEN PINTU'!H68 -> 6 | D73: unit | E73: 0 | F73: =C73*E73 -> 0
A74: 8 | B74: =BOQ!B505 -> Pemasangan P8 (Full Aksesoris) | C74: ='KUSEN PINTU'!H69 -> 3 | D74: unit | E74: 0 | F74: =C74*E74 -> 0
A75: 9 | B75: =BOQ!B506 -> Pemasangan P9 (Full Aksesoris) | C75: ='KUSEN PINTU'!H70 -> 9 | D75: unit | E75: 0 | F75: =C75*E75 -> 0
A76: 10 | B76: =BOQ!B507 -> Pemasangan P10 (Full Aksesoris) | C76: ='KUSEN PINTU'!H71 -> 0 | D76: unit | E76: 0 | F76: =C76*E76 -> 0
A77: 11 | B77: =BOQ!B508 -> Pemasangan P11 (Full Aksesoris) | C77: ='KUSEN PINTU'!H72 -> 0 | D77: unit | E77: 0 | F77: =C77*E77 -> 0
A78: 10 | B78: =BOQ!B509 -> Pemasangan J1 (Full Aksesoris) | C78: ='KUSEN PINTU'!H73 -> 2 | D78: unit | E78: 0 | F78: =C78*E78 -> 0
... A95: 29 | B95: =BOQ!B526 -> Pemasangan (Full Aksesoris) | C95: ='KUSEN PINTU'!H90 -> 0 | D95: unit | E95: 0 | F95: =C95*E95 -> 0
B96: TOTAL | F96: =SUM(F67:F95) -> 0 | G96: 1
A98: D | B98: PEKERJAAN KUNCI DAN ENGSEL | G98: ok
A99: 1 | B99: Kunci Tanam di Handle | C99: =BOQ!$E$622 -> 25 | D99: bh | E99: 0 | F99: =E99*C99 -> 0
A100: 2 | B100: Kunci Tanam di Samping | C100: =BOQ!$E$623 -> 0 | D100: bh | E100: 0 | F100: =E100*C100 -> 0
B101: Kunci Grendel Jendela | C101: =BOQ!$E$624 -> 62 | D101: bh | E101: 0 | F101: =E101*C101 -> 0
A102: 3 | B102: Kunci Allumunium Rambuncis | C102: =BOQ!$E$625 -> 0 | D102: bh | E102: 0 | F102: =E102*C102 -> 0
B103: Engsel Jendela Kupu-kupu | C103: =BOQ!$E$626 -> 102 | D103: ps | E103: 0 | F103: =E103*C103 -> 0
A104: 4 | B104: Engsel Jendela Casement | C104: =BOQ!$E$627 -> 0 | D104: ps | E104: 0 | F104: =E104*C104 -> 0
A105: 2 | B105: Engsel Pintu Kupu-kupu | C105: =BOQ!$E$628 -> 56 | D105: ps | E105: 0 | F105: =E105*C105 -> 0
B106: Kait Angin | C106: =BOQ!$E$629 -> 0 | D106: ps | E106: 0 | F106: =E106*C106 -> 0
B107: Door Closer | C107: =BOQ!$E$630 -> 0 | D107: bh | E107: 0 | F107: =E107*C107 -> 0
B108: Pegangan Pintu/Door Holder | C108: =BOQ!$E$631 -> 0 | D108: bh | E108: 0 | F108: =E108*C108 -> 0
A109: 6 | B109: Asesoris Sliding | C109: =BOQ!$E$632 -> 0 | D109: bh | E109: 0 | F109: =E109*C109 -> 0
A110: 3 | B110: Handle Pintu Single | C110: =BOQ!$E$633 -> 19 | D110: ps | E110: 0 | F110: =E110*C110 -> 0
A111: 4 | B111: Handle Pintu Double | C111: =BOQ!$E$634 -> 12 | D111: ps | E111: 0 | F111: =E111*C111 -> 0
B112: TOTAL | F112: =SUM(F99:F111) -> 0 | G112: 1
A114: E | B114: PEKERJAAN ATAP GENTENG
A115: 1 | B115: Aluminum foil / Sisalation | C115: =G!$K$133 -> 0 | D115: m2 | E115: 0 | F115: =SUM(C115*E115) -> 0
A116: 2 | B116: Genteng Bitumen | C116: =G!$K$210 -> 0 | D116: m2 | E116: 0 | F116: =SUM(C116*E116) -> 0 | G116: ok
B117: Genteng Kanmuri Flat | C117: =G!$K$7 -> 0 | D117: m2 | E117: 0 | F117: =SUM(C117*E117) -> 0 | G117: ok
B118: Nok Allumunium | C118: =G!$K$150 -> 0 | D118: lbr | E118: 0 | F118: =SUM(C118*E118) -> 0
A119: 1 | B119: Nok Bubungan Kanmuri Flat | C119: =G!$K$31 -> 229.03226 | D119: bh | E119: 0 | F119: =SUM(C119*E119) -> 0
B120: Nok Ujung | C120: 0 | D120: bh | E120: 0 | F120: =E120*C120 -> 0
B121: Nok 3 Arah | C121: =BOQ!$E$489 -> 0 | D121: bh | E121: 0 | F121: =E121*C121 -> 0
B122: Nok 3 Way | C122: =BOQ!$E$488 -> 0 | D122: bh | E122: 0 | F122: =E122*C122 -> 0
...

Sheet BAHAN
B2: DAFTAR HARGA SATUAN BAHAN BANGUNAN
B4: NO | C4: MATERIAL | D4: SAT | E4: HARGA (Rp) | F4: SPESIFIKASI | G4: GAMBAR
B5: A | C5: AGREGAT KASAR,BAHAN PEREKAT & BAHAN JADINYA
B6: 1 | C6: Pasir Urug | D6: m3 | E6: 170000
B7: 2 | C7: Tanah Urug Pilihan | D7: m3 | E7: 255000 | F7: Tanah Merah Campur
B8: 3 | C8: Sirtu | D8: m3 | E8: 290000
B9: 4 | C9: Pasir Pasang Putih Rangkas | D9: m3 | E9: 246000 | F9: Pasir Pasang
B10: 5 | C10: Pasir Beton | D10: m3 | E10: 345000 | F10: Pasir Hitam Cor Cilegon
B11: 6 | C11: Batu Gosok ( Apung ) | D11: kg | E11: 18500
B12: 7 | C12: Spilt Beton 1/2 | D12: m3 | E12: 297000 | F12: Batu Pecah ukuran 1/2 cm
B13: 8 | C13: Spilt Beton 2/3 | D13: m3 | E13: 297000 | F13: Batu Pecah ukuran 2/3 cm
B14: 9 | C14: Spilt Beton 3/5 | D14: m3 | E14: 297000 | F14: Batu Pecah ukuran 3/5 cm
B15: 10 | C15: Spilt Beton 5/7 | D15: m3 | E15: 297000 | F15: Batu Pecah ukuran 5/7 cm
B16: 11 | C16: Batu Belah Pondasi | D16: m3 | E16: 285000
B17: 12 | C17: Batu Tempel Hitam | D17: m2 | E17: 75000 | F17: Batu templek Garut
B18: 13 | C18: Batu Alam Tipe 1 | D18: m2 | E18: 125000 | F18: Uk 3x30 Batu Alam Cupang Merah
B19: 14 | C19: Batu Paras Jogja | D19: m2 | E19: 100000 | F19: Uk 20 x 40 Batu Paras Jogja Krem | K19: https://www.99.co/blog/indonesia/harga-batu-alam/
B20: 15 | C20: Koral Sikat | D20: kg | E20: 5000 | F20: Koral sikat Putih
B21: 16 | C21: Batu Candi Hitam Yogyakarta | D21: m2 | E21: 70650 | F21: Batu Candi Hitam Yogyakarta 15 X 30 CM
B22: 17 | C22: Bata Merah | D22: bh | E22: 1100 | F22: Bata Merah Pres 4x8x17 cm isi 95pcs dalam 1 m2
B23: 18 | C23: Bata Merah Expose Rustic / Bata tempel Rustic / Bata Tempel merah ( 20 cm X 5 cm X 1 cm ) isi 38 buah/box | D23: bh | E23: =68800/38 -> 1810.5263 | F23: Bata Merah Expose Rustic / Bata tempel Rustic / Bata Tempel merah
B24: 19 | C24: Bata Hebel 7.5 cm (111pcs) | D24: m3 | E24: 600000 | F24: Ex. Voscon 7.5x20x60
B25: 20 | C25: Bata Hebel 10 cm (83pcs) | D25: m3 | E25: 600000 | F25: Ex. Voscon 10x20x60
B26: 21 | C26: Roster Beton 20 x 20 | D26: bh | E26: 9500
B27: 22 | C27: Grass Blok 20 x 20 | D27: bh | E27: 60000 | F27: Grass Block lubang 5 tebal 6.5 cm
B28: 23 | C28: Paving Blok Natural 6 cm | D28: m2 | E28: 79000
B29: 24 | C29: Canstin Taman 40x20x10 | D29: m1 | E29: =(1/0.4)*17000 -> 42500
B30: 25 | C30: Semen PC /50 kg | D30: zak | E30: 75000 | F30: Semen Tiga Roda /50 kg
B31: 26 | C31: Semen Putih Tiga Roda 50kg | D31: zak | E31: 100000 | F31: Semen PC /50 kg
B32: 27 | C32: Semen MU perekat bata ringan | D32: zak | E32: 84000 | F32: Semen Perekat Bata ringan 40/kg Ex. Mortar Utama
B33: 28 | C33: Readymix Beton K350, Tanpa Pompa ( Selang ) | D33: m3 | E33: 890000 | F33: Ex. Jaya Mix slump 12 +- 2 cm
B34: 29 | C34: Readymix Beton K300, Tanpa Pompa ( Selang ) | D34: m3 | E34: 860000 | F34: Ex. Jaya Mix slump 12 +- 2 cm
B35: 30 | C35: Readymix Beton K250, Tanpa Pompa ( Selang ) | D35: m3 | E35: 810000 | F35: Ex. Jaya Mix slump 12 +- 2 cm
B36: 31 | C36: Readymix Beton K200, Tanpa Pompa ( Selang ) | D36: m3 | E36: 770000 | F36: Ex. Jaya Mix slump 12 +- 2 cm
B37: 32 | C37: Readymix Beton K175, Tanpa Pompa ( Selang ) | D37: m3 | E37: 750000 | F37: Ex. Jaya Mix slump 12 +- 2 cm
B38: 33 | C38: Sewa Pompa Beton | D38: m3 | E38: =4800000/30 -> 160000 | F38: Concrete Pump Long Boom
B39: 34 | C39: Semen Warna | D39: kg | E39: 16000 | F39: Ex. AM pengisi Nat keramik
B40: 35 | C40: Air | D40: m3 | E40: 2500
B41: 36 | C41: Formite/spacer | D41: bh | E41: 5000 | F41: Beton Penahan bekisting dengan besi
B42: 37 | C42: Tiang Pancang 20X20 CM ( 6 Meter ) | D42: bh | E42: 176500 | F42: Mutu Beton K-450, Tuangan Utama 4D13/16, Spiral Ø 6
B43: 38 | C43: Roster Beton LB 8 10 x 30 | D43: bh | E43: 17000
B44: 39 | C44: Batu Alam Palimanan | D44: m2 | E44: =(115000+170000)/2 -> 142500 | F44: Ukuran 20x40 cm | H44: http://www.batukoral.com/2013/05/batu-palimanan.html
B45: B | C45: LABURAN,PENGISI DAN ALATNYA
B46: 1 | C46: Plamir Tembok | D46: kg | E46: 44000 | F46: Setara Dulux wall filler | J46: =65000/4 -> 16250 | K46: =80000/4 -> 20000
B47: 2 | C47: Cat Tembok ICI Eksterior (Beton) | D47: ltr | E47: =1958000/20 -> 97900 | F47: Setara Dulux Weathershield | J47: =650000/25 -> 26000
B48: 3 | C48: Cat Tembok ICI Interior | D48: kg | E48: 88125 | F48: Setara Dulux Easy Clean | I48: =210000/2.5 -> 84000
B49: 4 | C49: Cat Tembok Catylax Interior | D49: lt | E49: 65250 | F49: Setara Mowilex VIP Emulsion
B50: 5 | C50: Cat Dasar | D50: kg | E50: 44204 | F50: Setara Dulux Cat Dasar
B51: 6 | C51: Water Profing Emulsion | D51: kg | E51: 45000 | F51: Ex. No Drop | I51: =900000/20 -> 45000
B52: 7 | C52: Water Proofing dengan Coating | D52: m2 | E52: 31333.333 | F52: Sika Top Seal 107 dengan cairan Sika 2 lapis/meter
B53: 8 | C53: Water Profing Membrance | D53: m2 | E53: 98000 | F53: Sika BituSeal 130 SG + membrane
B54: 9 | C54: Rool Cat Tembok | D54: bh | E54: 30000
B55: 10 | C55: Kape Tembok | D55: bh | E55: 9500
B56: 11 | C56: Kwas 3" | D56: bh | E56: 10000
B57: 12 | C57: Dempul Jadi | D57: kg | E57: =AVERAGE(45000,65000) -> 55000 | F57: Dempul kayu/besi Ex. sanpolac
B58: 13 | C58: Politur | D58: lt | E58: =AVERAGE(88000,66001) -> 77000.5 | F58: Steara Propan Ultra Politur
B59: 14 | C59: Tiner | D59: kg | E59: 23846.154 | F59: Ex. Propan Thiner ND
B60: 15 | C60: Ampelas | D60: lbr | E60: =AVERAGE(19500,10000) -> 14750
B61: 16 | C61: Meni Kayu / Besi | D61: kg | E61: 44500 | F61: Meni besi Ex. Avian Zinc Chromate
B62: 17 | C62: Cat Kayu | D62: kg | E62: 58000 | F62: Ex. Dulux V Gloss
B63: 18 | C63: Cat Besi | D63: kg | E63: 58000 | F63: Ex. Dulux V Gloss
B64: C | C64: BAHAN KAYU BERIKUT BAHAN JADINYA
B65: 1 | C65: Bambu 7 s.d 10 | D65: bt | E65: 25000 | F65: Ukuran 7/10 cm panjang 6 meter
B66: 2 | C66: Kayu Balok Albasia | D66: m3 | E66: =AVERAGE(2200000,2000000) -> 2100000 | F66: Kayu Balok Albasia 5x7x300 cm
B67: 3 | C67: Kayu Balok Meranti III 5/7 | D67: m3 | E67: =AVERAGE(10764000,4107142.85714286) -> 7435571.4 | F67: Kayu Balok Meranti 5x7x400 cm
B68: 4 | C68: Kayu Balok Meranti III 5/10 | D68: m3 | E68: =AVERAGE(10764000,4125000) -> 7444500 | F68: Kayu Balok Meranti 5x10x400 cm
B69: 5 | C69: Kayu Balok Kamper Samarinda utk Kusen | D69: m3 | E69: =AVERAGE(14240000,13472222.2222222) -> 13856111 | F69: Untuk Kusen
B70: 6 | C70: Kayu Papan Kamper Samarinda utk Panel | D70: m3 | E70: =AVERAGE(16413100,14166666.6666667) -> 15289883 | F70: untuk Panel pintu dan jendela
B71: 7 | C71: Kayu Balok Kamper Samarinda utk Sunscreen | D71: m3 | E71: =AVERAGE(14240000,10500000) -> 12370000 | F71: ukuran 8 x 12 x 400 cm
B72: 8 | C72: Kayu Balok Jati utk Kusen | D72: m3 | E72: =AVERAGE(29500000,60000000) -> 44750000 | F72: Untuk Kusen
B73: 9 | C73: Kayu Papan Jati utk Panel | D73: m3 | E73: =AVERAGE(29500000,60000000) -> 44750000 | F73: untuk Panel pintu dan jendela
B74: 10 | C74: Kayu Balok Merbau utk Kusen | D74: m3 | E74: 29166667 | F74: Untuk Kusen
B75: 11 | C75: Kayu Papan Merbau utk Panel | D75: m3 | E75: 30000000 | F75: untuk Panel pintu dan jendela
B76: 12 | C76: Kayu Papan Albasia untuk Cor | D76: m3 | E76: =AVERAGE(2200000,2083333.33333333) -> 2141666.7 | F76: Kayu Papan Albasia 2x20x300 cm
B77: 13 | C77: Dolken 5 s/d 7 | D77: bt | E77: =AVERAGE(28000,16000) -> 22000 | F77: Kayu Gelam Sumatera panjang 4 meter
B78: 14 | C78: Dolken 7 s/d 10 | D78: bt | E78: =AVERAGE(38000,22000) -> 30000 | F78: Kayu Gelam Sumatera panjang 4 meter
B79: 15 | C79: Pegangan Tangga Profil Jati | D79: m1 | E79: 118000 | F79: Hand Rail Kayu Bengkirai
B80: 16 | C80: Kayu Kaso 4/6 albasia | D80: m3 | E80: =AVERAGE(2590000,2361111.11111111) -> 2475555.6
B81: 17 | C81: Tali Ijuk | D81: kg | E81: =AVERAGE(35000,15000) -> 25000
B82: 18 | C82: lapisan Ijuk tebal 10 cm | D82: m2 | E82: 25000
B83: 19 | C83: Venetion Blind | D83: m2 | E83: 147222.22 | F83: tirai gorden gulung venetian pvc blind
B84: 20 | C84: Vertikal Blind | D84: m2 | E84: 330000 | F84: vertical blind gorden kantor transparan
B85: D | C85: BAHAN PENUTUP RANGKA PLAFOND
B86: 1 | C86: Gypsum 120 x 240 t= 9 mm ex DN | D86: lbr | E86: 65000 | F86: Gypsum setara Jaya board
B87: 2 | C87: Compoun | D87: kg | E87: 4500 | F87: Setara Jaya board cornice | I87: =54000/20 -> 2700
B88: 3 | C88: Acustik Amstrong 60 x 120 | D88: lbr | E88: 45000
B89: 4 | C89: Cotton Plester | D89: bh | E89: 13000 | F89: lakban gypsum lebar 3 cm
B90: 5 | C90: Gypsum WR 120 x 240 t= 9 mm ex DN | D90: lbr | E90: 95000 | F90: Gypsum setara Jaya board
B91: 6 | C91: Kalsiboard 120 x 240 cm, t = 3.5 mm | D91: lbr | E91: 61650 | F91: Setara Kalsi
B92: 7 | C92: Cornice Coumpound | D92: zak | E92: 90000 | F92: Setara Jaya board cornice
B93: 8 | C93: List gypsum | D93: m' | E93: =50000/4 -> 12500 | F93: Lebar 9 cm
B94: E | C94: BAHAN KAYU LAPIS
B95: 1 | C95: Wall paper | D95: m2 | E95: 44050 | F95: wallpaper minimalis
B96: 2 | C96: Ply Wood 18 mm 120 x 240 | D96: lbr | E96: =AVERAGE(166000,212000) -> 189000 | F96: sesuai 18x120x240 mm
B97: 3 | C97: Ply Wood 9 mm 120 x 240 | D97: lbr | E97: =AVERAGE(125000,104000) -> 114500 | F97: sesuai 9x120x240 mm
B98: 4 | C98: Ply Wood 3 mm 120 x 240 | D98: lbr | E98: =AVERAGE(155000,62000) -> 108500 | F98: sesuai 3x120x240 mm
B99: 5 | C99: Teak Wood 3 mm 120 x 240 | D99: lbr | E99: 92000 | F99: sesuai 3x120x240 mm
B100: 6 | C100: Teak Wood 4 mm 120 x 240 | D100: lbr | E100: 99000 | F100: sesuai 4x120x240 mm
B101: 7 | C101: Wood Plank Elephant 8 X 200 4050 mm | D101: lbr | E101: 67000 | F101: sesuai 8 X 200 X 4050 mm
B102: 8 | C102: Conwood Lap Sidng 8” G2 | D102: lbr | E102: 100600 | F102: sesuai 200x3050x11 mm
...

Sheet UPAH
B2: DAFTAR HARGA SATUAN UPAH
B6: NO | C6: URAIAN | D6: SATUAN | E6: UPAH (Rp.) | F6: KETERANGAN
B9: 1 | C9: Mandor | D9: Org/hr | E9: 180000
B10: =B9+1 -> 2 | C10: Kepala Tukang Batu | D10: Org/hr | E10: 170000
B11: =B10+1 -> 3 | C11: Kepala Tukang Kayu | D11: Org/hr | E11: 150000
B12: =B11+1 -> 4 | C12: Kepala Tukang Besi | D12: Org/hr | E12: 170000
B13: =B12+1 -> 5 | C13: Kepala Tukang Cat | D13: Org/hr | E13: 170000
B14: =B13+1 -> 6 | C14: Kepala Tukang Listrik | D14: Org/hr | E14: 170000
B15: =B14+1 -> 7 | C15: Kepala Tukang pipa | D15: Org/hr | E15: 160000
B16: =B15+1 -> 8 | C16: Tukang Batu | D16: Org/hr | E16: 160000
B17: =B16+1 -> 9 | C17: Tukang Kayu | D17: Org/hr | E17: 160000
B18: =B17+1 -> 10 | C18: Tukang Besi/Baja | D18: Org/hr | E18: 160000
B19: =B18+1 -> 11 | C19: Tukang Cat | D19: Org/hr | E19: 160000
B20: =B19+1 -> 12 | C20: Tukang Listrik | D20: Org/hr | E20: 170000
B21: =B20+1 -> 13 | C21: Tukang Pipa | D21: Org/hr | E21: 150000
... B33: =B32+1 -> 25 | C33: Pembantu Mekanik | D33: Org/hr | E33: 160000
B36: harga sudah termasuk PPN dan keuntungan

Sheet PONDASI DAN SLOOF
B1: GALIAN
B3: PONDASI
C5: P1 | F5: P2 | I5: P3 | L5: P4 | O5: P6 | R5: P7 | U5: P5
B6: Panjang Pondasi X ( m ) | C6: 0.8 | F6: 0.6 | S6: LUAS | U6: 0.775 | V6: LUAS
B7: Panjang Pondasi Y ( m ) | C7: 0.8 | F7: 0.6 | U7: 190
B8: Ketebalan Pondasi | C8: 0.3 | F8: 0.3
B9: Jumlah Pondasi ( bh ) | C9: 46 | F9: 15
B10: Kedalaman Galian Pondasi ( m ) | C10: 3.5 | E10: =C6*C7*C9*C10 -> 103.04 | F10: 3.5 | H10: =F6*F7*F9*F10 -> 18.9 | K10: =I6*I7*I9*I10 -> 0 | N10: =L6*L7*L9*L10 -> 0 | Q10: =O6*O7*O9*O10 -> 0 | T10: =R6*R7*R9*R10 -> 0 | U10: 2 | W10: =U6*U7*U10 -> 294.5
B11: Jumlah Tiang Strauspile/Pondasi ( bh ) | U11: 0
B12: Kedalaman Galian Straus Pile ( Manual ) | E12: =$C$9*$C$11*$C$12 -> 0 | H12: =$F$9*$F$11*$F$12 -> 0 | K12: =$I$9*$I$11*$I$12 -> 0 | N12: =$L$9*$L$11*$L$12 -> 0 | Q12: =$L$9*$L$11*$L$12 -> 0 | T12: =$L$9*$L$11*$L$12 -> 0 | U12: 0 | W12: =$U$9*$U$11*$U$12 -> 0
B13: Kedalaman Galian Straus Pile ( Mesin ) | E13: =C9*C11*C13 -> 0 | H13: =F9*F11*F13 -> 0 | K13: =I9*I11*I13 -> 0 | N13: =L9*L11*L13 -> 0 | Q13: =O9*O11*O13 -> 0 | T13: =R9*R11*R13 -> 0 | U13: 0 | W13: =U9*U11*U13 -> 0
B15: * asumsi pengerjaan galian straus pile menggunakan mesin apabila kedalaman tanah keras lebih dari 3 meter
B17: SLOOF
C18: TB1 | F18: TB2 | I18: TB3
B19: Panjang Sloof ( m' ) | C19: 405 | F19: 136 | N19: tiang straus pile | O19: =C9*C11+F9*F11+I9*I11 -> 0 | P19: bh
B20: Lebar Sloof ( m ) | C20: 0.2 | F20: 0.15
B21: Tinggi Sloof ( m ) | C21: 0.4 | F21: 0.3
B22: Ketebalan Pasir Urug ( m ) | C22: 0.1 | F22: 0.1 | I22: 0.1
B23: Ketebalan Lantai Kerja ( m ) | C23: 0.05 | E23: =($C$19+D19)*$C$20*($C$21+$C$22+$C$23) -> 44.55 | F23: 0.05 | H23: =(G19+$F$19)*$F$20*($F$21+$F$22+$F$23) -> 9.18 | I23: 0.05 | K23: =(J19+$I$19)*$I$20*($I$21+$I$22+$I$23) -> 0
B25: TOTAL PEK. GALIAN
B26: Pondasi dan Sloof | C26: =$E$10+$H$10+$K$10+$N$10+$W$10+$E$23+$H$23+$K$23+Q10+T10 -> 470.17
B27: Jumlah Kedalaman Galian Straus Pile ( Manual ) | C27: =$E$12+$H$12+$K$12+$N$12+$W$12 -> 0 | J27: =-Q24600 -> 0
B28: Jumlah Kedalaman Galian Straus Pile ( Mesin ) | C28: =$E$13+$H$13+$K$13+$N$13+$W$13 -> 0
B31: URUGAN
B33: URUGAN PASIR PONDASI
C35: P1 | F35: P2 | I35: P3 | L35: P4 | O35: P6 | R35: P7 | U35: P5
B36: Panjang Pondasi X ( m ) | C36: =$C$6 -> 0.8 | D36: LUAS | F36: =$F$6 -> 0.6 | G36: LUAS | I36: =$I$6 -> 0 | J36: LUAS | L36: =$L$6 -> 0 | M36: LUAS | O36: =O6 -> 0 | P36: LUAS | R36: =R6 -> 0 | S36: LUAS | U36: =U6 -> 0.775 | V36: LUAS
B37: Panjang Pondasi Y ( m ) | C37: =$C$7 -> 0.8 | F37: =$F$7 -> 0.6 | I37: =$I$7 -> 0 | L37: =$L$7 -> 0 | O37: =O7 -> 0 | R37: =R7 -> 0 | U37: =U7 -> 190
B38: Jumlah Pondasi ( bh ) | C38: =$C$9 -> 46 | F38: =$F$9 -> 15 | I38: =$I$9 -> 0 | L38: =$L$9 -> 0 | O38: =$L$9 -> 0 | R38: =$L$9 -> 0 | U38: =U8 -> 0
B39: Ketebalan Pasir Urug T : 10 cm ( m ) | C39: =$C$22 -> 0.1 | E39: =$C$36*$C$37*$C$38*$C$39 -> 2.944 | F39: =$C$22 -> 0.1 | H39: =$F$36*$F$37*$F$38*$F$39 -> 0.54 | I39: =$C$22 -> 0.1 | K39: =$I$36*$I$37*$I$38*$I$39 -> 0 | L39: =$C$22 -> 0.1 | N39: =$L$36*$L$37*$L$38*$L$39 -> 0 | O39: =$C$22 -> 0.1 | Q39: =$L$36*$L$37*$L$38*$L$39 -> 0 | R39: =$C$22 -> 0.1 | T39: =$L$36*$L$37*$L$38*$L$39 -> 0 | U39: =$C$22 -> 0.1 | W39: =$U$36*$U$37*$U$38*$U$39 -> 0
B42: URUGAN PASIR SLOOF
B43: TB1 | F43: TB2 | I43: TB3
B44: Panjang Sloof ( m' ) | C44: =SUM(C19:D19) -> 405 | D44: LUAS | F44: =SUM(F19:G19) -> 136 | G44: LUAS | I44: =SUM(I19:J19) -> 0 | J44: LUAS
B45: Lebar Sloof ( m ) | C45: =$C$20 -> 0.2 | F45: =$F$20 -> 0.15 | I45: =$I$20 -> 0
B46: Tinggi Sloof ( m ) | C46: =$C$21 -> 0.4 | F46: =$F$21 -> 0.3 | I46: =$I$21 -> 0
B47: Ketebalan Pasir Urug T : 10 cm ( m ) | C47: =$C$22 -> 0.1 | E47: =$C$44*$C$45*$C$46*$C$47 -> 3.24 | F47: =$C$22 -> 0.1 | H47: =$F$44*$F$45*$F$46*$F$47 -> 0.612 | I47: =$C$22 -> 0.1 | K47: =$I$44*$I$45*$I$46*$I$47 -> 0
B49: TOTAL PEKERJAAN URUGAN
B50: Urugan Pasir Pondasi dan Sloof | C50: =$E$39+$H$39+$K$39+$N$39+$W$39+$E$47+$H$47+$K$47+Q39+T39 -> 7.336
B53: LANTAI KERJA
B55: LANTAI KERJA PONDASI
C57: P1 | F57: P2 | I57: P3 | L57: P4 | O57: P6 | R57: P7 | U57: P5
B58: Panjang Pondasi X ( m ) | C58: =C6 -> 0.8 | D58: LUAS | F58: =F6 -> 0.6 | G58: LUAS | I58: =I6 -> 0 | J58: LUAS | L58: =L6 -> 0 | M58: LUAS | O58: =O6 -> 0 | P58: LUAS | R58: =R6 -> 0 | S58: LUAS | U58: =U6 -> 0.775 | V58: LUAS
B59: Panjang Pondasi Y ( m ) | C59: =C7 -> 0.8 | F59: =F7 -> 0.6 | I59: =I7 -> 0 | L59: =L7 -> 0 | O59: =O7 -> 0 | R59: =R7 -> 0 | U59: =U7 -> 190
B60: Jumlah Pondasi ( bh ) | C60: =C9 -> 46 | F60: =F9 -> 15 | I60: =I9 -> 0 | L60: 0 | O60: 0 | R60: 0 | U60: 0
B61: Ketebalan Lantai kerja T : 5 cm ( m ) | C61: =$C$23 -> 0.05 | E61: =$C$58*$C$59*$C$60*$C$61 -> 1.472 | F61: =$C$23 -> 0.05 | H61: =$F$58*$F$59*$F$60*$F$61 -> 0.27 | I61: =$C$23 -> 0.05 | K61: =$I$58*$I$59*$I$60*$I$61 -> 0 | L61: =$C$23 -> 0.05 | N61: =$L$58*$L$59*$L$60*$L$61 -> 0 | O61: =$C$23 -> 0.05 | Q61: =$L$58*$L$59*$L$60*$L$61 -> 0 | R61: =$C$23 -> 0.05 | T61: =$L$58*$L$59*$L$60*$L$61 -> 0 | U61: =$C$23 -> 0.05 | W61: =$U$58*$U$59*$U$60*$U$61 -> 0
B64: LANTAI KERJA SLOOF
B65: TB1 | F65: TB2 | I65: TB3
B66: Panjang Sloof ( m' ) | C66: =C44 -> 405 | D66: LUAS | F66: =F44 -> 136 | G66: LUAS | I66: =I44 -> 0 | J66: LUAS
B67: Lebar Sloof ( m ) | C67: =$C$20 -> 0.2 | F67: =$F$20 -> 0.15 | I67: =$I$20 -> 0
B68: Tinggi Sloof ( m ) | C68: =$C$21 -> 0.4 | F68: =$F$21 -> 0.3 | I68: =$I$21 -> 0
B69: Ketebalan Lantai kerja T : 5 cm ( m ) | C69: =$C$23 -> 0.05 | E69: =$C$66*$C$67*$C$68*$C$69 -> 1.62 | F69: =$C$23 -> 0.05 | H69: =$F$66*$F$67*$F$68*$F$69 -> 0.306 | I69: =$C$23 -> 0.05 | K69: =$I$66*$I$67*$I$68*$I$69 -> 0
B71: TOTAL PEKERJAAN LANTAI KERJA
B72: Urugan Pasir Pondasi dan Sloof | C72: =$E$61+$H$61+$K$61+$N$61+$W$61+$E$69+$H$69+$K$69+Q61+T61 -> 3.668

Sheet HIT. BESI, BETON, DAN BEKISTING
A3: BESI PONDASI | O3: kg
B4: PANJANG X | D4: Jumlah Besi Arah X | E4: Panjang Besi Arah X | F4: Total Panjang Besi Arah X | G4: TOTAL | H4: D16 | I4: Ø12 | J4: D13 | N4: D16 | O4: 1.58
A5: P1 | B5: =('PONDASI DAN SLOOF'!$C$6-0.1)*100 -> 70 | C5: =B5/15 -> 4.6666667 | D5: =ROUNDUP(C5,0) -> 5 | E5: =(B7/100)+0.45+0.45 -> 1.6 | F5: =D5*E5 -> 8 | G5: =F5*'PONDASI DAN SLOOF'!$C$9 -> 368 | N5: D13 | O5: 1.04
B6: PANJANG Y | D6: Jumlah Besi Araha Y | E6: Panjang Besi Arah Y | F6: Total Panjang Besi Arah Y | N6: D10 | O6: 0.617
B7: =('PONDASI DAN SLOOF'!$C$7-0.1)*100 -> 70 | C7: =B7/15 -> 4.6666667 | D7: =ROUNDUP(C7,0) -> 5 | E7: =(B5/100)+0.45+0.45 -> 1.6 | F7: =D7*E7 -> 8 | G7: =F7*'PONDASI DAN SLOOF'!$C$9 -> 368 | N7: d12 | O7: 0.888
G8: =SUM(G5:G7) -> 736 | H8: =G8*1.58 -> 1162.88 | I8: =G8*0.89*0 -> 0 | J8: =G8*1.04*0 -> 0 | N8: d10 | O8: 0.617
B9: =B4 -> PANJANG X | D9: T. BESI X | E9: P. BESI X | F9: N | N9: d8 | O9: 0.395
A10: P2 | B10: =('PONDASI DAN SLOOF'!$F$6-0.1)*100 -> 50 | C10: =B10/15 -> 3.3333333 | D10: =ROUNDUP(C10,0) -> 4 | E10: =(B12/100)+0.45+0.45 -> 1.4 | F10: =D10*E10 -> 5.6 | G10: =F10*'PONDASI DAN SLOOF'!$F$9 -> 84
B11: =B6 -> PANJANG Y | D11: T. BESI Y | E11: P. BESI Y | F11: N
B12: =('PONDASI DAN SLOOF'!$F$7-0.1)*100 -> 50 | C12: =B12/15 -> 3.3333333 | D12: =ROUNDUP(C12,0) -> 4 | E12: =(B10/100)+0.45+0.45 -> 1.4 | F12: =D12*E12 -> 5.6 | G12: =F12*'PONDASI DAN SLOOF'!$F$9 -> 84
G13: =SUM(G10:G12) -> 168 | H13: =G13*1.58 -> 265.44 | I13: =G13*0.89*0 -> 0 | J13: =G13*1.04*0 -> 0
B14: =B9 -> PANJANG X | D14: T. BESI X | E14: P. BESI X | F14: N
A15: P3 | B15: =('PONDASI DAN SLOOF'!$I$6-0.1)*100 -> -10 | C15: =B15/12 -> -0.83333333 | D15: =ROUNDUP(C15,0) -> -1 | E15: =(B17/100)+0.2+0.2 -> 0.3 | F15: =D15*E15 -> -0.3 | G15: =F15*'PONDASI DAN SLOOF'!$I$9 -> 0
B16: =B11 -> PANJANG Y | D16: T. BESI Y | E16: P. BESI Y | F16: N
B17: =('PONDASI DAN SLOOF'!$I$7-0.1)*100 -> -10 | C17: =B17/12 -> -0.83333333 | D17: =ROUNDUP(C17,0) -> -1 | E17: =(B15/100)+0.2+0.2 -> 0.3 | F17: =D17*E17 -> -0.3 | G17: =F17*'PONDASI DAN SLOOF'!$I$9 -> 0
G18: =SUM(G15:G17) -> 0 | H18: =G18*1.58 -> 0 | I18: =G18*0.89*0 -> 0 | J18: =G18*1.04*0 -> 0
B19: =B4 -> PANJANG X | D19: T. BESI X | E19: P. BESI X | F19: N
A20: P4 | B20: =('PONDASI DAN SLOOF'!$L$6-0.1)*100 -> -10 | C20: =B20/12 -> -0.83333333 | D20: =ROUNDUP(C20,0) -> -1 | E20: =(B22/100)+0.2+0.2 -> 0.3 | F20: =D20*E20 -> -0.3 | G20: =F20*'PONDASI DAN SLOOF'!$L$9 -> 0
B21: =B6 -> PANJANG Y | D21: T. BESI Y | E21: P. BESI Y | F21: N
B22: =('PONDASI DAN SLOOF'!$L$7-0.1)*100 -> -10 | C22: =B22/12 -> -0.83333333 | D22: =ROUNDUP(C22,0) -> -1 | E22: =(B20/100)+0.2+0.2 -> 0.3 | F22: =D22*E22 -> -0.3 | G22: =F22*'PONDASI DAN SLOOF'!$L$9 -> 0
G23: =SUM(G20:G22) -> 0 | H23: =G23*1.58*0 -> 0 | I23: =G23*0.89*0 -> 0 | J23: =G23*1.04*0 -> 0
B24: =B9 -> PANJANG X | D24: T. BESI X | E24: P. BESI X | F24: N
A25: P5 | B25: 0 | C25: =B25/12 -> 0 | D25: =ROUNDUP(C25,0) -> 0 | E25: =(B27/100)+0.2+0.2 -> 0.4 | F25: =D25*E25 -> 0 | G25: =F25*'PONDASI DAN SLOOF'!$U$9 -> 0
B26: =B11 -> PANJANG Y | D26: T. BESI Y | E26: P. BESI Y | F26: N
B27: 0 | C27: =B27/12 -> 0 | D27: =ROUNDUP(C27,0) -> 0 | E27: =(B25/100)+0.2+0.2 -> 0.4 | F27: =D27*E27 -> 0 | G27: =F27*'PONDASI DAN SLOOF'!$U$9 -> 0
G28: =SUM(G25:G27) -> 0 | H28: =G28*1.58 -> 0 | I28: =G28*0.89*0 -> 0 | J28: =G28*1.04*0 -> 0
A29: TOTAL BESI ( Kg ) | H29: =H8+H13+H18+H23+H28 -> 1428.32 | I29: =I8+I13+I18+I23+I28 -> 0 | J29: =J8+J13+J18+J23+J28 -> 0
M30: PONDASI BATU KALI
A31: BETON PONDASI | N31: BATU KALI | O31: AANSTAMPING
B32: P1 | C32: VOLUME (m3) | D32: P2 | E32: VOLUME (m3) | F32: P3 | G32: VOLUME (m3) | H32: P4 | I32: VOLUME (m3) | J32: P5 | K32: VOLUME (m3) | M32: ATAS | N32: 0.3 | O32: 0.785
A33: Panjang Pondasi | B33: ='PONDASI DAN SLOOF'!C6 -> 0.8 | C33: =B33*B34*B35*B36 -> 8.832 | D33: ='PONDASI DAN SLOOF'!F6 -> 0.6 | E33: =D33*D34*D35*D36 -> 1.62 | F33: ='PONDASI DAN SLOOF'!I6 -> 0 | G33: =F33*F34*F35*F36 -> 0 | H33: ='PONDASI DAN SLOOF'!L6 -> 0 | I33: =H33*H34*H35*H36 -> 0 | K33: =J33*J34*J35*J36 -> 0 | M33: BAWAH | N33: 0.7 | O33: 0.762
A34: Lebar Pondasi | B34: ='PONDASI DAN SLOOF'!C7 -> 0.8 | D34: ='PONDASI DAN SLOOF'!F7 -> 0.6 | F34: ='PONDASI DAN SLOOF'!I7 -> 0 | H34: ='PONDASI DAN SLOOF'!L7 -> 0 | M34: TINGGI | N34: 1.65 | O34: 0.1
A35: Tebal Pondasi | B35: ='PONDASI DAN SLOOF'!C8 -> 0.3 | D35: ='PONDASI DAN SLOOF'!F8 -> 0.3 | F35: ='PONDASI DAN SLOOF'!I8 -> 0 | H35: ='PONDASI DAN SLOOF'!L8 -> 0 | M35: PANJANG | N35: ='PONDASI DAN SLOOF'!$U$7 -> 190 | O35: ='PONDASI DAN SLOOF'!$U$7 -> 190
A36: Jumlah Pondasi | B36: ='PONDASI DAN SLOOF'!C9 -> 46 | D36: ='PONDASI DAN SLOOF'!F9 -> 15 | F36: ='PONDASI DAN SLOOF'!I9 -> 0 | H36: ='PONDASI DAN SLOOF'!L9 -> 0 | M36: VOLUME M3 | N36: =(N32+N33)/2*N34*N35 -> 156.75 | O36: =(O32+O33)/2*O34*O35 -> 14.6965
A37: TOTAL KEB. BETON PONDASI ( M3 ) | J37: =C33+E33+G33+I33+K33 -> 10.452
A41: BETON SLOOF
A42: JENIS | B42: Panjang Sloof ( m' ) | C42: Ukuran Sloof | D42: TOTAL
A43: SL1 | B43: ='PONDASI DAN SLOOF'!$C$19 -> 405 | C43: ='PONDASI DAN SLOOF'!$C$20*'PONDASI DAN SLOOF'!$C$21 -> 0.08 | D43: =B43*C43 -> 32.4
A44: SL2 | B44: ='PONDASI DAN SLOOF'!$F$19 -> 136 | C44: ='PONDASI DAN SLOOF'!$F$20*'PONDASI DAN SLOOF'!$F$21 -> 0.045 | D44: =B44*C44 -> 6.12
A45: SL3 | B45: ='PONDASI DAN SLOOF'!$I$19 -> 0 | C45: ='PONDASI DAN SLOOF'!$I$20*'PONDASI DAN SLOOF'!$I$21 -> 0 | D45: =B45*C45 -> 0
A46: TOTAL KEB. BETON SLOOF ( M3 ) : | D46: =SUM(D43:D45) -> 38.52
A49: Tulangan Utama D 16 | F49: Tulangan D 10 | K49: Tulangan Sengkang Ø8
A50: JENIS | B50: Panjang Sloof ( m' ) | C50: Jumlah Besi yang Di Pakai | D50: Panjang Total Tulangan Utama | F50: JENIS | G50: Panjang Sloof ( m' ) | H50: Jumlah Besi yang Di Pakai | I50: Panjang Total Tulangan Utama | K50: Besi Bagian Lapangan | L50: Besi BagianTumpuan | M50: Panjang Total Tulangan Sengkang | N50: Ukuran Sengkang | O50: Besi Sengkang ( Ø8 ) | P50: Besi Sengkang ( Ø10 ) | Q50: Total ( m' ) | R50: Total ( Kg )
A51: TB1 | B51: ='PONDASI DAN SLOOF'!$C$19 -> 405 | C51: 7 | D51: =B51*C51 -> 2835 | F51: TB1 | G51: ='PONDASI DAN SLOOF'!$C$19 -> 405 | H51: 0 | I51: =G51*H51 -> 0 | K51: =(B51*0.5)/0.2 -> 1012.5 | L51: =((B51*0.25)*2)*0.1 -> 20.25 | M51: =SUM(K51:L51) -> 1032.75 | N51: =2*(('PONDASI DAN SLOOF'!$C$20-0.05)+('PONDASI DAN SLOOF'!$C$21-0.05)) -> 1 | O51: =M51*N51 -> 1032.75 | P51: =M51*N51 -> 1032.75
A52: TB2 | B52: ='PONDASI DAN SLOOF'!$F$19 -> 136 | C52: 7 | D52: =B52*C52 -> 952 | F52: TB2 | G52: ='PONDASI DAN SLOOF'!$F$19 -> 136 | H52: 0 | I52: =G52*H52 -> 0 | K52: =(B52*0.5)/0.2 -> 340 | L52: =((B52*0.25)*2)*0.1 -> 6.8 | M52: =SUM(K52:L52) -> 346.8 | N52: =2*(('PONDASI DAN SLOOF'!$F$20-0.05)+('PONDASI DAN SLOOF'!$F$21-0.05)) -> 0.7 | O52: =M52*N52 -> 242.76 | P52: =M52*N52 -> 242.76
A53: TB3 | B53: ='PONDASI DAN SLOOF'!$I$19 -> 0 | C53: 4 | D53: =B53*C53 -> 0 | F53: TB3 | G53: ='PONDASI DAN SLOOF'!$I$19 -> 0 | H53: 0 | I53: =G53*H53 -> 0 | K53: =(B53*0.5)/0.2 -> 0 | L53: =((B53*0.25)*2)*0.1 -> 0 | M53: =SUM(K53:L53) -> 0 | N53: =2*(('PONDASI DAN SLOOF'!$I$20-0.05)+('PONDASI DAN SLOOF'!$I$21-0.05)) -> -0.2 | O53: =M53*N53 -> 0 | P53: =M53*N53 -> 0
A54: TOTAL KEB. BESI ( M' ) : | D54: =SUM(D51:D53) -> 3787 | F54: TOTAL KEB. BESI ( M' ) : | I54: =SUM(I51:I53) -> 0 | O54: Total Besi Sengkang ( Ø8 ) : | Q54: =SUM(P53) -> 0 | R54: =Q54*0.4 -> 0
A55: TOTAL KEB. BESI ( Kg ) : | D55: =D54*1.58 -> 5983.46 | F55: TOTAL KEB. BESI ( Kg ) : | I55: =I54*0.62 -> 0 | O55: Total Besi Sengkang ( d10 ) : | Q55: =SUM(P51:P52) -> 1275.51 | R55: =Q55*0.617 -> 786.98967
A57: BEKISTING SLOOF
A58: JENIS | B58: Panjang Sloof ( m' ) | C58: Ukuran Bekisting sloof | D58: Total
A59: TB1 | B59: ='PONDASI DAN SLOOF'!$C$19 -> 405 | C59: ='PONDASI DAN SLOOF'!$C$21*2 -> 0.8 | D59: =B59*C59 -> 324
A60: TB2 | B60: ='PONDASI DAN SLOOF'!$F$19 -> 136 | C60: ='PONDASI DAN SLOOF'!$F$21*2 -> 0.6 | D60: =B60*C60 -> 81.6
A61: TB3 | B61: ='PONDASI DAN SLOOF'!$I$19 -> 0 | C61: ='PONDASI DAN SLOOF'!$I$21*2 -> 0 | D61: =B61*C61 -> 0
A62: JUMLAH KEBUTUHAN BEKISTING | D62: =SUM(D59:D61) -> 405.6
A64: PERHITUNGAN BETON KOLOM | G64: UKURAN KOLOM
A65: BETON | B65: TINGGI | C65: JUMLAH | D65: UKURAN | E65: TOTAL | G65: PANJANG | H65: LEBAR
A66: K1 | B66: 6.6 | D66: =G66*H66 -> 0 | E66: =B66*C66*D66 -> 0
A67: K2 | B67: =$B$66 -> 6.6 | D67: =G67*H67 -> 0 | E67: =B67*C67*D67 -> 0
A68: K3 | B68: =$B$66 -> 6.6 | D68: =G68*H68 -> 0 | E68: =B68*C68*D68 -> 0
A69: K4 | B69: =$B$66 -> 6.6 | D69: =G69*H69 -> 0 | E69: =B69*C69*D69 -> 0
A70: K5 | B70: =$B$66 -> 6.6 | D70: =G70*H70 -> 0 | E70: =B70*C70*D70 -> 0
A71: k6 | B71: =$B$66 -> 6.6 | D71: =G71*H71 -> 0 | E71: =B71*C71*D71 -> 0
A72: K7 | B72: =$B$66 -> 6.6 | D72: =1/4*3.14*I72^2 -> 0.1589625 | E72: =B72*C72*D72 -> 0 | I72: =0.45 -> 0.45
A73: K8 | B73: =$B$66 -> 6.6 | D73: =1/4*3.14*I73^2 -> 0.0961625 | E73: =B73*C73*D73 -> 0 | I73: =0.35 -> 0.35
A74: K9 | B74: =$B$66 -> 6.6 | D74: =1/4*3.14*I74^2 -> 0.0314 | E74: =B74*C74*D74 -> 0 | I74: =0.2 -> 0.2
A75: K10 | B75: =$B$66 -> 6.6 | D75: =G75*H75 -> 0 | E75: =B75*C75*D75 -> 0
D76: TOTAL KEB. BETON KOLOM | E76: =SUM(E66:E75) -> 0
A79: KP1 | B79: 4.6 | D79: =G79*H79 -> 0.0144 | E79: =B79*C79*D79 -> 0 | G79: 0.12 | H79: 0.12
A80: KP2 | B80: =B79 -> 4.6 | D80: =G80*H80 -> 0.072 | E80: =B80*C80*D80 -> 0 | G80: 0.12 | H80: 0.6
D81: TOTAL KEB. BETON KOLOM PARAKTIS | E81: =SUM(E79:E80) -> 0
A83: BESI | D83: JUMLAH BESI UTAMA | H83: TOTAL BESI UTAMA | M83: SENGKANG
A84: NAMA | B84: TINGGI | C84: JML | D84: D16 | E84: D13 | F84: Ø12 | G84: D10 | H84: TOTAL D 16 | I84: TOTAL D 13 | J84: TOTAL Ø 12 | K84: TOTAL D 10 | M84: LAP | N84: TUMP | O84: N | P84: P | Q84: T
A85: =A66 -> K1 | B85: =B66 -> 6.6 | C85: =C66 -> 0 | D85: 12 | H85: =B85*C85*D85 -> 0 | I85: =B85*C85*E85 -> 0 | J85: =B85*C85*F85 -> 0 | K85: =B85*C85*G85 -> 0 | M85: =(B85/2)/0.2 -> 16.5 | N85: =(B85/2)/0.1 -> 33 | O85: =SUM(M85:N85)*C85 -> 0 | P85: =2*(G66-0.05+H66-0.05) -> -0.2 | Q85: =O85*P85 -> 0
A86: =A67 -> K2 | B86: =B67 -> 6.6 | C86: =C67 -> 0 | D86: 10 | H86: =B86*C86*D86 -> 0 | I86: =B86*C86*E86 -> 0 | J86: =B86*C86*F86 -> 0 | K86: =B86*C86*G86 -> 0 | M86: =(B86/2)/0.2 -> 16.5 | N86: =(B86/2)/0.1 -> 33 | O86: =SUM(M86:N86)*C86 -> 0 | P86: =2*(G67-0.05+H67-0.05) -> -0.2 | Q86: =O86*P86 -> 0
A87: =A68 -> K3 | B87: =B68 -> 6.6 | C87: =C68 -> 0 | D87: 10 | H87: =B87*C87*D87 -> 0 | I87: =B87*C87*E87 -> 0 | J87: =B87*C87*F87 -> 0 | K87: =B87*C87*G87 -> 0 | M87: =(B87/2)/0.2 -> 16.5 | N87: =(B87/2)/0.1 -> 33 | O87: =SUM(M87:N87)*C87 -> 0 | P87: =2*(G68-0.05+H68-0.05) -> -0.2 | Q87: =O87*P87 -> 0
A88: =A69 -> K4 | B88: =B69 -> 6.6 | C88: =C69 -> 0 | D88: 12 | H88: =B88*C88*D88 -> 0 | I88: =B88*C88*E88 -> 0 | J88: =B88*C88*F88 -> 0 | K88: =B88*C88*G88 -> 0 | M88: =(B88/2)/0.2 -> 16.5 | N88: =(B88/2)/0.1 -> 33 | O88: =SUM(M88:N88)*C88 -> 0 | P88: =2*(G69-0.05+H69-0.05) -> -0.2 | Q88: =O88*P88 -> 0
A89: =A70 -> K5 | B89: =B70 -> 6.6 | C89: =C70 -> 0 | D89: 8 | H89: =B89*C89*D89 -> 0 | I89: =B89*C89*E89 -> 0 | J89: =B89*C89*F89 -> 0 | K89: =B89*C89*G89 -> 0 | M89: =(B89/2)/0.2 -> 16.5 | N89: =(B89/2)/0.1 -> 33 | O89: =SUM(M89:N89)*C89 -> 0 | P89: =2*(G70-0.05+H70-0.05) -> -0.2 | Q89: =O89*P89 -> 0
A90: =A71 -> k6 | B90: =B71 -> 6.6 | C90: =C71 -> 0 | F90: 6 | H90: =B90*C90*D90 -> 0 | I90: =B90*C90*E90 -> 0 | J90: =B90*C90*F90 -> 0 | K90: =B90*C90*G90 -> 0 | M90: =(B90/2)/0.2 -> 16.5 | N90: =(B90/2)/0.1 -> 33 | O90: =SUM(M90:N90)*C90 -> 0 | P90: =2*(G71-0.05+H71-0.05) -> -0.2 | Q90: =O90*P90 -> 0
A91: =A72 -> K7 | B91: =B72 -> 6.6 | C91: =C72 -> 0 | D91: 10 | H91: =B91*C91*D91 -> 0 | I91: =B91*C91*E91 -> 0 | J91: =B91*C91*F91 -> 0 | K91: =B91*C91*G91 -> 0 | M91: =(B91/2)/0.2 -> 16.5 | N91: =(B91/2)/0.1 -> 33 | O91: =SUM(M91:N91)*C91 -> 0 | P91: =(I72-0.05)*3.14 -> 1.256 | Q91: =O91*P91 -> 0
A92: =A73 -> K8 | B92: =B73 -> 6.6 | C92: =C73 -> 0 | D92: 8 | H92: =B92*C92*D92 -> 0 | I92: =B92*C92*E92 -> 0 | J92: =B92*C92*F92 -> 0 | K92: =B92*C92*G92 -> 0 | M92: =(B92/2)/0.2 -> 16.5 | N92: =(B92/2)/0.1 -> 33 | O92: =SUM(M92:N92)*C92 -> 0 | P92: =(I73-0.05)*3.14 -> 0.942 | Q92: =O92*P92 -> 0
A93: =A74 -> K9 | B93: =B74 -> 6.6 | C93: =C74 -> 0 | F93: 5 | H93: =B93*C93*D93 -> 0 | I93: =B93*C93*E93 -> 0 | J93: =B93*C93*F93 -> 0 | K93: =B93*C93*G93 -> 0 | M93: =(B93/2)/0.2 -> 16.5 | N93: =(B93/2)/0.1 -> 33 | O93: =SUM(M93:N93)*C93 -> 0 | P93: =(I74-0.05)*3.14 -> 0.471 | Q93: =O93*P93 -> 0
A94: =A75 -> K10 | B94: =B75 -> 6.6 | C94: =C75 -> 0 | H94: =B94*C94*D94 -> 0 | I94: =B94*C94*E94 -> 0 | J94: =B94*C94*F94 -> 0 | K94: =B94*C94*G94 -> 0 | M94: =(B94/2)/0.2 -> 16.5 | N94: =(B94/2)/0.1 -> 33 | O94: =SUM(M94:N94)*C94 -> 0 | P94: =2*(G75-0.05+H75-0.05) -> -0.2 | Q94: =O94*P94 -> 0
F95: TOTAL KEB. BESI ( M' ) : | H95: =SUM(H85:H94) -> 0 | I95: =SUM(I85:I94) -> 0 | J95: =SUM(J85:J94) -> 0 | K95: =SUM(K85:K94) -> 0 | M95: Total Besi Sengkang ( Ø8 ) : | Q95: =SUM(Q88:Q94) -> 0 | R95: =Q95*0.4 -> 0 | S95: kg
F96: TOTAL KEB. BESI ( Kg ) : | H96: =H95*1.58 -> 0 | I96: =I95*1.04 -> 0 | J96: =J95*0.89 -> 0 | K96: =K95*0.62 -> 0 | M96: Total Besi Sengkang ( d10 ) : | Q96: =SUM(Q85:Q87) -> 0 | R96: =Q96*0.62 -> 0 | S96: kg
A98: NAMA | B98: TINGGI | C98: JUMLAH | D98: D10 | E98: d6 | F98: TOTAL | M98: LAP | N98: TUMP | O98: N | P98: P | Q98: T
A99: =A79 -> KP1 | B99: =B79 -> 4.6 | C99: =C79 -> 0 | D99: 4 | F99: =B99*C99*D99 -> 0 | M99: =(B99/2)/0.2 -> 11.5 | N99: =(B99/2)/0.1 -> 23 | O99: =SUM(M99:N99)*C99 -> 0 | P99: =4*0.1 -> 0.4 | Q99: =O99*P99 -> 0
A100: =A80 -> KP2 | B100: =B80 -> 4.6 | C100: =C80 -> 0 | E100: 3 | F100: =B100*C100*D100 -> 0 | M100: =(B100/2)/0.2 -> 11.5 | N100: =(B100/2)/0.1 -> 23 | O100: =SUM(M100:N100)*C100 -> 0 | P100: 0 | Q100: =O100*P100 -> 0
D101: TOTAL KEB. BESI ( M' ) : | F101: =SUM(F99:F100) -> 0 | M101: Total Besi Sengkang Ø8 ( m ) : | Q101: =SUM(Q99:Q100) -> 0
D102: TOTAL KEB. BESI ( Kg ) : | F102: =F101*0.62 -> 0 | M102: Total Besi Sengkang Ø8 ( kg ) : | Q102: =Q101*0.4 -> 0
A104: Bekisiting | B104: TINGGI | C104: JUMLAH | D104: UKURAN | E104: TOTAL
A105: =A66 -> K1 | B105: =B85 -> 6.6 | C105: =C85 -> 0 | D105: =2*(G66+H66) -> 0 | E105: =B105*C105*D105 -> 0
A106: =A67 -> K2 | B106: =B86 -> 6.6 | C106: =C86 -> 0 | D106: =2*(G67+H67) -> 0 | E106: =B106*C106*D106 -> 0
A107: =A68 -> K3 | B107: =B87 -> 6.6 | C107: =C87 -> 0 | D107: =2*(G68+H68) -> 0 | E107: =B107*C107*D107 -> 0
A108: =A69 -> K4 | B108: =B88 -> 6.6 | C108: =C88 -> 0 | D108: =2*(G69+H69) -> 0 | E108: =B108*C108*D108 -> 0
A109: =A70 -> K5 | B109: =B89 -> 6.6 | C109: =C89 -> 0 | D109: =2*(G70+H70) -> 0 | E109: =B109*C109*D109 -> 0
A110: =A71 -> k6 | B110: =B90 -> 6.6 | C110: =C90 -> 0 | D110: =2*(G71+H71) -> 0 | E110: =B110*C110*D110 -> 0
A111: =A72 -> K7 | B111: =B91 -> 6.6 | C111: =C91 -> 0 | D111: =3.14*I72 -> 1.413 | E111: =B111*C111*D111 -> 0
A112: =A73 -> K8 | B112: =B92 -> 6.6 | C112: =C92 -> 0 | D112: =3.14*I73 -> 1.099 | E112: =B112*C112*D112 -> 0
A113: =A74 -> K9 | B113: =B93 -> 6.6 | C113: =C93 -> 0 | D113: =3.14*I74 -> 0.628 | E113: =B113*C113*D113 -> 0
A114: =A75 -> K10 | B114: =B94 -> 6.6 | C114: =C94 -> 0 | D114: =2*(G75+H75) -> 0 | E114: =B114*C114*D114 -> 0
...

Sheet BTN
A2: SLOOF | E2: KLIK UNTUK LOMPAT KE :
B3: D16 | C3: D12 | E3: TANGGA LT1 | F3: TANGGA LT2 | G3: TANGGA LT3 | H3: TANGGA LT4 | I3: TANGGA LT5 | J3: TANGGA ATAP
A4: TB1 | B4: 8 | C4: 0.1
A5: TB2 | B5: 4 | C5: 0.1
A6: TB3
H7: KONGLIONG: | I7: 90.17
A8: KOLOM | H8: TINGGI KOLOM : | I8: 5.15
B9: PANJANG | C9: LEBAR | D9: SENGKANG | E9: D16 | F9: D13 | G9: Ø12 | H9: D10 | I9: LANTAI 1 | J9: 2 | K9: 3 | L9: 4 | M9: 5 | N9: ATAP
A10: K1 | B10: 0.55 | C10: 0.55 | D10: 10 | E10: 8 | I10: 16
A11: K2
A12: K3 | B12: 0.4 | C12: 0.2 | D12: 10 | E12: 10 | I12: 8
A13: K4 | B13: 0.4 | C13: 0.15 | D13: 10 | E13: 8 | I13: 42
A14: K5 | B14: 0.3 | C14: 0.15 | D14: 10 | G14: 6 | I14: 24
A15: K6 | B15: 0.25 | C15: 0.25 | D15: 10 | G15: 8 | I15: 5
A16: K7 | B16: 0.25 | C16: 0.15 | D16: 10 | G16: 6 | I16: 40
A17: K8
A18: K9
A19: K10
A20: K11
A21: K12
A22: K13
A23: K14
A24: K15
A25: K16
A26: K17
A27: K18
A28: KP1 | B28: 0.13 | C28: 0.13 | D28: 8 | H28: 4 | I28: 79 | N28: 69
A29: KP2
A31: BALOK
B32: LEBAR | C32: TINGGI | D32: LEBAR B | E32: TINGGI B | F32: TINGGI A-B | G32: SENGKANG | H32: D16 | I32: D 13 | J32: Ø 12 | K32: Ø10 | L32: D 10 | M32: SLOOF II | N32: 2 | O32: 3 | P32: 4 | Q32: 5 | R32: ATAP
A33: B1 | B33: 0.2 | C33: 0.4 | G33: 10 | H33: 10 | M33: 318
A34: B2 | B34: 0.15 | C34: 0.55 | D34: 0.1 | E34: 0.15 | F34: =C34-E34 -> 0.4 | G34: 10 | H34: 10 | K34: 1 | M34: 133
A35: B3 | B35: 0.15 | C35: 0.8 | D35: 0.1 | E35: 0.4 | F35: =C35-E35 -> 0.4 | G35: 10 | H35: 10 | K35: 3 | M35: 2
A36: B4 | B36: 0.15 | C36: 0.3 | D36: 0.15 | G36: 10 | H36: 6 | K36: 4 | M36: 101
A37: B5
A38: B6
A39: B7
A40: B8
A41: B9
A42: B10
A43: B11
A44: B12
A45: B13
A46: B14
A47: B15
A48: B16
... A52: B20
A53: RB | B53: 0.15 | C53: 0.2 | D53: 0.15 | G53: 8 | K53: 4 | M53: 33.7
L54: plat 12 cm
L55: plat 10 cm
A57: KANOPI | N57: =(3.98+16.04)*10/12 -> 16.683333
B58: LEBAR | C58: TINGGI | D58: LANTAI 1 | E58: LANTAI 2 | F58: LANTAI 3 | G58: LANTAI 4 | H58: ATAP
A59: B1 | B59: 0.15 | C59: 0.25 | D59: 43.14 | J59: =$B$59*$C$59 -> 0.0375 | K59: =$B$59+$C$59*2 -> 0.65
A60: B2
A61: B3
A62: B4
A63: B5
A66: BESI PONDASI | O66: kg
B67: PANJANG X | D67: Jumlah Besi Arah X | E67: Panjang Besi Arah X | F67: Total Panjang Besi Arah X | G67: TOTAL | H67: D16 | I67: Ø12 | J67: D13 | N67: D16 | O67: 1.58
A68: P1 | B68: =('PONDASI DAN SLOOF'!$C$6-0.1)*100 -> 70 | C68: =B68/15 -> 4.6666667 | D68: =ROUNDUP(C68,0) -> 5 | E68: =(B70/100)+0.45+0.45 -> 1.6 | F68: =D68*E68 -> 8 | G68: =F68*'PONDASI DAN SLOOF'!$C$9 -> 368 | N68: D13 | O68: 1.04
B69: PANJANG Y | D69: Jumlah Besi Araha Y | E69: Panjang Besi Arah Y | F69: Total Panjang Besi Arah Y | N69: D10 | O69: 0.617
B70: =('PONDASI DAN SLOOF'!$C$7-0.1)*100 -> 70 | C70: =B70/15 -> 4.6666667 | D70: =ROUNDUP(C70,0) -> 5 | E70: =(B68/100)+0.45+0.45 -> 1.6 | F70: =D70*E70 -> 8 | G70: =F70*'PONDASI DAN SLOOF'!$C$9 -> 368 | N70: d12 | O70: 0.888
G71: =SUM(G68:G70) -> 736 | H71: =G71*1.58 -> 1162.88 | I71: =G71*0.89*0 -> 0 | J71: =G71*1.04*0 -> 0 | N71: d10 | O71: 0.617
B72: =B67 -> PANJANG X | D72: T. BESI X | E72: P. BESI X | F72: N | N72: d8 | O72: 0.395
A73: P2 | B73: =('PONDASI DAN SLOOF'!$F$6-0.1)*100 -> 50 | C73: =B73/15 -> 3.3333333 | D73: =ROUNDUP(C73,0) -> 4 | E73: =(B75/100)+0.45+0.45 -> 1.4 | F73: =D73*E73 -> 5.6 | G73: =F73*'PONDASI DAN SLOOF'!$F$9 -> 84
B74: =B69 -> PANJANG Y | D74: T. BESI Y | E74: P. BESI Y | F74: N
B75: =('PONDASI DAN SLOOF'!$F$7-0.1)*100 -> 50 | C75: =B75/15 -> 3.3333333 | D75: =ROUNDUP(C75,0) -> 4 | E75: =(B73/100)+0.45+0.45 -> 1.4 | F75: =D75*E75 -> 5.6 | G75: =F75*'PONDASI DAN SLOOF'!$F$9 -> 84
G76: =SUM(G73:G75) -> 168 | H76: =G76*1.58 -> 265.44 | I76: =G76*0.89*0 -> 0 | J76: =G76*1.04*0 -> 0
B77: =B72 -> PANJANG X | D77: T. BESI X | E77: P. BESI X | F77: N
A78: P3 | B78: =('PONDASI DAN SLOOF'!$I$6-0.1)*100 -> -10 | C78: =B78/12 -> -0.83333333 | D78: =ROUNDUP(C78,0) -> -1 | E78: =(B80/100)+0.2+0.2 -> 0.3 | F78: =D78*E78 -> -0.3 | G78: =F78*'PONDASI DAN SLOOF'!$I$9 -> 0
B79: =B74 -> PANJANG Y | D79: T. BESI Y | E79: P. BESI Y | F79: N
B80: =('PONDASI DAN SLOOF'!$I$7-0.1)*100 -> -10 | C80: =B80/12 -> -0.83333333 | D80: =ROUNDUP(C80,0) -> -1 | E80: =(B78/100)+0.2+0.2 -> 0.3 | F80: =D80*E80 -> -0.3 | G80: =F80*'PONDASI DAN SLOOF'!$I$9 -> 0
G81: =SUM(G78:G80) -> 0 | H81: =G81*1.58 -> 0 | I81: =G81*0.89*0 -> 0 | J81: =G81*1.04*0 -> 0
B82: =B67 -> PANJANG X | D82: T. BESI X | E82: P. BESI X | F82: N
A83: P4 | B83: =('PONDASI DAN SLOOF'!$L$6-0.1)*100 -> -10 | C83: =B83/12 -> -0.83333333 | D83: =ROUNDUP(C83,0) -> -1 | E83: =(B85/100)+0.2+0.2 -> 0.3 | F83: =D83*E83 -> -0.3 | G83: =F83*'PONDASI DAN SLOOF'!$L$9 -> 0
B84: =B69 -> PANJANG Y | D84: T. BESI Y | E84: P. BESI Y | F84: N
B85: =('PONDASI DAN SLOOF'!$L$7-0.1)*100 -> -10 | C85: =B85/12 -> -0.83333333 | D85: =ROUNDUP(C85,0) -> -1 | E85: =(B83/100)+0.2+0.2 -> 0.3 | F85: =D85*E85 -> -0.3 | G85: =F85*'PONDASI DAN SLOOF'!$L$9 -> 0
G86: =SUM(G83:G85) -> 0 | H86: =G86*1.58*0 -> 0 | I86: =G86*0.89*0 -> 0 | J86: =G86*1.04*0 -> 0
B87: =B67 -> PANJANG X | D87: T. BESI X | E87: P. BESI X | F87: N
A88: P5 | B88: =('PONDASI DAN SLOOF'!$O$6-0.1)*100 -> -10 | C88: =B88/12 -> -0.83333333 | D88: =ROUNDUP(C88,0) -> -1 | E88: =(B90/100)+0.2+0.2 -> 0.3 | F88: =D88*E88 -> -0.3 | G88: =F88*'PONDASI DAN SLOOF'!$O$9 -> 0
B89: =B74 -> PANJANG Y | D89: T. BESI Y | E89: P. BESI Y | F89: N
B90: =('PONDASI DAN SLOOF'!$O$7-0.1)*100 -> -10 | C90: =B90/12 -> -0.83333333 | D90: =ROUNDUP(C90,0) -> -1 | E90: =(B88/100)+0.2+0.2 -> 0.3 | F90: =D90*E90 -> -0.3 | G90: =F90*'PONDASI DAN SLOOF'!$O$9 -> 0
G91: =SUM(G88:G90) -> 0 | H91: =G91*1.58 -> 0 | I91: =G91*0.89*0 -> 0 | J91: =G91*1.04*0 -> 0
B92: =B72 -> PANJANG X | D92: T. BESI X | E92: P. BESI X | F92: N
A93: P6 | B93: =('PONDASI DAN SLOOF'!$R$6-0.1)*100 -> -10 | C93: =B93/12 -> -0.83333333 | D93: =ROUNDUP(C93,0) -> -1 | E93: =(B95/100)+0.2+0.2 -> 0.3 | F93: =D93*E93 -> -0.3 | G93: =F93*'PONDASI DAN SLOOF'!$R$9 -> 0
B94: =B79 -> PANJANG Y | D94: T. BESI Y | E94: P. BESI Y | F94: N
B95: =('PONDASI DAN SLOOF'!$R$7-0.1)*100 -> -10 | C95: =B95/12 -> -0.83333333 | D95: =ROUNDUP(C95,0) -> -1 | E95: =(B93/100)+0.2+0.2 -> 0.3 | F95: =D95*E95 -> -0.3 | G95: =F95*'PONDASI DAN SLOOF'!$R$9 -> 0
G96: =SUM(G93:G95) -> 0 | H96: =G96*1.58 -> 0 | I96: =G96*0.89*0 -> 0 | J96: =G96*1.04*0 -> 0
A97: TOTAL BESI ( Kg ) | H97: =H71+H76+H81+H86+H96+H91 -> 1428.32 | I97: =I71+I76+I81+I86+I96+I91 -> 0 | J97: =J71+J76+J81+J86+J96+J91 -> 0
O98: PONDASI BATU KALI
A99: BETON PONDASI | P99: BATU KALI | Q99: AANSTAMPING
B100: P1 | C100: VOLUME (m3) | D100: P2 | E100: VOLUME (m3) | F100: P3 | G100: VOLUME (m3) | H100: P4 | I100: VOLUME (m3) | J100: P5 | K100: VOLUME (m3) | L100: P5 | M100: VOLUME (m3) | O100: ATAS | P100: 0.3 | Q100: 0.79
A101: Panjang Pondasi | B101: ='PONDASI DAN SLOOF'!C6 -> 0.8 | C101: =B101*B102*B103*B104 -> 8.832 | D101: ='PONDASI DAN SLOOF'!F6 -> 0.6 | E101: =D101*D102*D103*D104 -> 1.62 | F101: ='PONDASI DAN SLOOF'!I6 -> 0 | G101: =F101*F102*F103*F104 -> 0 | H101: ='PONDASI DAN SLOOF'!$L$6 -> 0 | I101: =H101*H102*H103*H104 -> 0 | J101: ='PONDASI DAN SLOOF'!$O$6 -> 0 | K101: =J101*J102*J103*J104 -> 0 | L101: ='PONDASI DAN SLOOF'!$R$6 -> 0 | M101: =L101*L102*L103*L104 -> 0 | O101: BAWAH | P101: 0.7 | Q101: 0.76
A102: Lebar Pondasi | B102: ='PONDASI DAN SLOOF'!C7 -> 0.8 | D102: ='PONDASI DAN SLOOF'!F7 -> 0.6 | F102: ='PONDASI DAN SLOOF'!I7 -> 0 | H102: ='PONDASI DAN SLOOF'!$L$7 -> 0 | J102: ='PONDASI DAN SLOOF'!$O$7 -> 0 | L102: ='PONDASI DAN SLOOF'!$R$7 -> 0 | O102: TINGGI | P102: 1.05 | Q102: 0.1
A103: Tebal Pondasi | B103: ='PONDASI DAN SLOOF'!C8 -> 0.3 | D103: ='PONDASI DAN SLOOF'!F8 -> 0.3 | F103: ='PONDASI DAN SLOOF'!I8 -> 0 | H103: ='PONDASI DAN SLOOF'!$L$8 -> 0 | J103: ='PONDASI DAN SLOOF'!$O$8 -> 0 | L103: ='PONDASI DAN SLOOF'!$R$8 -> 0 | O103: PANJANG | P103: ='PONDASI DAN SLOOF'!$U$7 -> 190 | Q103: ='PONDASI DAN SLOOF'!$U$7 -> 190
A104: Jumlah Pondasi | B104: ='PONDASI DAN SLOOF'!C9 -> 46 | D104: ='PONDASI DAN SLOOF'!F9 -> 15 | F104: ='PONDASI DAN SLOOF'!I9 -> 0 | H104: ='PONDASI DAN SLOOF'!$L$9 -> 0 | J104: ='PONDASI DAN SLOOF'!$O$9 -> 0 | L104: ='PONDASI DAN SLOOF'!$R$9 -> 0 | O104: VOLUME M3 | P104: =(P100+P101)/2*P102*P103 -> 99.75 | Q104: =(Q100+Q101)/2*Q102*Q103 -> 14.725
A105: TOTAL KEB. BETON PONDASI ( M3 ) | J105: =C101+E101+G101+I101+K101+M101 -> 10.452
A109: BETON SLOOF
A110: JENIS | B110: Panjang Sloof ( m' ) | C110: Ukuran Sloof | D110: TOTAL
A111: SL1 | B111: ='PONDASI DAN SLOOF'!$C$19 -> 405 | C111: ='PONDASI DAN SLOOF'!$C$20*'PONDASI DAN SLOOF'!$C$21 -> 0.08 | D111: =B111*C111 -> 32.4
...

Sheet HIT.PINTU
A2: DAFTAR KUSEN | R2: KUSEN | U2: DAUN PINTU | Y2: KACA PINTU | AC2: DAUN JENDELA | AG2: KACA JENDELA | AO2: TOTAL HARGA MATERIAL | AP2: Rp. | AQ2: =BOQ!$J$1290 -> 0
A3: NO | B3: JUMLAH | C3: NAMA | D3: KUSEN | E3: D PINTU | F3: D JENDELA | G3: KACA 5 MM | H3: KACA 8 MM | I3: KACA 10 MM | J3: KACA INLAY 5 MM | K3: tralis kusen | L3: list profilan kusen | M3: opening jendela | N3: TOTAL LUAS | O3: OPENING | R3: TINGGI | S3: LEBAR | T3: MATERIAL | U3: TINGGI | V3: LEBAR | W3: JUMLAH | X3: MATERIAL | Y3: TINGGI | Z3: LEBAR | AA3: JUMLAH | AB3: MATERIAL | AC3: TINGGI | AD3: LEBAR | AE3: JUMLAH | AF3: MATERIAL | AG3: TINGGI | AH3: LEBAR | AJ3: MATERIAL | AO3: TOTALL HARGA UPAH | AP3: Rp. | AQ3: =BOQ!$K$1290 -> 0
A4: 1 | N4: =B4*M4 -> 0 | P4: =B4*O4 -> 0 | AO4: TOTAL HARGA MATERIAL + UPAH | AP4: Rp. | AQ4: =SUM(AQ2:AQ3) -> 0
A5: =A4+1 -> 2 | N5: =B5*M5 -> 0 | P5: =B5*O5 -> 0
A6: =A5+1 -> 3 | N6: =B6*M6 -> 0 | P6: =B6*O6 -> 0
A7: =A6+1 -> 4 | N7: =B7*M7 -> 0 | P7: =B7*O7 -> 0
A8: =A7+1 -> 5 | N8: =B8*M8 -> 0 | P8: =B8*O8 -> 0
A9: =A8+1 -> 6 | N9: =B9*M9 -> 0 | P9: =B9*O9 -> 0
A10: =A9+1 -> 7 | N10: =B10*M10 -> 0 | P10: =B10*O10 -> 0
A11: =A10+1 -> 8 | N11: =B11*M11 -> 0 | P11: =B11*O11 -> 0
A12: =A11+1 -> 9 | N12: =B12*M12 -> 0 | P12: =B12*O12 -> 0
A13: =A12+1 -> 10 | N13: =B13*M13 -> 0 | P13: =B13*O13 -> 0
A14: =A13+1 -> 11 | N14: =M14*B14 -> 0 | P14: =B14*O14 -> 0
A15: =A14+1 -> 12 | N15: =B15*M15 -> 0 | P15: =B15*O15 -> 0
A16: =A15+1 -> 13 | N16: =B16*M16 -> 0 | P16: =O16*B16 -> 0
A17: =A16+1 -> 14 | N17: =B17*M17 -> 0 | P17: =O17*B17 -> 0
A18: =A17+1 -> 15 | N18: =B18*M18 -> 0 | P18: =O18*B18 -> 0
A19: =A18+1 -> 16 | N19: =B19*M19 -> 0 | P19: =O19*B19 -> 0
A20: =A19+1 -> 17 | N20: =B20*M20 -> 0 | P20: =O20*B20 -> 0
A21: =A20+1 -> 18 | N21: =B21*M21 -> 0 | P21: =O21*B21 -> 0
A22: =A21+1 -> 19 | N22: =B22*M22 -> 0 | P22: =O22*B22 -> 0
A23: =A22+1 -> 20 | N23: =B23*M23 -> 0 | P23: =O23*B23 -> 0
A24: =A23+1 -> 21 | N24: =B24*M24 -> 0 | P24: =O24*B24 -> 0
A25: =A24+1 -> 22 | N25: =B25*M25 -> 0 | P25: =O25*B25 -> 0
A26: =A25+1 -> 23 | N26: =B26*M26 -> 0 | P26: =O26*B26 -> 0
A27: =A26+1 -> 24 | N27: =B27*M27 -> 0 | P27: =O27*B27 -> 0
... A32: =A31+1 -> 29 | N32: =B32*M32 -> 0 | P32: =O32*B32 -> 0
A35: LANTAI 1
A36: NO | B36: NAMA | D36: LANTAI 1 | E36: LANTAI 2 | F36: LANTAI 3 | G36: LANTAI 4 | H36: TOTAL | I36: total tralis | J36: total list profil
A37: 1 | B37: =$B$68&C4&" "&$C$68 -> Pemasangan (Full Aksesoris) | H37: =SUM(D37:G37) -> 0 | I37: =H37*K4 -> 0 | J37: =H37*L4 -> 0
A38: =A37+1 -> 2 | B38: =$B$68&C5&" "&$C$68 -> Pemasangan (Full Aksesoris) | H38: =SUM(D38:G38) -> 0 | I38: =H38*K5 -> 0 | J38: =H38*L5 -> 0
A39: =A38+1 -> 3 | B39: =$B$68&C6&" "&$C$68 -> Pemasangan (Full Aksesoris) | H39: =SUM(D39:G39) -> 0 | I39: =H39*K6 -> 0 | J39: =H39*L6 -> 0
A40: =A39+1 -> 4 | B40: =$B$68&C7&" "&$C$68 -> Pemasangan (Full Aksesoris) | H40: =SUM(D40:G40) -> 0 | I40: =H40*K7 -> 0 | J40: =H40*L7 -> 0
A41: =A40+1 -> 5 | B41: =$B$68&C8&" "&$C$68 -> Pemasangan (Full Aksesoris) | H41: =SUM(D41:G41) -> 0 | I41: =H41*K8 -> 0 | J41: =H41*L8 -> 0
A42: =A41+1 -> 6 | B42: =$B$68&C9&" "&$C$68 -> Pemasangan (Full Aksesoris) | H42: =SUM(D42:G42) -> 0 | I42: =H42*K9 -> 0 | J42: =H42*L9 -> 0
A43: =A42+1 -> 7 | B43: =$B$68&C10&" "&$C$68 -> Pemasangan (Full Aksesoris) | H43: =SUM(D43:G43) -> 0 | I43: =H43*K10 -> 0 | J43: =H43*L10 -> 0
A44: =A43+1 -> 8 | B44: =$B$68&C11&" "&$C$68 -> Pemasangan (Full Aksesoris) | H44: =SUM(D44:G44) -> 0 | I44: =H44*K11 -> 0 | J44: =H44*L11 -> 0
A45: =A44+1 -> 9 | B45: =$B$68&C12&" "&$C$68 -> Pemasangan (Full Aksesoris) | H45: =SUM(D45:G45) -> 0 | I45: =H45*K12 -> 0 | J45: =H45*L12 -> 0
A46: =A45+1 -> 10 | B46: =$B$68&C13&" "&$C$68 -> Pemasangan (Full Aksesoris) | H46: =SUM(D46:G46) -> 0 | I46: =H46*K13 -> 0 | J46: =H46*L13 -> 0
A47: =A46+1 -> 11 | B47: =$B$68&C14&" "&$C$68 -> Pemasangan (Full Aksesoris) | H47: =SUM(D47:G47) -> 0 | I47: =H47*K14 -> 0 | J47: =H47*L14 -> 0
A48: =A47+1 -> 12 | B48: =$B$68&C15&" "&$C$68 -> Pemasangan (Full Aksesoris) | H48: =SUM(D48:G48) -> 0 | I48: =H48*K15 -> 0 | J48: =H48*L15 -> 0
A49: =A48+1 -> 13 | B49: =$B$68&C16&" "&$C$68 -> Pemasangan (Full Aksesoris) | H49: =SUM(D49:G49) -> 0 | I49: =H49*K16 -> 0 | J49: =H49*L16 -> 0
... A65: =A64+1 -> 29 | B65: =$B$68&C32&" "&$C$68 -> Pemasangan (Full Aksesoris) | H65: =SUM(D65:G65) -> 0 | I65: =H65*K32 -> 0 | J65: =H65*L32 -> 0
I66: =SUM(I37:I65) -> 0 | J66: =SUM(J37:J65) -> 0
B68: Pemasangan | C68: (Full Aksesoris)

Sheet ANALISA HARGA PINTU
A2: Q. ANALISA HARGA SATUAN PEKERJAAN KUSEN, PINTU, DAN JENDELA KAYU
L3: 1 | M3: ='HARGA SATUAN PEKERJAAN'!C170 -> 1 M3 Kusen Pintu & jendela kayu Kamper Samarinda | N3: ='HARGA SATUAN PEKERJAAN'!$F$170 -> 20677333
A4: No. | B4: URAIAN | D4: SATUAN | E4: VOLUME | F4: HARGA SATUAN | G4: HARGA | L4: 2 | M4: ='HARGA SATUAN PEKERJAAN'!$C$191 -> 1 m' Pasang kusen pintu/jendela alluminium warna 4" | N4: ='HARGA SATUAN PEKERJAAN'!$F$191 -> 105337
F5: (Rp) | G5: (Rp) | L5: 3 | M5: ='HARGA SATUAN PEKERJAAN'!$C$192 -> 1 m' Pasang kusen pintu/jendela alluminium warna 3" | N5: ='HARGA SATUAN PEKERJAAN'!$F$192 -> 83337
A6: 4 | B6: =B243 -> 1 Unit Pek. Pintu ( ) | L6: 4 | M6: ='HARGA SATUAN PEKERJAAN'!$C$193 -> 1 m' Pasang kusen pintu/jendela UPVC | N6: ='HARGA SATUAN PEKERJAAN'!$F$193 -> 259337
B7: 1 | C7: Kusen & | D7: m3 | E7: =HIT.PINTU!$D$4*0.05*0.1 -> 0 | F7: =VLOOKUP(B7,$L$3:$N$50,3,TRUE) -> 20677333 | G7: =E7*F7 -> 0 | H7: =E7*K!$I$85 -> 0 | I7: =E7*K!$I$89 -> 0 | J7: =SUM(H7:I7) -> 0 | K7: =C7&C8 -> Kusen & Pintu Panel Kayu Kamper Samarinda | L7: 5 | M7: ='HARGA SATUAN PEKERJAAN'!$C$194 -> 1 m1 Pasang Pintu/jendela kaca rangka UPVC | N7: ='HARGA SATUAN PEKERJAAN'!$F$194 -> 528305
B8: 6 | C8: Pintu Panel Kayu Kamper Samarinda | D8: m2 | E8: =HIT.PINTU!$E$4 -> 0 | F8: =VLOOKUP(B8,$L$3:$N$50,3,TRUE) -> 1195283 | G8: =E8*F8 -> 0 | H8: =J8-I8 -> 0 | I8: =E8*K!$I$89 -> 0 | J8: =G8 -> 0 | L8: 6 | M8: ='HARGA SATUAN PEKERJAAN'!$C$171 -> 1 M2 Pintu Panel Kayu Kamper Samarinda | N8: ='HARGA SATUAN PEKERJAAN'!$F$171 -> 1195283
B9: 44 | C9: CAT | D9: m2 | E9: =HIT.PINTU!$E$4 -> 0 | F9: =VLOOKUP(B9,$L$3:$N$50,3,TRUE) -> 75000 | G9: =E9*F9 -> 0 | H9: =J9-I9 -> 0 | I9: =E9*K!$I$89 -> 0 | J9: =G9 -> 0 | L9: 7 | M9: ='HARGA SATUAN PEKERJAAN'!$C$172 -> 1 M2 Pintu Triplek Rangkap, Rangka Tertutup Kayu Kamper Samarinda | N9: ='HARGA SATUAN PEKERJAAN'!$F$172 -> 853394
H10: =J10-I10 -> 0 | I10: =E10*K!$I$89 -> 0 | J10: =G10 -> 0 | L10: 8 | M10: ='HARGA SATUAN PEKERJAAN'!$C$173 -> 1 M3 Kusen Pintu & jendela kayu Merbau | N10: ='HARGA SATUAN PEKERJAAN'!$F$173 -> 39050000
G11: =E11*F11 -> 0 | L11: 9
C12: Upah Pasang | D12: set | E12: 1 | F12: =(250000*1)+(200000*0) -> 250000 | G12: =E12*F12 -> 250000 | H12: 0 | I12: =F12 -> 250000 | J12: =SUM(H12:I12) -> 250000 | L12: 10 | M12: ='HARGA SATUAN PEKERJAAN'!$C$174 -> 1 M2 Pintu Panel Kayu Merbau | N12: ='HARGA SATUAN PEKERJAAN'!$F$174 -> 1783688
C13: Jumlah | G13: =SUM(G7:G12) -> 250000 | H13: =J13-I13 -> 0 | I13: 250000 | J13: =G13 -> 250000 | L13: 11 | M13: ='HARGA SATUAN PEKERJAAN'!$C$175 -> 1 M3 Kusen Pintu & jendela kayu Bengirai | N13: ='HARGA SATUAN PEKERJAAN'!$F$175 -> 15750000
B14: Dibulatkan | G14: =ROUND(G13,0) -> 250000 | L14: 12 | M14: ='HARGA SATUAN PEKERJAAN'!$C$176 -> 1 M2 Pintu Panel Kayu Bengirai | N14: ='HARGA SATUAN PEKERJAAN'!$F$176 -> 1023688
A15: 5 | B15: =B244 -> 1 Unit Pek. Pintu ( ) | L15: 13 | M15: ='HARGA SATUAN PEKERJAAN'!$C$177 -> 1 M3 Kusen Pintu & jendela kayu Jati | N15: ='HARGA SATUAN PEKERJAAN'!$F$177 -> 57750000
B16: 2 | C16: Kusen Allumunium 4", | D16: m' | E16: =HIT.PINTU!$D$5 -> 0 | F16: =VLOOKUP(B16,$L$3:$N$50,3,TRUE) -> 105337 | G16: =E16*F16 -> 0 | H16: =J16-I16 -> 0 | I16: =E16*K!$I$89 -> 0 | J16: =G16 -> 0 | K16: =C16&C17&C18 -> Kusen Allumunium 4", Pintu Panel Teakwood | L16: 14 | M16: ='HARGA SATUAN PEKERJAAN'!$C$178 -> 1 M2 Pintu Panel Kayu Jati | N16: ='HARGA SATUAN PEKERJAAN'!$F$178 -> 2373688
B17: 7 | C17: Pintu Panel Teakwood | D17: m2 | E17: =HIT.PINTU!$E$5 -> 0 | F17: =VLOOKUP(B17,$L$3:$N$50,3,TRUE) -> 853394 | G17: =E17*F17 -> 0 | H17: =J17-I17 -> 0 | I17: =E17*K!$I$89 -> 0 | J17: =G17 -> 0 | L17: 15 | M17: ='HARGA SATUAN PEKERJAAN'!C209 -> PEKERJAAN KUNCI DAN KACA
H19: =J19-I19 -> 0 | I19: =E19*K!$I$89 -> 0 | J19: =G19 -> 0 | L19: 16 | M19: ='HARGA SATUAN PEKERJAAN'!C210 -> 1 Buah Pasang Kunci setara Solid | N19: ='HARGA SATUAN PEKERJAAN'!$F$210 -> 293700
H20: =E20*F20 -> 0 | I20: =E20*K!$I$89 -> 0 | J20: =G20 -> 0 | L20: 17 | M20: ='HARGA SATUAN PEKERJAAN'!C211 -> 1 Buah Pasang Kunci Tanam setara Solid | N20: ='HARGA SATUAN PEKERJAAN'!$F$211 -> 176760
B21: - | C21: Upah Pasang | D21: set | E21: 1 | F21: =(250000*1)+(200000*0) -> 250000 | G21: =E21*F21 -> 250000 | H21: 0 | I21: =F21 -> 250000 | J21: =SUM(H21:I21) -> 250000 | L21: 18 | M21: ='HARGA SATUAN PEKERJAAN'!C212 -> 1 Buah Pasang Kunci Grendel Jendela | N21: ='HARGA SATUAN PEKERJAAN'!$F$212 -> 138760
C22: Jumlah | G22: =SUM(G16:G21) -> 250000 | H22: =J22-I22 -> 0 | I22: 250000 | J22: =G22 -> 250000 | L22: 19 | M22: ='HARGA SATUAN PEKERJAAN'!C213 -> 1 Buah Pasang Engsel Jendela Kupu-kupu setara Solid | N22: ='HARGA SATUAN PEKERJAAN'!$F$213 -> 58450
B23: Dibulatkan | G23: =ROUND(G22,0) -> 250000 | L23: 20 | M23: ='HARGA SATUAN PEKERJAAN'!C214 -> 1 Buah Pasang Engsel Jendela Casement | N23: ='HARGA SATUAN PEKERJAAN'!$F$214 -> 65450
A24: 6 | B24: =B245 -> 1 Unit Pek. Pintu ( ) | L24: 21 | M24: ='HARGA SATUAN PEKERJAAN'!C215 -> 1 Buah Pasang Engsel Pintu Kupu-kupu setara Solid | N24: ='HARGA SATUAN PEKERJAAN'!$F$215 -> 151950
B25: 2 | C25: Kusen Allumunium 4", | D25: m' | E25: =HIT.PINTU!$D$6 -> 0 | F25: =VLOOKUP(B25,$L$3:$N$50,3,TRUE) -> 105337 | G25: =E25*F25 -> 0 | H25: =J25-I25 -> 0 | I25: =E25*K!$I$89 -> 0 | J25: =G25 -> 0 | K25: =C25&C26&C27&C28 -> Kusen Allumunium 4", Pintu KM/WC Allumunium, Kaca Clear 5 mm | L25: 22 | M25: ='HARGA SATUAN PEKERJAAN'!C216 -> 1 Buah Pasang Kait Angin | N25: ='HARGA SATUAN PEKERJAAN'!$F$216 -> 48434
C26: Pintu KM/WC Allumunium, | D26: m2 | E26: =HIT.PINTU!$E$6 -> 0 | F26: =BAHAN!$E$191 -> 759050 | G26: =E26*F26 -> 0 | L26: 23 | M26: ='HARGA SATUAN PEKERJAAN'!C217 -> 1 Buah Pasang Door Closer | N26: ='HARGA SATUAN PEKERJAAN'!$F$217 -> 368750
B28: 27 | C28: Kaca Clear 5 mm | D28: m2 | E28: =HIT.PINTU!$G$6 -> 0 | F28: =VLOOKUP(B28,$L$3:$N$50,3,TRUE) -> 149975 | G28: =E28*F28 -> 0 | L28: 24
L29: 25 | M29: ='HARGA SATUAN PEKERJAAN'!C218 -> 1 Buah Pasang Pegangan Pintu / Door Holder | N29: ='HARGA SATUAN PEKERJAAN'!$F$218 -> 214750
G30: =E30*F30 -> 0 | L30: 26 | N30: ='HARGA SATUAN PEKERJAAN'!$F$219 -> 149975
G31: =E31*F31 -> 0 | L31: 27 | M31: ='HARGA SATUAN PEKERJAAN'!C220 -> 1 M2 Pasang Kaca Rayban , tebal 5 mm | N31: ='HARGA SATUAN PEKERJAAN'!$F$219 -> 149975
G32: =E32*F32 -> 0 | L32: 28 | M32: ='HARGA SATUAN PEKERJAAN'!C219 -> 1 M2 Pasang Kaca , tebal 3 mm | N32: ='HARGA SATUAN PEKERJAAN'!$F$220 -> 154769
B33: - | C33: Upah Pasang | D33: set | E33: 1 | F33: =(250000*1)+(200000*0) -> 250000 | G33: =E33*F33 -> 250000 | L33: 29 | N33: ='HARGA SATUAN PEKERJAAN'!$F$220 -> 154769
C34: Jumlah | G34: =SUM(G25:G33) -> 250000 | H34: =J34-I34 -> 0 | I34: 250000 | J34: =G34 -> 250000 | L34: 30 | M34: ='HARGA SATUAN PEKERJAAN'!C221 -> 1 M2 Pasang Kaca Tempered , tebal 8 mm | N34: ='HARGA SATUAN PEKERJAAN'!$F$221 -> 413434
B35: Dibulatkan | G35: =ROUND(G34,0) -> 250000 | L35: 31 | M35: ='HARGA SATUAN PEKERJAAN'!C222 -> 1 M2 Pasang Kaca Tempered , tebal 10 mm | N35: ='HARGA SATUAN PEKERJAAN'!$F$222 -> 438434
A36: 7 | B36: =B246 -> 1 Unit Pek. Jendela ( ) | L36: 32 | M36: ='HARGA SATUAN PEKERJAAN'!C223 -> 1 M2 Pasang Kaca Inlay Tebal 5 mm | N36: ='HARGA SATUAN PEKERJAAN'!$F$223 -> 2528434
B37: 2 | C37: Kusen Allumunium 4", | D37: m' | E37: =HIT.PINTU!D7 -> 0 | F37: =VLOOKUP(B37,$L$3:$N$50,3,TRUE) -> 105337 | G37: =E37*F37 -> 0 | K37: =C37&C38&C39&C40 -> Kusen Allumunium 4", Jendela Allumunium 3", Kaca Temperred 8 mm | L37: 33
L38: 34 | M38: ='HARGA SATUAN PEKERJAAN'!C224 -> 1 Buah Pasang Handle Single setara Solid | N38: ='HARGA SATUAN PEKERJAAN'!$F$224 -> 293760
B39: 40 | C39: Jendela Allumunium 3", | D39: ` | E39: =HIT.PINTU!$F$7 -> 0 | F39: =VLOOKUP(B39,$L$3:$N$50,3,TRUE) -> 137405 | G39: =E39*F39 -> 0
B40: 30 | C40: Kaca Temperred 8 mm | D40: m2 | E40: =HIT.PINTU!$H$7 -> 0 | F40: =VLOOKUP(B40,$L$3:$N$50,3,TRUE) -> 413434 | G40: =E40*F40 -> 0 | L40: 35
L41: 36 | M41: ='HARGA SATUAN PEKERJAAN'!C225 -> 1 Buah Pasang Handle Double setara Solid | N41: ='HARGA SATUAN PEKERJAAN'!$F$225 -> 548760
L42: 37 | M42: ='HARGA SATUAN PEKERJAAN'!C226 -> 1 Buah Pasang asesoris sliding | N42: ='HARGA SATUAN PEKERJAAN'!$F$226 -> 248760
L43: 38
B44: - | C44: Upah Pasang | D44: set | E44: 1 | F44: =(250000*1)+(200000*0) -> 250000 | G44: =E44*F44 -> 250000 | L44: 39 | M44: ='HARGA SATUAN PEKERJAAN'!C227 -> 1 Buah Pasang Kunci Allumunium | N44: ='HARGA SATUAN PEKERJAAN'!$F$227 -> 97260
C45: Jumlah | G45: =SUM(G37:G44) -> 250000 | H45: =J45-I45 -> 0 | I45: 250000 | J45: =G45 -> 250000 | L45: 40 | M45: ='HARGA SATUAN PEKERJAAN'!C195 -> 1 m' Pasang Pintu/jendela kaca rangka alluminium warna 3" | N45: ='HARGA SATUAN PEKERJAAN'!$F$195 -> 137405
B46: Dibulatkan | G46: =ROUND(G45,0) -> 250000 | J46: =SUM(H46:I46) -> 0 | L46: 41 | M46: ='HARGA SATUAN PEKERJAAN'!C196 -> 1 m' Pasang Pintu/jendela kaca rangka alluminium warna 4" | N46: ='HARGA SATUAN PEKERJAAN'!$F$196 -> 159700
A47: 8 | B47: =B247 -> 1 Unit Pek. Jendela ( ) | L47: 42 | M47: ='HARGA SATUAN PEKERJAAN'!$C$180 -> 1 M2 Jendela Kayu Kamper Samarinda | N47: ='HARGA SATUAN PEKERJAAN'!$F$180 -> 196898.01
B48: 2 | C48: Kusen Allumunium 4", | D48: m' | E48: =HIT.PINTU!D8 -> 0 | F48: =VLOOKUP(B48,$L$3:$N$50,3,TRUE) -> 105337 | G48: =E48*F48 -> 0 | K48: =C48&C49&C50&C51 -> Kusen Allumunium 4", Jendela Allumunium 3", Kaca Temperred 8 mm | L48: 43 | M48: daun pintu upvc natural | N48: =BAHAN!$E$190 -> 900000
L49: 44 | M49: Cat Melamic/duco | N49: 75000
B50: 40 | C50: Jendela Allumunium 3", | D50: ` | E50: =HIT.PINTU!$F$8 -> 0 | F50: =VLOOKUP(B50,$L$3:$N$50,3,TRUE) -> 137405 | G50: =E50*F50 -> 0 | L50: 45
B51: 30 | C51: Kaca Temperred 8 mm | D51: m2 | E51: =HIT.PINTU!$H$8 -> 0 | F51: =VLOOKUP(B51,$L$3:$N$50,3,TRUE) -> 413434 | G51: =E51*F51 -> 0
B54: - | C54: Upah Pasang | D54: set | E54: 1 | F54: =(250000*1)+(200000*0) -> 250000 | G54: =E54*F54 -> 250000
C55: Jumlah | G55: =SUM(G48:G54) -> 250000 | H55: =J55-I55 -> 0 | I55: 250000 | J55: =G55 -> 250000
B56: Dibulatkan | G56: =ROUND(G55,0) -> 250000
A57: 9 | B57: =B248 -> 1 Unit Pek. Jendela ( )
B58: 2 | C58: Kusen Allumunium 4", | D58: m' | E58: =HIT.PINTU!D9 -> 0 | F58: =VLOOKUP(B58,$L$3:$N$50,3,TRUE) -> 105337 | G58: =E58*F58 -> 0 | K58: =C58&C59&C60&C61 -> Kusen Allumunium 4", Jendela Allumunium 3", Kaca Temperred 8 mm
B60: 40 | C60: Jendela Allumunium 3", | D60: ` | E60: =HIT.PINTU!$F$9 -> 0 | F60: =VLOOKUP(B60,$L$3:$N$50,3,TRUE) -> 137405 | G60: =E60*F60 -> 0
B61: 30 | C61: Kaca Temperred 8 mm | D61: m2 | E61: =HIT.PINTU!$H$9 -> 0 | F61: =VLOOKUP(B61,$L$3:$N$50,3,TRUE) -> 413434 | G61: =E61*F61 -> 0
B63: - | C63: Upah Pasang | D63: set | E63: 1 | F63: =(250000*1)+(200000*0) -> 250000 | G63: =E63*F63 -> 250000
C64: Jumlah | G64: =SUM(G58:G63) -> 250000 | H64: =J64-I64 -> 0 | I64: 250000 | J64: =G64 -> 250000
B65: Dibulatkan | G65: =ROUND(G64,0) -> 250000
A66: 10 | B66: =B249 -> 1 Unit Pek. Jendela ( )
B67: 2 | C67: Kusen Allumunium 4", | D67: m2 | E67: =HIT.PINTU!D10 -> 0 | F67: =VLOOKUP(B67,$L$3:$N$50,3,TRUE) -> 105337 | G67: =E67*F67 -> 0 | K67: =C67&C68&C69&C70 -> Kusen Allumunium 4", Jendela Allumunium 3", Kaca Temperred 8 mm
B69: 40 | C69: Jendela Allumunium 3", | D69: ` | E69: =HIT.PINTU!$F$10 -> 0 | F69: =VLOOKUP(B69,$L$3:$N$50,3,TRUE) -> 137405 | G69: =E69*F69 -> 0
B70: 30 | C70: Kaca Temperred 8 mm | D70: m2 | E70: =HIT.PINTU!$H$10 -> 0 | F70: =VLOOKUP(B70,$L$3:$N$50,3,TRUE) -> 413434 | G70: =E70*F70 -> 0
B71: - | C71: Upah Pasang | D71: set | E71: 1 | F71: =(250000*1)+(200000*0) -> 250000 | G71: =E71*F71 -> 250000
C72: Jumlah | G72: =SUM(G67:G71) -> 250000 | H72: =J72-I72 -> 0 | I72: 250000 | J72: =G72 -> 250000
B73: Dibulatkan | G73: =ROUND(G72,0) -> 250000
A74: 11 | B74: =B250 -> 1 Unit Pek. Jendela ( )
B75: 2 | C75: Kusen Allumunium 4", | D75: m' | E75: =HIT.PINTU!D11 -> 0 | F75: =VLOOKUP(B75,$L$3:$N$50,3,TRUE) -> 105337 | G75: =E75*F75 -> 0 | K75: =C75&C76&C77&C78 -> Kusen Allumunium 4", Kaca Temperred 8 mm
B78: 30 | C78: Kaca Temperred 8 mm | D78: m2 | E78: =HIT.PINTU!$H$11 -> 0 | F78: =VLOOKUP(B78,$L$3:$N$50,3,TRUE) -> 413434 | G78: =E78*F78 -> 0
B80: - | C80: Upah Pasang | D80: set | E80: 1 | F80: =(250000*1)+(200000*0) -> 250000 | G80: =E80*F80 -> 250000
C81: Jumlah | G81: =SUM(G75:G80) -> 250000 | H81: =J81-I81 -> 0 | I81: 250000 | J81: =G81 -> 250000
B82: Dibulatkan | G82: =ROUND(G81,0) -> 250000
A83: 12 | B83: =B251 -> 1 Unit Pek. Jendela ( )
B84: 2 | C84: Kusen Allumunium 4", | D84: m' | E84: =HIT.PINTU!D12 -> 0 | F84: =VLOOKUP(B84,$L$3:$N$50,3,TRUE) -> 105337 | G84: =E84*F84 -> 0 | H84: =J84-I84 -> 0 | I84: =E84*K!$I$89 -> 0 | J84: =G84 -> 0 | K84: =C84&C85&C86&C87 -> Kusen Allumunium 4", Jendela Allumunium 3", Kaca Temperred 8 mm
H85: =J85-I85 -> 0 | I85: =E85*K!$I$89 -> 0 | J85: =G85 -> 0
B86: 40 | C86: Jendela Allumunium 3", | D86: ` | E86: =HIT.PINTU!$F$12 -> 0 | F86: =VLOOKUP(B86,$L$3:$N$50,3,TRUE) -> 137405 | G86: =E86*F86 -> 0
B87: 30 | C87: Kaca Temperred 8 mm | D87: m2 | E87: =HIT.PINTU!$H$12 -> 0 | F87: =VLOOKUP(B87,$L$3:$N$50,3,TRUE) -> 413434 | G87: =E87*F87 -> 0
H88: =J88-I88 -> 0 | I88: =E88*K!$I$89 -> 0 | J88: =G88 -> 0
B89: - | C89: Upah Pasang | D89: set | E89: 1 | F89: =(250000*1)+(200000*0) -> 250000 | G89: =E89*F89 -> 250000 | H89: =F89*0 -> 0 | I89: =E89*F89 -> 250000 | J89: =H89+I89 -> 250000
C90: Jumlah | G90: =SUM(G84:G89) -> 250000 | H90: =J90-I90 -> 0 | I90: 250000 | J90: =G90 -> 250000
B91: Dibulatkan | G91: =ROUND(G90,0) -> 250000
A92: 13 | B92: =B252 -> 1 Unit Pek. Jendela ( )
B93: 2 | C93: Kusen Allumunium 4", | D93: m' | E93: =HIT.PINTU!D13 -> 0 | F93: =VLOOKUP(B93,$L$3:$N$50,3,TRUE) -> 105337 | G93: =E93*F93 -> 0 | H93: =J93-I93 -> 0 | I93: =E93*K!$I$89 -> 0 | J93: =G93 -> 0 | K93: =C93&C94&C95&C96 -> Kusen Allumunium 4", Jendela Allumunium 3", Kaca Temperred 8 mm
H94: =J94-I94 -> 0 | I94: =E94*K!$I$89 -> 0 | J94: =G94 -> 0
B95: 40 | C95: Jendela Allumunium 3", | D95: ` | E95: =HIT.PINTU!$F$13 -> 0 | F95: =VLOOKUP(B95,$L$3:$N$50,3,TRUE) -> 137405 | G95: =E95*F95 -> 0
B96: 30 | C96: Kaca Temperred 8 mm | D96: m2 | E96: =HIT.PINTU!$H$13 -> 0 | F96: =VLOOKUP(B96,$L$3:$N$50,3,TRUE) -> 413434 | G96: =E96*F96 -> 0 | H96: =J96-I96 -> 0 | I96: =E96*K!$I$89 -> 0 | J96: =G96 -> 0
G98: =E98*F98 -> 0 | H98: =J98-I98 -> 0 | I98: =E98*K!$I$89 -> 0 | J98: =G98 -> 0
B99: - | C99: Upah Pasang | D99: set | E99: 1 | F99: =(250000*1)+(200000*0) -> 250000 | G99: =E99*F99 -> 250000 | H99: =F99*0 -> 0 | I99: =E99*F99 -> 250000 | J99: =H99+I99 -> 250000
C100: Jumlah | G100: =SUM(G93:G99) -> 250000 | H100: =J100-I100 -> 0 | I100: 250000 | J100: =G100 -> 250000
B101: Dibulatkan | G101: =ROUND(G100,0) -> 250000
A102: 14 | B102: =B253 -> 1 Unit Pek. Jendela ( )
B103: 2 | C103: Kusen Allumunium 4", | D103: m' | E103: =HIT.PINTU!D14 -> 0 | F103: =VLOOKUP(B103,$L$3:$N$50,3,TRUE) -> 105337 | G103: =E103*F103 -> 0 | H103: =J103-I103 -> 0 | I103: =E103*K!$I$89 -> 0 | J103: =G103 -> 0 | K103: =C103&C104&C105&C106 -> Kusen Allumunium 4", Kaca Temperred 8 mm
H104: =J104-I104 -> 0 | I104: =E104*K!$I$89 -> 0 | J104: =G104 -> 0
B106: 30 | C106: Kaca Temperred 8 mm | D106: m2 | E106: =HIT.PINTU!$H$14 -> 0 | F106: =VLOOKUP(B106,$L$3:$N$50,3,TRUE) -> 413434 | G106: =E106*F106 -> 0
B107: - | C107: Upah Pasang | D107: set | E107: 1 | F107: =(250000*1)+(200000*0) -> 250000 | G107: =E107*F107 -> 250000 | H107: =F107*0 -> 0 | I107: =E107*F107 -> 250000 | J107: =SUM(H107:I107) -> 250000
C108: Jumlah | G108: =SUM(G103:G107) -> 250000 | H108: =J108-I108 -> 0 | I108: 250000 | J108: =G108 -> 250000
B109: Dibulatkan | G109: =ROUND(G108,0) -> 250000
A110: 15 | B110: =B254 -> 1 Unit Pek. Jendela ( )
B111: 2 | C111: Kusen Allumunium 4", | D111: m' | E111: =HIT.PINTU!D15 -> 0 | F111: =VLOOKUP(B111,$L$3:$N$50,3,TRUE) -> 105337 | G111: =E111*F111 -> 0 | H111: =J111-I111 -> 0 | I111: =E111*K!$I$89 -> 0 | J111: =G111 -> 0 | K111: =C111&C112&C113&C114 -> Kusen Allumunium 4", Jendela Allumunium 3", Kaca Temperred 8 mm
H112: =J112-I112 -> 0 | I112: =E112*K!$I$89 -> 0 | J112: =G112 -> 0
B113: 40 | C113: Jendela Allumunium 3", | E113: =HIT.PINTU!$F$15 -> 0 | F113: =VLOOKUP(B113,$L$3:$N$50,3,TRUE) -> 137405 | G113: =E113*F113 -> 0
...

Sheet ACC PINTU JENDELA
B2: Q. ANALISA HARGA SATUAN PEKERJAAN KUSEN, PINTU, DAN JENDELA KAYU
B4: No. | C4: URAIAN | E4: SATUAN | F4: VOLUME | G4: HARGA SATUAN | H4: HARGA
G5: (Rp) | H5: (Rp)
B6: 1 | C6: =VLOOKUP(B6,$C$488:$D$516,2,TRUE) -> 1 Unit Pek. Pintu ( ) | H6: =H21 -> 1137000
C7: - | D7: Kunci Tanam di Handle | E7: bh | F7: 1 | G7: =L!$I$7 -> 180000 | H7: =F7*G7 -> 180000 | I7: =HIT.PINTU!H37 -> 0 | J7: =$I$7*F7 -> 0
C8: - | D8: Kunci Tanam di Samping | E8: bh | F8: 1 | G8: =L!$I$15 -> 93000 | H8: =F8*G8 -> 93000 | J8: =$I$7*F8 -> 0
C9: - | D9: Kunci Grendel Jendela | E9: bh | G9: =L!$I$23 -> 55000 | H9: =F9*G9 -> 0 | J9: =$I$7*F9 -> 0
C10: - | D10: Kunci Allumunium Rabuncis | E10: ps | G10: =L!$I$151 -> 13500 | H10: =F10*G10 -> 0 | J10: =$I$7*F10 -> 0
C11: - | D11: Engsel Jendela 4" | E11: ps | G11: =L!$I$31 -> 39500 | H11: =F11*G11 -> 0 | J11: =$I$7*F11 -> 0
C12: - | D12: Engsel Jendela casement | E12: ps | G12: =L!$I$39 -> 46500 | H12: =F12*G12 -> 0 | J12: =$I$7*F12 -> 0
C13: - | D13: Engsel Pintu 4" | E13: ps | F13: 3 | G13: =L!$I$47 -> 133000 | H13: =F13*G13 -> 399000 | J13: =$I$7*F13 -> 0
C14: - | D14: Kait Angin | E14: ps | G14: =L!$I$55 -> 20000 | H14: =F14*G14 -> 0 | J14: =$I$7*F14 -> 0
C15: - | D15: Door Closer | E15: bh | G15: =L!$I$63 -> 274000 | H15: =F15*G15 -> 0 | J15: =$I$7*F15 -> 0
C16: - | D16: Pegangan Pintu/Door Holder | E16: bh | G16: =L!$I$71 -> 120000 | H16: =F16*G16 -> 0 | J16: =$I$7*F16 -> 0
C17: - | D17: Aksesoris Sliding | E17: bh | G17: =L!$I$143 -> 165000 | H17: =F17*G17 -> 0 | J17: =$I$7*F17 -> 0
C18: - | D18: Handle Pintu Single | E18: ps | G18: =L!$I$127 -> 210000 | H18: =F18*G18 -> 0 | J18: =$I$7*F18 -> 0
C19: - | D19: Handle Pintu Double | E19: ps | F19: 1 | G19: =L!$I$135 -> 465000 | H19: =F19*G19 -> 465000 | J19: =$I$7*F19 -> 0
D20: Jumlah | H20: =SUM(H7:H19) -> 1137000
C21: Dibulatkan | H21: =ROUND(H20,0) -> 1137000
B22: 2 | C22: =VLOOKUP(B22,$C$488:$D$516,2,TRUE) -> 1 Unit Pek. Pintu ( ) | H22: =H37 -> 656000
C23: - | D23: Kunci Tanam di Handle | E23: bh | F23: 1 | G23: =L!$I$7 -> 180000 | H23: =F23*G23 -> 180000 | I23: =HIT.PINTU!H38 -> 0 | J23: =$I$23*F23 -> 0
C24: - | D24: Kunci Tanam di Samping | E24: bh | G24: =L!$I$15 -> 93000 | H24: =F24*G24 -> 0 | J24: =$I$23*F24 -> 0
C25: - | D25: Kunci Grendel Jendela | E25: bh | G25: =L!$I$23 -> 55000 | H25: =F25*G25 -> 0 | J25: =$I$23*F25 -> 0
C26: - | D26: Kunci Allumunium Rabuncis | E26: ps | G26: =L!$I$151 -> 13500 | H26: =F26*G26 -> 0 | J26: =$I$23*F26 -> 0
C27: - | D27: Engsel Jendela 4" | E27: ps | G27: =L!$I$31 -> 39500 | H27: =F27*G27 -> 0 | J27: =$I$23*F27 -> 0
C28: - | D28: Engsel Jendela casement | E28: ps | G28: =L!$I$39 -> 46500 | H28: =F28*G28 -> 0 | J28: =$I$23*F28 -> 0
C29: - | D29: Engsel Pintu 4" | E29: ps | F29: 2 | G29: =L!$I$47 -> 133000 | H29: =F29*G29 -> 266000 | J29: =$I$23*F29 -> 0
C30: - | D30: Kait Angin | E30: ps | G30: =L!$I$55 -> 20000 | H30: =F30*G30 -> 0 | J30: =$I$23*F30 -> 0
C31: - | D31: Door Closer | E31: bh | G31: =L!$I$63 -> 274000 | H31: =F31*G31 -> 0 | J31: =$I$23*F31 -> 0
C32: - | D32: Pegangan Pintu/Door Holder | E32: bh | G32: =L!$I$71 -> 120000 | H32: =F32*G32 -> 0 | J32: =$I$23*F32 -> 0
C33: - | D33: Aksesoris Sliding | E33: bh | G33: =L!$I$143 -> 165000 | H33: =F33*G33 -> 0 | J33: =$I$23*F33 -> 0
C34: - | D34: Handle Pintu Single | E34: ps | F34: 1 | G34: =L!$I$127 -> 210000 | H34: =F34*G34 -> 210000 | J34: =$I$23*F34 -> 0
C35: - | D35: Handle Pintu Double | E35: ps | G35: =L!$I$135 -> 465000 | H35: =F35*G35 -> 0 | J35: =$I$23*F35 -> 0
D36: Jumlah | H36: =SUM(H23:H35) -> 656000
C37: Dibulatkan | H37: =ROUND(H36,0) -> 656000
B38: 3 | C38: =VLOOKUP(B38,$C$488:$D$516,2,TRUE) -> 1 Unit Pek. Pintu ( ) | H38: =H53 -> 716000
C39: - | D39: Kunci Tanam di Handle | E39: bh | F39: 1 | G39: =L!$I$7 -> 180000 | H39: =F39*G39 -> 180000 | I39: =HIT.PINTU!H39 -> 0 | J39: =$I$39*F39 -> 0
C40: - | D40: Kunci Tanam di Samping | E40: bh | G40: =L!$I$15 -> 93000 | H40: =F40*G40 -> 0 | J40: =$I$39*F40 -> 0
C41: - | D41: Kunci Grendel Jendela | E41: bh | G41: =L!$I$23 -> 55000 | H41: =F41*G41 -> 0 | J41: =$I$39*F41 -> 0
C42: - | D42: Kunci Allumunium Rabuncis | E42: ps | F42: 1 | G42: =L!$I$151 -> 13500 | H42: =F42*G42 -> 13500 | J42: =$I$39*F42 -> 0
C43: - | D43: Engsel Jendela 4" | E43: ps | G43: =L!$I$31 -> 39500 | H43: =F43*G43 -> 0 | J43: =$I$39*F43 -> 0
C44: - | D44: Engsel Jendela casement | E44: ps | F44: 1 | G44: =L!$I$39 -> 46500 | H44: =F44*G44 -> 46500 | J44: =$I$39*F44 -> 0
C45: - | D45: Engsel Pintu 4" | E45: ps | F45: 2 | G45: =L!$I$47 -> 133000 | H45: =F45*G45 -> 266000 | J45: =$I$39*F45 -> 0
C46: - | D46: Kait Angin | E46: ps | G46: =L!$I$55 -> 20000 | H46: =F46*G46 -> 0 | J46: =$I$39*F46 -> 0
C47: - | D47: Door Closer | E47: bh | G47: =L!$I$63 -> 274000 | H47: =F47*G47 -> 0 | J47: =$I$39*F47 -> 0
C48: - | D48: Pegangan Pintu/Door Holder | E48: bh | G48: =L!$I$71 -> 120000 | H48: =F48*G48 -> 0 | J48: =$I$39*F48 -> 0
C49: - | D49: Aksesoris Sliding | E49: bh | G49: =L!$I$143 -> 165000 | H49: =F49*G49 -> 0 | J49: =$I$39*F49 -> 0
C50: - | D50: Handle Pintu Single | E50: ps | F50: 1 | G50: =L!$I$127 -> 210000 | H50: =F50*G50 -> 210000 | J50: =$I$39*F50 -> 0
C51: - | D51: Handle Pintu Double | E51: ps | G51: =L!$I$135 -> 465000 | H51: =F51*G51 -> 0 | J51: =$I$39*F51 -> 0
D52: Jumlah | H52: =SUM(H39:H51) -> 716000
C53: Dibulatkan | H53: =ROUND(H52,0) -> 716000
B54: 4 | C54: =VLOOKUP(B54,$C$488:$D$516,2,TRUE) -> 1 Unit Pek. Jendela ( ) | H54: =H69 -> 120000
C55: - | D55: Kunci Tanam di Handle | E55: bh | G55: =L!$I$7 -> 180000 | H55: =F55*G55 -> 0 | I55: =HIT.PINTU!H40 -> 0 | J55: =$I$55*F55 -> 0
C56: - | D56: Kunci Tanam di Samping | E56: bh | G56: =L!$I$15 -> 93000 | H56: =F56*G56 -> 0 | J56: =$I$55*F56 -> 0
C57: - | D57: Kunci Grendel Jendela | E57: bh | G57: =L!$I$23 -> 55000 | H57: =F57*G57 -> 0 | J57: =$I$55*F57 -> 0
C58: - | D58: Kunci Allumunium Rabuncis | E58: ps | F58: 2 | G58: =L!$I$151 -> 13500 | H58: =F58*G58 -> 27000 | J58: =$I$55*F58 -> 0
C59: - | D59: Engsel Jendela 4" | E59: ps | G59: =L!$I$31 -> 39500 | H59: =F59*G59 -> 0 | J59: =$I$55*F59 -> 0
C60: - | D60: Engsel Jendela casement | E60: ps | F60: 2 | G60: =L!$I$39 -> 46500 | H60: =F60*G60 -> 93000 | J60: =$I$55*F60 -> 0
C61: - | D61: Engsel Pintu 4" | E61: ps | G61: =L!$I$47 -> 133000 | H61: =F61*G61 -> 0 | J61: =$I$55*F61 -> 0
C62: - | D62: Kait Angin | E62: ps | G62: =L!$I$55 -> 20000 | H62: =F62*G62 -> 0 | J62: =$I$55*F62 -> 0
C63: - | D63: Door Closer | E63: bh | G63: =L!$I$63 -> 274000 | H63: =F63*G63 -> 0 | J63: =$I$55*F63 -> 0
C64: - | D64: Pegangan Pintu/Door Holder | E64: bh | G64: =L!$I$71 -> 120000 | H64: =F64*G64 -> 0 | J64: =$I$55*F64 -> 0
C65: - | D65: Aksesoris Sliding | E65: bh | G65: =L!$I$143 -> 165000 | H65: =F65*G65 -> 0 | J65: =$I$55*F65 -> 0
C66: - | D66: Handle Pintu Single | E66: ps | G66: =L!$I$127 -> 210000 | H66: =F66*G66 -> 0 | J66: =$I$55*F66 -> 0
C67: - | D67: Handle Pintu Double | E67: ps | G67: =L!$I$135 -> 465000 | H67: =F67*G67 -> 0 | J67: =$I$55*F67 -> 0
D68: Jumlah | H68: =SUM(H55:H67) -> 120000
C69: Dibulatkan | H69: =ROUND(H68,0) -> 120000
B70: 5 | C70: =VLOOKUP(B70,$C$488:$D$516,2,TRUE) -> 1 Unit Pek. Jendela ( ) | H70: =H85 -> 120000
C71: - | D71: Kunci Tanam di Handle | E71: bh | G71: =L!$I$7 -> 180000 | H71: =F71*G71 -> 0 | I71: =HIT.PINTU!H41 -> 0 | J71: =$I$71*F71 -> 0
C72: - | D72: Kunci Tanam di Samping | E72: bh | G72: =L!$I$15 -> 93000 | H72: =F72*G72 -> 0 | J72: =$I$71*F72 -> 0
C73: - | D73: Kunci Grendel Jendela | E73: bh | G73: =L!$I$23 -> 55000 | H73: =F73*G73 -> 0 | J73: =$I$71*F73 -> 0
C74: - | D74: Kunci Allumunium Rabuncis | E74: ps | F74: 2 | G74: =L!$I$151 -> 13500 | H74: =F74*G74 -> 27000 | J74: =$I$71*F74 -> 0
C75: - | D75: Engsel Jendela 4" | E75: ps | G75: =L!$I$31 -> 39500 | H75: =F75*G75 -> 0 | J75: =$I$71*F75 -> 0
C76: - | D76: Engsel Jendela casement | E76: ps | F76: 2 | G76: =L!$I$39 -> 46500 | H76: =F76*G76 -> 93000 | J76: =$I$71*F76 -> 0
C77: - | D77: Engsel Pintu 4" | E77: ps | G77: =L!$I$47 -> 133000 | H77: =F77*G77 -> 0 | J77: =$I$71*F77 -> 0
C78: - | D78: Kait Angin | E78: ps | G78: =L!$I$55 -> 20000 | H78: =F78*G78 -> 0 | J78: =$I$71*F78 -> 0
C79: - | D79: Door Closer | E79: bh | G79: =L!$I$63 -> 274000 | H79: =F79*G79 -> 0 | J79: =$I$71*F79 -> 0
C80: - | D80: Pegangan Pintu/Door Holder | E80: bh | G80: =L!$I$71 -> 120000 | H80: =F80*G80 -> 0 | J80: =$I$71*F80 -> 0
C81: - | D81: Aksesoris Sliding | E81: bh | G81: =L!$I$143 -> 165000 | H81: =F81*G81 -> 0 | J81: =$I$71*F81 -> 0
C82: - | D82: Handle Pintu Single | E82: ps | G82: =L!$I$127 -> 210000 | H82: =F82*G82 -> 0 | J82: =$I$71*F82 -> 0
C83: - | D83: Handle Pintu Double | E83: ps | G83: =L!$I$135 -> 465000 | H83: =F83*G83 -> 0 | J83: =$I$71*F83 -> 0
D84: Jumlah | H84: =SUM(H71:H83) -> 120000
C85: Dibulatkan | H85: =ROUND(H84,0) -> 120000
B86: 6 | C86: =VLOOKUP(B86,$C$488:$D$516,2,TRUE) -> 1 Unit Pek. Jendela ( ) | H86: =H101 -> 120000
C87: - | D87: Kunci Tanam di Handle | E87: bh | G87: =L!$I$7 -> 180000 | H87: =F87*G87 -> 0 | I87: =HIT.PINTU!$H$42 -> 0 | J87: =$I$87*F87 -> 0
C88: - | D88: Kunci Tanam di Samping | E88: bh | G88: =L!$I$15 -> 93000 | H88: =F88*G88 -> 0 | J88: =$I$87*F88 -> 0
C89: - | D89: Kunci Grendel Jendela | E89: bh | G89: =L!$I$23 -> 55000 | H89: =F89*G89 -> 0 | J89: =$I$87*F89 -> 0
C90: - | D90: Kunci Allumunium Rabuncis | E90: ps | F90: 2 | G90: =L!$I$151 -> 13500 | H90: =F90*G90 -> 27000 | J90: =$I$87*F90 -> 0
C91: - | D91: Engsel Jendela 4" | E91: ps | G91: =L!$I$31 -> 39500 | H91: =F91*G91 -> 0 | J91: =$I$87*F91 -> 0
C92: - | D92: Engsel Jendela casement | E92: ps | F92: 2 | G92: =L!$I$39 -> 46500 | H92: =F92*G92 -> 93000 | J92: =$I$87*F92 -> 0
C93: - | D93: Engsel Pintu 4" | E93: ps | G93: =L!$I$47 -> 133000 | H93: =F93*G93 -> 0 | J93: =$I$87*F93 -> 0
C94: - | D94: Kait Angin | E94: ps | G94: =L!$I$55 -> 20000 | H94: =F94*G94 -> 0 | J94: =$I$87*F94 -> 0
C95: - | D95: Door Closer | E95: bh | G95: =L!$I$63 -> 274000 | H95: =F95*G95 -> 0 | J95: =$I$87*F95 -> 0
C96: - | D96: Pegangan Pintu/Door Holder | E96: bh | G96: =L!$I$71 -> 120000 | H96: =F96*G96 -> 0 | J96: =$I$87*F96 -> 0
C97: - | D97: Aksesoris Sliding | E97: bh | G97: =L!$I$143 -> 165000 | H97: =F97*G97 -> 0 | J97: =$I$87*F97 -> 0
C98: - | D98: Handle Pintu Single | E98: ps | G98: =L!$I$127 -> 210000 | H98: =F98*G98 -> 0 | J98: =$I$87*F98 -> 0
C99: - | D99: Handle Pintu Double | E99: ps | G99: =L!$I$135 -> 465000 | H99: =F99*G99 -> 0 | J99: =$I$87*F99 -> 0
D100: Jumlah | H100: =SUM(H87:H99) -> 120000
C101: Dibulatkan | H101: =ROUND(H100,0) -> 120000
B102: 7 | C102: =VLOOKUP(B102,$C$488:$D$516,2,TRUE) -> 1 Unit Pek. Jendela ( ) | H102: =H117 -> 120000
...

Sheet HIT.DINDING,ATAP
A1: A | B1: PAS. DINDING BERSIH LT 1 | E1: =((Q3*Q4)+(Q6*Q7)+(R6*R7)+(S6*S7))-E5 -> #REF! | G1: PAS BATU ALAM
B2: PAS. DINDING EKSTERIOR LT 1 | E2: =(Q7*Q6)+(R7*R6)+(S7*S6) -> 239.4 | G2: wpc | H2: =0 -> 0 | P2: DINDING INTERIOR LANTAI 1
B3: CAT DINDING INTERIOR | E3: =(E1*2)-(E2+E6) -> #REF! | G3: susun sirih | H3: 0 | P3: TINGGI | Q3: 4 | R3: 0 | S3: 0
B4: CAT DINDING EKSTERIOR | E4: =E2-(E7+H6) -> #REF! | G4: granit | H4: 1.4 | P4: PANJANG | Q4: =9.5+6.7+2.48+2.48+2.48+1.8+1.75+2.7+2.7 -> 32.59 | R4: 0 | S4: 0
B5: KUSEN PASDING | E5: =HIT.PINTU!#REF! -> #REF! | G5: palimanan | P5: DINDING EKSTERIOR LANTAI 1
B6: KUSEN CATINT | E6: =E5-E7 -> #REF! | H6: =SUM(H2:H5) -> 1.4 | P6: TINGGI | Q6: 4 | R6: 0 | S6: 0
B7: KUSEN CATEKS | E7: =HIT.PINTU!#REF! -> #REF! | P7: PANJANG | Q7: =7.7+11.5+9.5+4.2+2+3.5+5.7+2.75+6+6+1 -> 59.85
P8: DINDING INTERIOR LANTAI 2
A9: B | B9: PAS. DINDING BERSIH LT 2 | E9: =((Q9*Q10)+(Q12*Q13)+(T12))-E13 -> #REF! | G9: PAS BATU ALAM | P9: TINGGI | Q9: 4 | R9: 0 | S9: 0
B10: PAS. DINDING EKSTERIOR LT 2 | E10: =(Q13*Q12)+(R13*R12)+(S13*S12) -> 184.88 | G10: wpc | P10: PANJANG | Q10: =3.5+3.5+3.5+3.5+6.5+2+1.8+2.88+4.2 -> 31.38 | R10: 0 | S10: 0
B11: CAT DINDING INTERIOR | E11: =(E9*2)-(E10+E14) -> #REF! | G11: keramik | H11: 0 | P11: DINDING EKSTERIOR LANTAI 2 | T11: DINDING TAMBAHAN
B12: CAT DINDING EKSTERIOR | E12: =E10-(E15+H14) -> #REF! | G12: granit | H12: 4.2 | P12: TINGGI | Q12: 4 | R12: 0 | S12: 0 | T12: =4.5*2 -> 9
B13: KUSEN PASDING | E13: =HIT.PINTU!#REF! -> #REF! | G13: palimanan | H13: 0 | P13: PANJANG | Q13: =11.11+7.7+1+13.8+4.16+2.75+1.5+4.2 -> 46.22 | R13: 0 | S13: 0
B14: KUSEN CATINT | E14: =E13-E15 -> #REF! | H14: =SUM(H10:H13) -> 4.2 | P14: DINDING INTERIOR LANTAI 3
B15: KUSEN CATEKS | E15: =HIT.PINTU!#REF! -> #REF! | P15: TINGGI | Q15: 3.5 | R15: 0 | S15: 0
P16: PANJANG | Q16: =4.87+2.88+3.5+3.5+1.25+1.25 -> 17.25 | R16: 0 | S16: 0
A17: C | B17: PAS. DINDING BERSIH 3 | E17: =(Q19*Q18)+(R19*R18)+(S19*S18)+(Q16*Q15)+(R16*R15)+(S16*S15)+(T18) -> 218.525 | P17: DINDING EKSTERIOR LANTAI 3 | T17: DINDING TAMBAHAN
B18: PAS. DINDING EKSTERIOR 3 | E18: =(Q18*Q19)+(R19*R18)+(S19*S18) -> 141.15 | P18: TINGGI | Q18: 3.5 | R18: 1 | S18: 0 | T18: =8.5*2 -> 17
B19: CAT DINDING INTERIOR | E19: =(E17*2)-(E18+E22) -> #REF! | P19: PANJANG | Q19: =8.1+8.1+7.7+7.7+0.5+1.8+4.2 -> 38.1 | R19: =4.2+1.8+1.8 -> 7.8 | S19: 0
B20: CAT DINDING EKSTERIOR | E20: =E18-(E23+H22) -> #REF! | P20: DINDING INTERIOR LANTAI 3
B21: KUSEN PASDING | E21: =HIT.PINTU!#REF! -> #REF! | P21: TINGGI | Q21: 0 | R21: 0 | S21: 0
B22: KUSEN CATINT | E22: =E21-E23 -> #REF! | P22: PANJANG | Q22: 0 | R22: 0 | S22: 0
B23: KUSEN CATEKS | E23: =HIT.PINTU!#REF! -> #REF! | P23: DINDING ATAP | T23: DINDING TAMBAHAN
P24: TINGGI | Q24: 0.6 | R24: 0 | S24: 0 | T24: 0
A25: C | B25: PAS. DINDING BERSIH ATAP | E25: =(Q25*Q24)+(R25*R24)+(S25*S24)+(Q22*Q21)+(R22*R21)+(S22*S21)+(T24) -> 8.4 | P25: PANJANG | Q25: =5.86+4.07*2 -> 14 | S25: 0
B26: PAS. DINDING EKSTERIOR ATAP | E26: =(Q26*Q27)+(R27*R26)+(S27*S26) -> 0
B27: CAT DINDING INTERIOR | E27: 0
B28: CAT DINDING EKSTERIOR | E28: =(E25*2)-(E26+E30) -> #REF!
B29: KUSEN PASDING | E29: =HIT.PINTU!#REF! -> #REF!
B30: KUSEN CATINT | E30: =E29-E31 -> #REF!
B31: KUSEN CATEKS | E31: =HIT.PINTU!#REF! -> #REF!
B35: ATAP 1 | F35: NOK/ BUBUNGAN | H35: ATAP SKYLIGHT
B36: - | C36: segitiga | D36: 0 | F36: =3.88*4+1.79 -> 17.31 | H36: PANJANG | I36: LEBAR | J36: VOLUME
C37: trafesium | D37: 0 | F37: 0 | H37: 0 | I37: 0 | J37: =H37*I37 -> 0
F38: =SUM(F36:F37) -> 17.31
B39: - | C39: segitiga | D39: 0
C40: jrgenjang | D40: 0
B42: ATAP 2
B43: - | C43: segitiga | D43: 0
C44: Limas | D44: 0
C47: total | D47: =4.2+((12.7+7.5)*2) -> 44.6
A49: D | B49: 1.- | C49: KERAMIK KAMR MANDI | F49: =(6.03+8.3)*3.05 -> 43.7065 | H49: TOTAL KERAMIK | J49: TOTAL WATERPROOF
C50: KUSEN KAMAR MANDI | F50: =HIT.PINTU!M18+HIT.PINTU!M10 -> 0 | H50: =F52+F57+F62+F67 -> 43.7065 | J50: =F51+F56+F61+F66 -> 4.299
C51: WATERPROOFING | F51: =F49/3.05*0.3 -> 4.299
C52: KERAMIK BERSIH | F52: =F49-F50 -> 43.7065
B54: 2.- | C54: KERAMIK KAMR MANDI | F54: 0
C55: KUSEN KAMAR MANDI | F55: 0 | M55: =(1.32+1.68)*2 -> 6
C56: WATERPROOFING | F56: =(F54/3*0.3) -> 0
C57: KERAMIK BERSIH | F57: =(F54-F55) -> 0
B59: 3.- | C59: KERAMIK KAMR MANDI | F59: 0
C60: KUSEN KAMAR MANDI | F60: 0
C61: WATERPROOFING | F61: =(F59/3*0.3) -> 0
C62: KERAMIK BERSIH | F62: =F59-F60 -> 0
B64: 4,- | C64: KERAMIK KAMR MANDI | F64: 0
C65: KUSEN KAMAR MANDI | F65: 0
C66: WATERPROOFING | F66: =(F64/3*0.3) -> 0
C67: KERAMIK BERSIH | F67: =F64-F65 -> 0
A69: E | B69: 1.- | C69: KERAMIK KAMR MANDI | F69: =(6.3+3)*3.05 -> 28.365 | H69: TOTAL KERAMIK | J69: TOTAL WATERPROOF
C70: KUSEN KAMAR MANDI | F70: =HIT.PINTU!#REF!+HIT.PINTU!#REF! -> #REF! | H70: =F72+F77+F82+F87 -> #REF! | J70: =F71+F76+F81+F86 -> 2.9857895
C71: WATERPROOFING | F71: =F69/2.85*0.3 -> 2.9857895
C72: KERAMIK BERSIH | F72: =F69-F70 -> #REF!
B74: 2.- | C74: KERAMIK KAMR MANDI | F74: 0
C75: KUSEN KAMAR MANDI | F75: 0
C76: WATERPROOFING | F76: =F74/2.05*0.3 -> 0
C77: KERAMIK BERSIH | F77: =F74-F75 -> 0
B79: 3.- | C79: KERAMIK KAMR MANDI | F79: 0
C80: KUSEN KAMAR MANDI | F80: 0
C81: WATERPROOFING | F81: =F79/2.05*0.3 -> 0
C82: KERAMIK BERSIH | F82: =F79-F80 -> 0
B84: 4,- | C84: KERAMIK KAMR MANDI | F84: 0
C85: KUSEN KAMAR MANDI | F85: 0
C86: WATERPROOFING | F86: =F84/2.85*0.3 -> 0
C87: KERAMIK BERSIH | F87: =F84-F85 -> 0
A90: E | B90: 1.- | C90: KERAMIK KAMR MANDI | F90: =1.85*3.05 -> 5.6425 | H90: TOTAL KERAMIK | J90: TOTAL WATERPROOF
C91: KUSEN KAMAR MANDI | F91: =HIT.PINTU!#REF!+HIT.PINTU!#REF! -> #REF! | H91: =F93+F98+F103+F108 -> #REF! | J91: =F92+F97+F102+F107 -> 0.59394737
C92: WATERPROOFING | F92: =F90/2.85*0.3 -> 0.59394737
C93: KERAMIK BERSIH | F93: =F90-F91 -> #REF!

Sheet DINDING BATA
B1: LT. 1 | C1: LT. 2 | D1: LT. 3 | E1: LT. 4 | F1: LT. 5 | G1: LT. 6
A2: LUAS DINDING | B2: =D12+E17 -> 1134.05 | C2: =D23+D28 -> 0 | D2: =D34+F39 -> 0 | E2: =D45+D50 -> 0 | F2: =D56+D61 -> 0 | G2: =D67+D72 -> 0
A3: CAT INTERIOR | B3: =B2*2-B4-B5 -> 1356.488 | C3: =C2*2-C4-C5 -> 0 | D3: =15.45*D6 -> 0 | E3: =D45 -> 0 | F3: =F2*2-F4-F5 -> 0 | G3: 0
A4: CAT EXTERIOR | B4: =28.08*B6+E17 -> 425.112 | C4: =21.78*C6 -> 0 | D4: 0
A5: WATERPROOF | B5: =40*B6+A17 -> 486.5 | C5: =34.62*C6 -> 0 | D5: 0
A6: TINGGI | B6: 5.15 | C6: 0 | D6: 0
A8: =B1 -> LT. 1
A9: tinggi | B9: =B6 -> 5.15 | C9: m'
A10: kongliong garasi | B10: 161 | C10: m2
A11: 1 | B11: 2 | C11: 3 | D11: LUAS
A12: 197 | D12: =SUM(A12:C12)*B9-B10 -> 853.55 | F12: "KOTAK NOMER 2 DAN 3 ADALAH KOTAK TAMBAHAN. TIDAK DIISI JIKA SELURUH PANJANG DINDING SUDAH DIMASUKKAN KOTAK 1
A14: 1 | B14: 2 | C14: 3 | D14: 4
A15: 165
A16: 1.7 | E16: luas
A17: =A15*A16 -> 280.5 | B17: =B15*B16 -> 0 | C17: =C15*C16 -> 0 | D17: =D15*D16/2 -> 0 | E17: =SUM(A17:D17) -> 280.5
A19: =C1 -> LT. 2
A20: tinggi | B20: =C6 -> 0 | C20: m'
A22: H1 | B22: v1 | C22: H3 | D22: LUAS
D23: =SUM(A23:C23)*B20-B21 -> 0
A25: h1 | B25: v1 | C25: h3
D27: luas
A28: =A26*A27 -> 0 | B28: =B26*B27 -> 0 | C28: =C26*C27 -> 0 | D28: =SUM(A28:C28) -> 0
A30: =D1 -> LT. 3 | F30: "JIKA BANGUNAN HANYA 2 LANTAI, MAKA ISI BAGIAN INI UNTUK MENGHITUNG ATAP. BEGITU JUGA SETERUSNYA
A31: tinggi | B31: =D6 -> 0 | C31: m'
A33: H1 | B33: H2 | C33: H3 | D33: LUAS
A34: 23.5 | D34: =SUM(A34:C34)*B31-B32 -> 0
A36: h1 | B36: h2 | C36: h3
F38: luas
A39: =A37*A38 -> 0 | B39: =B37*B38 -> 0 | C39: =C37*C38 -> 0 | D39: =D37*D38 -> 0 | E39: =E37*E38 -> 0 | F39: =SUM(A39:C39) -> 0
A41: =E1 -> LT. 4
A42: tinggi | B42: =E6 -> 0 | C42: m'
A44: H1 | B44: H2 | C44: H3 | D44: LUAS
D45: =SUM(A45:C45)*B42-B43 -> 0
A47: h1 | B47: h2 | C47: h3
D49: luas
A50: =A48*A49 -> 0 | B50: =B48*B49 -> 0 | C50: =C48*C49 -> 0 | D50: =SUM(A50:C50) -> 0
A52: =F1 -> LT. 5
A53: tinggi | B53: =F6 -> 0 | C53: m'
A55: H1 | B55: H2 | C55: H3 | D55: LUAS
D56: =SUM(A56:C56)*B53-B54 -> 0
A58: h1 | B58: h2 | C58: h3
D60: luas
A61: =A59*A60 -> 0 | B61: =B59*B60 -> 0 | C61: =C59*C60 -> 0 | D61: =SUM(A61:C61) -> 0
A63: =G1 -> LT. 6
A64: tinggi | B64: =G6 -> 0 | C64: m'
A66: H1 | B66: H2 | C66: H3 | D66: LUAS
D67: =SUM(A67:C67)*B64-B65 -> 0
A69: h1 | B69: h2 | C69: h3
D71: luas
A72: =A70*A71 -> 0 | B72: =B70*B71 -> 0 | C72: =C70*C71 -> 0 | D72: =SUM(A72:C72) -> 0

Sheet KUSEN PINTU
AN1: No | AO1: Spesifikasi | AP1: Harga
AN2: 1 | AO2: Kusen Aluminium 4" | AP2: ='HARGA SATUAN PEKERJAAN'!$F$191 -> 105337
AN3: 2 | AO3: , Pintu Aluminium 4" | AP3: ='HARGA SATUAN PEKERJAAN'!$F$196 -> 159700
AN4: 3 | AO4: , Jendela Aluminium 3" | AP4: ='HARGA SATUAN PEKERJAAN'!$F$195 -> 137405
AN5: 4 | AO5: Pintu KM/WC PVC | AP5: =BAHAN!$E$191 -> 759050
AN6: 5 | AO6: Kusen UPVC | AP6: ='HARGA SATUAN PEKERJAAN'!$F$193 -> 259337
AN7: 6 | AO7: , Pintu UPVC | AP7: ='HARGA SATUAN PEKERJAAN'!$F$194 -> 528305
AN8: 7 | AO8: , Jendela UPVC | AP8: ='HARGA SATUAN PEKERJAAN'!$F$194 -> 528305
AN9: 8 | AO9: , Pintu UPVC Natural | AP9: =BAHAN!$E$190 -> 900000
AN10: 9 | AO10: Kusen | AP10: ='HARGA SATUAN PEKERJAAN'!$F$170*0.005 -> 103386.67
AN11: 10 | AO11: , Pintu Kayu Kamper Samarinda | AP11: ='HARGA SATUAN PEKERJAAN'!$F$171 -> 1195283
AN12: 11 | AO12: dan Jendela Kayu Kamper Samarinda | AP12: ='HARGA SATUAN PEKERJAAN'!$F$180 -> 196898.01
AN13: 12 | AO13: , Pintu Panel Teakwood | AP13: ='HARGA SATUAN PEKERJAAN'!$F$172 -> 853394
AN14: 13 | AO14: Pintu WINA-SS | AP14: =BAHAN!$E$194 -> 5070000
AN15: 14 | AO15: Folding Gate Galvalum | AP15: =BAHAN!$E$189 -> 400000
AN16: 15 | AO16: =BAHAN!C193 -> Pintu Kasa Nyamuk Besi Hollow | AP16: =BAHAN!E193 -> 2150000
AN17: 16 | AO17: =BAHAN!$C$195 -> Jalusi Allumunium | AP17: =BAHAN!$E$195 -> 1350000
AN18: 17
AN19: 99
AN20: 90 | AO20: , Kaca Clear 5 mm | AP20: ='HARGA SATUAN PEKERJAAN'!$F$219 -> 149975
AN21: 91 | AO21: , Kaca Tempered 8 mm | AP21: ='HARGA SATUAN PEKERJAAN'!$F$221 -> 413434
AO22: Upah Pasang | AP22: 250000
A27: DAFTAR KUSEN | N27: 180000 | O27: 93000 | P27: 55000 | Q27: 13500 | R27: 39500 | S27: 46500 | T27: 133000 | U27: 20000 | V27: 274000 | W27: 120000 | X27: 165000 | Y27: 210000 | Z27: 465000
A28: NO | C28: NAMA | D28: PANJANG KUSEN | E28: DAUN PINTU | F28: DAUN JENDELA | G28: KACA 5 MM | H28: KACA 8 MM | I28: KACA 10 MM | J28: KACA INLAY 5 MM | K28: tralis kusen | L28: list profilan kusen | N28: Kunci Tanam di Handle | O28: Kunci Tanam di Samping | P28: Kunci Grendel Jendela | Q28: Kunci Aluminium Rabuncis | R28: Engsel Jendela 4" | S28: Engsel Jendela casement | T28: Engsel Pintu 4" | U28: Kait Angin | V28: Door Closer | W28: Pegangan Pintu/Door Holder | X28: Aksesoris Sliding | Y28: Handle Pintu Single | Z28: Handle Pintu Double | AB28: Kunci Tanam di Handle | AC28: Kunci Tanam di Samping | AD28: Kunci Grendel Jendela | AE28: Kunci Aluminium Rabuncis | AF28: Engsel Jendela 4" | AG28: Engsel Jendela casement | AH28: Engsel Pintu 4" | AI28: Kait Angin | AJ28: Door Closer | AK28: Pegangan Pintu/Door Holder | AL28: Aksesoris Sliding | AM28: Handle Pintu Single | AN28: Handle Pintu Double | AO28: Nama | AP28: Total Harga Kunci | AR28: KUSEN | AS28: DAUN PINTU | AT28: DAUN JENDELA | AV28: harga KUSEN | AW28: Harga DAUN PINTU | AX28: Harga DAUN JENDELA | AZ28: Total Harga Kusen | BA28: Total Harga Pintu | BB28: Total Harga Jendela | BC28: Total Harga Kaca 5 mm | BD28: Total Harga Kaca 8 mm | BE28: Jumlah Harga | BF28: Jumlah Harga+upah | BH28: Nama
A29: =C29 -> P1 | B29: =LEFT(C29,1) -> P | C29: P1 | D29: 14.5 | E29: 3.92 | F29: 11.2 | H29: 1.872 | N29: 1 | P29: 2 | T29: 4 | Z29: 2 | AB29: =N29*N$27 -> 180000 | AC29: =O29*O$27 -> 0 | AD29: =P29*P$27 -> 110000 | AE29: =Q29*Q$27 -> 0 | AF29: =R29*R$27 -> 0 | AG29: =S29*S$27 -> 0 | AH29: =T29*T$27 -> 532000 | AI29: =U29*U$27 -> 0 | ... AN29: =Z29*Z$27 -> 930000 | AO29: =IF(B29="P","1 Unit Pek. Pintu ( "&C29&" )","1 Unit Pek. Jendela ( "&C29&" )") -> 1 Unit Pek. Pintu ( P1 ) | AP29: =SUM(AB29:AN29) -> 1752000 | AR29: 10 | AS29: 10 | AT29: 11 | AV29: =IF(AR29=0,"0",VLOOKUP(AR29,$AN$2:$AP$21,3,TRUE)) -> 1195283 | AW29: =IF(AS29=0,"0",VLOOKUP(AS29,$AN$2:$AP$21,3,TRUE)) -> 1195283 | AX29: =IF(AT29=0,"0",VLOOKUP(AT29,$AN$2:$AP$21,3,TRUE)) -> 196898.01 | AZ29: =D29*AV29 -> 17331604 | BA29: =E29*AW29 -> 4685509.4 | BB29: =F29*AX29 -> 2205257.7 | BC29: =G29*$AP$20 -> 0 | BD29: =H29*$AP$21 -> 773948.45 | BE29: =SUM(AZ29:BD29) -> 24996319 | BF29: =ROUNDUP(SUM(AZ29:BD29)+$AP$22,0) -> 25246319 | BH29: =VLOOKUP(AR29,$AN$2:$AO$21,2,TRUE)& VLOOKUP(AS29,$AN$2:$AO$21,2,TRUE)& VLOOKUP(AT29,$AN$2:$AO$21,2,TRUE)& IF(BC29=0,"",$AO$20)& IF(BD29=0,"",$AO$21) -> , Pintu Kayu Kamper Samarinda, Pintu Kayu Kamper Samarinda dan Jendela Kayu Kamper Samarinda, Kaca Tempered 8 mm
A30: =C30 -> P2 | B30: =LEFT(C30,1) -> P | C30: P2 | D30: 14.5 | E30: 3.43 | F30: 12 | H30: 4.81 | N30: 1 | P30: 2 | T30: 4 | Z30: 2 | AB30: =N30*N$27 -> 180000 | AC30: =O30*O$27 -> 0 | AD30: =P30*P$27 -> 110000 | AE30: =Q30*Q$27 -> 0 | AF30: =R30*R$27 -> 0 | AG30: =S30*S$27 -> 0 | AH30: =T30*T$27 -> 532000 | AI30: =U30*U$27 -> 0 | ... AN30: =Z30*Z$27 -> 930000 | AO30: =IF(B30="P","1 Unit Pek. Pintu ( "&C30&" )","1 Unit Pek. Jendela ( "&C30&" )") -> 1 Unit Pek. Pintu ( P2 ) | AP30: =SUM(AB30:AN30) -> 1752000 | AR30: 5 | AS30: 6 | AT30: 7 | AV30: =IF(AR30=0,"0",VLOOKUP(AR30,$AN$2:$AP$21,3,TRUE)) -> 259337 | AW30: =IF(AS30=0,"0",VLOOKUP(AS30,$AN$2:$AP$21,3,TRUE)) -> 528305 | AX30: =IF(AT30=0,"0",VLOOKUP(AT30,$AN$2:$AP$21,3,TRUE)) -> 528305 | AZ30: =D30*AV30 -> 3760386.5 | BA30: =E30*AW30 -> 1812086.2 | BB30: =F30*AX30 -> 6339660 | BC30: =G30*$AP$20 -> 0 | BD30: =H30*$AP$21 -> 1988617.5 | BE30: =SUM(AZ30:BD30) -> 13900750 | BF30: =ROUNDUP(SUM(AZ30:BD30)+$AP$22,0) -> 14150751 | BH30: =VLOOKUP(AR30,$AN$2:$AO$21,2,TRUE)& VLOOKUP(AS30,$AN$2:$AO$21,2,TRUE)& VLOOKUP(AT30,$AN$2:$AO$21,2,TRUE)& IF(BC30=0,"",$AO$20)& IF(BD30=0,"",$AO$21) -> Kusen UPVC, Pintu UPVC, Jendela UPVC, Kaca Tempered 8 mm
A31: =C31 -> P3 | B31: =LEFT(C31,1) -> P | C31: P3 | D31: 8.9 | E31: 36.6 | F31: 12.3 | H31: 6.334 | N31: 1 | P31: 6 | Z31: 2 | AB31: =N31*N$27 -> 180000 | AC31: =O31*O$27 -> 0 | AD31: =P31*P$27 -> 330000 | AE31: =Q31*Q$27 -> 0 | AF31: =R31*R$27 -> 0 | AG31: =S31*S$27 -> 0 | AH31: =T31*T$27 -> 0 | AI31: =U31*U$27 -> 0 | ... AN31: =Z31*Z$27 -> 930000 | AO31: =IF(B31="P","1 Unit Pek. Pintu ( "&C31&" )","1 Unit Pek. Jendela ( "&C31&" )") -> 1 Unit Pek. Pintu ( P3 ) | AP31: =SUM(AB31:AN31) -> 1440000 | AR31: 5 | AS31: 6 | AT31: 7 | AV31: =IF(AR31=0,"0",VLOOKUP(AR31,$AN$2:$AP$21,3,TRUE)) -> 259337 | AW31: =IF(AS31=0,"0",VLOOKUP(AS31,$AN$2:$AP$21,3,TRUE)) -> 528305 | AX31: =IF(AT31=0,"0",VLOOKUP(AT31,$AN$2:$AP$21,3,TRUE)) -> 528305 | AZ31: =D31*AV31 -> 2308099.3 | BA31: =E31*AW31 -> 19335963 | BB31: =F31*AX31 -> 6498151.5 | BC31: =G31*$AP$20 -> 0 | BD31: =H31*$AP$21 -> 2618691 | BE31: =SUM(AZ31:BD31) -> 30760905 | BF31: =ROUNDUP(SUM(AZ31:BD31)+$AP$22,0) -> 31010905 | BH31: =VLOOKUP(AR31,$AN$2:$AO$21,2,TRUE)& VLOOKUP(AS31,$AN$2:$AO$21,2,TRUE)& VLOOKUP(AT31,$AN$2:$AO$21,2,TRUE)& IF(BC31=0,"",$AO$20)& IF(BD31=0,"",$AO$21) -> Kusen UPVC, Pintu UPVC, Jendela UPVC, Kaca Tempered 8 mm
A32: =C32 -> P4 | B32: =LEFT(C32,1) -> P | C32: P4 | D32: 9.1 | E32: 7.3 | F32: 11.1 | H32: 0.78 | N32: 1 | T32: 2 | Y32: 1 | AB32: =N32*N$27 -> 180000 | AC32: =O32*O$27 -> 0 | AD32: =P32*P$27 -> 0 | AE32: =Q32*Q$27 -> 0 | AF32: =R32*R$27 -> 0 | AG32: =S32*S$27 -> 0 | AH32: =T32*T$27 -> 266000 | AI32: =U32*U$27 -> 0 | ... AN32: =Z32*Z$27 -> 0 | AO32: =IF(B32="P","1 Unit Pek. Pintu ( "&C32&" )","1 Unit Pek. Jendela ( "&C32&" )") -> 1 Unit Pek. Pintu ( P4 ) | AP32: =SUM(AB32:AN32) -> 656000 | AR32: 5 | AS32: 6 | AT32: 7 | AV32: =IF(AR32=0,"0",VLOOKUP(AR32,$AN$2:$AP$21,3,TRUE)) -> 259337 | AW32: =IF(AS32=0,"0",VLOOKUP(AS32,$AN$2:$AP$21,3,TRUE)) -> 528305 | AX32: =IF(AT32=0,"0",VLOOKUP(AT32,$AN$2:$AP$21,3,TRUE)) -> 528305 | AZ32: =D32*AV32 -> 2359966.7 | BA32: =E32*AW32 -> 3856626.5 | BB32: =F32*AX32 -> 5864185.5 | BC32: =G32*$AP$20 -> 0 | BD32: =H32*$AP$21 -> 322478.52 | BE32: =SUM(AZ32:BD32) -> 12403257 | BF32: =ROUNDUP(SUM(AZ32:BD32)+$AP$22,0) -> 12653258 | BH32: =VLOOKUP(AR32,$AN$2:$AO$21,2,TRUE)& VLOOKUP(AS32,$AN$2:$AO$21,2,TRUE)& VLOOKUP(AT32,$AN$2:$AO$21,2,TRUE)& IF(BC32=0,"",$AO$20)& IF(BD32=0,"",$AO$21) -> Kusen UPVC, Pintu UPVC, Jendela UPVC, Kaca Tempered 8 mm
A33: =C33 -> P5 | B33: =LEFT(C33,1) -> P | C33: P5 | D33: 8.2 | E33: 16 | N33: 1 | R33: 2 | T33: 2 | Z33: 2 | AB33: =N33*N$27 -> 180000 | AC33: =O33*O$27 -> 0 | AD33: =P33*P$27 -> 0 | AE33: =Q33*Q$27 -> 0 | AF33: =R33*R$27 -> 79000 | AG33: =S33*S$27 -> 0 | AH33: =T33*T$27 -> 266000 | AI33: =U33*U$27 -> 0 | ... AN33: =Z33*Z$27 -> 930000 | AO33: =IF(B33="P","1 Unit Pek. Pintu ( "&C33&" )","1 Unit Pek. Jendela ( "&C33&" )") -> 1 Unit Pek. Pintu ( P5 ) | AP33: =SUM(AB33:AN33) -> 1455000 | AR33: 1 | AS33: 99 | AT33: 99 | AV33: =IF(AR33=0,"0",VLOOKUP(AR33,$AN$2:$AP$21,3,TRUE)) -> 105337 | AW33: =IF(AS33=0,"0",VLOOKUP(AS33,$AN$2:$AP$21,3,TRUE)) -> 0 | AX33: =IF(AT33=0,"0",VLOOKUP(AT33,$AN$2:$AP$21,3,TRUE)) -> 0 | AZ33: =D33*AV33 -> 863763.4 | BA33: =E33*AW33 -> 0 | BB33: =F33*AX33 -> 0 | BC33: =G33*$AP$20 -> 0 | BD33: =H33*$AP$21 -> 0 | BE33: =SUM(AZ33:BD33) -> 863763.4 | BF33: =ROUNDUP(SUM(AZ33:BD33)+$AP$22,0) -> 1113764 | BH33: =VLOOKUP(AR33,$AN$2:$AO$21,2,TRUE)& VLOOKUP(AS33,$AN$2:$AO$21,2,TRUE)& VLOOKUP(AT33,$AN$2:$AO$21,2,TRUE)& IF(BC33=0,"",$AO$20)& IF(BD33=0,"",$AO$21) -> Kusen Aluminium 4"
A34: =C34 -> P6 | B34: =LEFT(C34,1) -> P | C34: P6 | D34: 6.7 | E34: 13 | N34: 1 | T34: 4 | Z34: 2 | AB34: =N34*N$27 -> 180000 | AC34: =O34*O$27 -> 0 | AD34: =P34*P$27 -> 0 | AE34: =Q34*Q$27 -> 0 | AF34: =R34*R$27 -> 0 | AG34: =S34*S$27 -> 0 | AH34: =T34*T$27 -> 532000 | AI34: =U34*U$27 -> 0 | ... AN34: =Z34*Z$27 -> 930000 | AO34: =IF(B34="P","1 Unit Pek. Pintu ( "&C34&" )","1 Unit Pek. Jendela ( "&C34&" )") -> 1 Unit Pek. Pintu ( P6 ) | AP34: =SUM(AB34:AN34) -> 1642000 | AR34: 5 | AS34: 12 | AT34: 99 | AV34: =IF(AR34=0,"0",VLOOKUP(AR34,$AN$2:$AP$21,3,TRUE)) -> 259337 | AW34: =IF(AS34=0,"0",VLOOKUP(AS34,$AN$2:$AP$21,3,TRUE)) -> 853394 | AX34: =IF(AT34=0,"0",VLOOKUP(AT34,$AN$2:$AP$21,3,TRUE)) -> 0 | AZ34: =D34*AV34 -> 1737557.9 | BA34: =E34*AW34 -> 11094122 | BB34: =F34*AX34 -> 0 | BC34: =G34*$AP$20 -> 0 | BD34: =H34*$AP$21 -> 0 | BE34: =SUM(AZ34:BD34) -> 12831680 | BF34: =ROUNDUP(SUM(AZ34:BD34)+$AP$22,0) -> 13081680 | BH34: =VLOOKUP(AR34,$AN$2:$AO$21,2,TRUE)& VLOOKUP(AS34,$AN$2:$AO$21,2,TRUE)& VLOOKUP(AT34,$AN$2:$AO$21,2,TRUE)& IF(BC34=0,"",$AO$20)& IF(BD34=0,"",$AO$21) -> Kusen UPVC, Pintu Panel Teakwood
A35: =C35 -> P7 | B35: =LEFT(C35,1) -> P | C35: P7 | D35: 6 | E35: 6.7 | N35: 1 | T35: 2 | Y35: 1 | AB35: =N35*N$27 -> 180000 | AC35: =O35*O$27 -> 0 | AD35: =P35*P$27 -> 0 | AE35: =Q35*Q$27 -> 0 | AF35: =R35*R$27 -> 0 | AG35: =S35*S$27 -> 0 | AH35: =T35*T$27 -> 266000 | AI35: =U35*U$27 -> 0 | ... AN35: =Z35*Z$27 -> 0 | AO35: =IF(B35="P","1 Unit Pek. Pintu ( "&C35&" )","1 Unit Pek. Jendela ( "&C35&" )") -> 1 Unit Pek. Pintu ( P7 ) | AP35: =SUM(AB35:AN35) -> 656000 | AR35: 1 | AS35: 12 | AT35: 99 | AV35: =IF(AR35=0,"0",VLOOKUP(AR35,$AN$2:$AP$21,3,TRUE)) -> 105337 | AW35: =IF(AS35=0,"0",VLOOKUP(AS35,$AN$2:$AP$21,3,TRUE)) -> 853394 | AX35: =IF(AT35=0,"0",VLOOKUP(AT35,$AN$2:$AP$21,3,TRUE)) -> 0 | AZ35: =D35*AV35 -> 632022 | BA35: =E35*AW35 -> 5717739.8 | BB35: =F35*AX35 -> 0 | BC35: =G35*$AP$20 -> 0 | BD35: =H35*$AP$21 -> 0 | BE35: =SUM(AZ35:BD35) -> 6349761.8 | BF35: =ROUNDUP(SUM(AZ35:BD35)+$AP$22,0) -> 6599762 | BH35: =VLOOKUP(AR35,$AN$2:$AO$21,2,TRUE)& VLOOKUP(AS35,$AN$2:$AO$21,2,TRUE)& VLOOKUP(AT35,$AN$2:$AO$21,2,TRUE)& IF(BC35=0,"",$AO$20)& IF(BD35=0,"",$AO$21) -> Kusen Aluminium 4", Pintu Panel Teakwood
A36: =C36 -> P8 | B36: =LEFT(C36,1) -> P | C36: P8 | D36: 5.9 | E36: 6.5 | N36: 1 | T36: 2 | Y36: 1 | AB36: =N36*N$27 -> 180000 | AC36: =O36*O$27 -> 0 | AD36: =P36*P$27 -> 0 | AE36: =Q36*Q$27 -> 0 | AF36: =R36*R$27 -> 0 | AG36: =S36*S$27 -> 0 | AH36: =T36*T$27 -> 266000 | AI36: =U36*U$27 -> 0 | ... AN36: =Z36*Z$27 -> 0 | AO36: =IF(B36="P","1 Unit Pek. Pintu ( "&C36&" )","1 Unit Pek. Jendela ( "&C36&" )") -> 1 Unit Pek. Pintu ( P8 ) | AP36: =SUM(AB36:AN36) -> 656000 | AR36: 1 | AS36: 12 | AT36: 99 | AV36: =IF(AR36=0,"0",VLOOKUP(AR36,$AN$2:$AP$21,3,TRUE)) -> 105337 | AW36: =IF(AS36=0,"0",VLOOKUP(AS36,$AN$2:$AP$21,3,TRUE)) -> 853394 | AX36: =IF(AT36=0,"0",VLOOKUP(AT36,$AN$2:$AP$21,3,TRUE)) -> 0 | AZ36: =D36*AV36 -> 621488.3 | BA36: =E36*AW36 -> 5547061 | BB36: =F36*AX36 -> 0 | BC36: =G36*$AP$20 -> 0 | BD36: =H36*$AP$21 -> 0 | BE36: =SUM(AZ36:BD36) -> 6168549.3 | BF36: =ROUNDUP(SUM(AZ36:BD36)+$AP$22,0) -> 6418550 | BH36: =VLOOKUP(AR36,$AN$2:$AO$21,2,TRUE)& VLOOKUP(AS36,$AN$2:$AO$21,2,TRUE)& VLOOKUP(AT36,$AN$2:$AO$21,2,TRUE)& IF(BC36=0,"",$AO$20)& IF(BD36=0,"",$AO$21) -> Kusen Aluminium 4", Pintu Panel Teakwood
A37: =C37 -> P9 | B37: =LEFT(C37,1) -> P | C37: P9 | D37: 5.2 | E37: 5.7 | N37: 1 | T37: 2 | Y37: 1 | AB37: =N37*N$27 -> 180000 | AC37: =O37*O$27 -> 0 | AD37: =P37*P$27 -> 0 | AE37: =Q37*Q$27 -> 0 | AF37: =R37*R$27 -> 0 | AG37: =S37*S$27 -> 0 | AH37: =T37*T$27 -> 266000 | AI37: =U37*U$27 -> 0 | ... AN37: =Z37*Z$27 -> 0 | AO37: =IF(B37="P","1 Unit Pek. Pintu ( "&C37&" )","1 Unit Pek. Jendela ( "&C37&" )") -> 1 Unit Pek. Pintu ( P9 ) | AP37: =SUM(AB37:AN37) -> 656000 | AR37: 5 | AS37: 6 | AT37: 99 | AV37: =IF(AR37=0,"0",VLOOKUP(AR37,$AN$2:$AP$21,3,TRUE)) -> 259337 | AW37: =IF(AS37=0,"0",VLOOKUP(AS37,$AN$2:$AP$21,3,TRUE)) -> 528305 | AX37: =IF(AT37=0,"0",VLOOKUP(AT37,$AN$2:$AP$21,3,TRUE)) -> 0 | AZ37: =D37*AV37 -> 1348552.4 | BA37: =E37*AW37 -> 3011338.5 | BB37: =F37*AX37 -> 0 | BC37: =G37*$AP$20 -> 0 | BD37: =H37*$AP$21 -> 0 | BE37: =SUM(AZ37:BD37) -> 4359890.9 | BF37: =ROUNDUP(SUM(AZ37:BD37)+$AP$22,0) -> 4609891 | BH37: =VLOOKUP(AR37,$AN$2:$AO$21,2,TRUE)& VLOOKUP(AS37,$AN$2:$AO$21,2,TRUE)& VLOOKUP(AT37,$AN$2:$AO$21,2,TRUE)& IF(BC37=0,"",$AO$20)& IF(BD37=0,"",$AO$21) -> Kusen UPVC, Pintu UPVC
A38: =C38 -> P10 | B38: =LEFT(C38,1) -> P | C38: P10 | AB38: =N38*N$27 -> 0 | AC38: =O38*O$27 -> 0 | AD38: =P38*P$27 -> 0 | AE38: =Q38*Q$27 -> 0 | AF38: =R38*R$27 -> 0 | AG38: =S38*S$27 -> 0 | AH38: =T38*T$27 -> 0 | AI38: =U38*U$27 -> 0 | ... AN38: =Z38*Z$27 -> 0 | AO38: =IF(B38="P","1 Unit Pek. Pintu ( "&C38&" )","1 Unit Pek. Jendela ( "&C38&" )") -> 1 Unit Pek. Pintu ( P10 ) | AP38: =SUM(AB38:AN38) -> 0 | AR38: 99 | AS38: 99 | AT38: 99 | AV38: =IF(AR38=0,"0",VLOOKUP(AR38,$AN$2:$AP$21,3,TRUE)) -> 0 | AW38: =IF(AS38=0,"0",VLOOKUP(AS38,$AN$2:$AP$21,3,TRUE)) -> 0 | AX38: =IF(AT38=0,"0",VLOOKUP(AT38,$AN$2:$AP$21,3,TRUE)) -> 0 | AZ38: =D38*AV38 -> 0 | BA38: =E38*AW38 -> 0 | BB38: =F38*AX38 -> 0 | BC38: =G38*$AP$20 -> 0 | BD38: =H38*$AP$21 -> 0 | BE38: =SUM(AZ38:BD38) -> 0 | BF38: =ROUNDUP(SUM(AZ38:BD38)+$AP$22,0) -> 250000 | BH38: =VLOOKUP(AR38,$AN$2:$AO$21,2,TRUE)& VLOOKUP(AS38,$AN$2:$AO$21,2,TRUE)& VLOOKUP(AT38,$AN$2:$AO$21,2,TRUE)& IF(BC38=0,"",$AO$20)& IF(BD38=0,"",$AO$21)
A39: =C39 -> P11 | B39: =LEFT(C39,1) -> P | C39: P11 | AB39: =N39*N$27 -> 0 | AC39: =O39*O$27 -> 0 | AD39: =P39*P$27 -> 0 | AE39: =Q39*Q$27 -> 0 | AF39: =R39*R$27 -> 0 | AG39: =S39*S$27 -> 0 | AH39: =T39*T$27 -> 0 | AI39: =U39*U$27 -> 0 | ... AN39: =Z39*Z$27 -> 0 | AO39: =IF(B39="P","1 Unit Pek. Pintu ( "&C39&" )","1 Unit Pek. Jendela ( "&C39&" )") -> 1 Unit Pek. Pintu ( P11 ) | AP39: =SUM(AB39:AN39) -> 0 | AR39: 99 | AS39: 99 | AT39: 99 | AV39: =IF(AR39=0,"0",VLOOKUP(AR39,$AN$2:$AP$21,3,TRUE)) -> 0 | AW39: =IF(AS39=0,"0",VLOOKUP(AS39,$AN$2:$AP$21,3,TRUE)) -> 0 | AX39: =IF(AT39=0,"0",VLOOKUP(AT39,$AN$2:$AP$21,3,TRUE)) -> 0 | AZ39: =D39*AV39 -> 0 | BA39: =E39*AW39 -> 0 | BB39: =F39*AX39 -> 0 | BC39: =G39*$AP$20 -> 0 | BD39: =H39*$AP$21 -> 0 | BE39: =SUM(AZ39:BD39) -> 0 | BF39: =ROUNDUP(SUM(AZ39:BD39)+$AP$22,0) -> 250000 | BH39: =VLOOKUP(AR39,$AN$2:$AO$21,2,TRUE)& VLOOKUP(AS39,$AN$2:$AO$21,2,TRUE)& VLOOKUP(AT39,$AN$2:$AO$21,2,TRUE)& IF(BC39=0,"",$AO$20)& IF(BD39=0,"",$AO$21)
A40: =C40 -> J1 | B40: =LEFT(C40,1) -> J | C40: J1 | D40: 17.2 | F40: 20.24 | H40: 3.584 | P40: 4 | R40: 8 | AB40: =N40*N$27 -> 0 | AC40: =O40*O$27 -> 0 | AD40: =P40*P$27 -> 220000 | AE40: =Q40*Q$27 -> 0 | AF40: =R40*R$27 -> 316000 | AG40: =S40*S$27 -> 0 | AH40: =T40*T$27 -> 0 | AI40: =U40*U$27 -> 0 | ... AN40: =Z40*Z$27 -> 0 | AO40: =IF(B40="P","1 Unit Pek. Pintu ( "&C40&" )","1 Unit Pek. Jendela ( "&C40&" )") -> 1 Unit Pek. Jendela ( J1 ) | AP40: =SUM(AB40:AN40) -> 536000 | AR40: 5 | AS40: 99 | AT40: 7 | AV40: =IF(AR40=0,"0",VLOOKUP(AR40,$AN$2:$AP$21,3,TRUE)) -> 259337 | AW40: =IF(AS40=0,"0",VLOOKUP(AS40,$AN$2:$AP$21,3,TRUE)) -> 0 | AX40: =IF(AT40=0,"0",VLOOKUP(AT40,$AN$2:$AP$21,3,TRUE)) -> 528305 | AZ40: =D40*AV40 -> 4460596.4 | BA40: =E40*AW40 -> 0 | BB40: =F40*AX40 -> 10692893 | BC40: =G40*$AP$20 -> 0 | BD40: =H40*$AP$21 -> 1481747.5 | BE40: =SUM(AZ40:BD40) -> 16635237 | BF40: =ROUNDUP(SUM(AZ40:BD40)+$AP$22,0) -> 16885238 | BH40: =VLOOKUP(AR40,$AN$2:$AO$21,2,TRUE)& VLOOKUP(AS40,$AN$2:$AO$21,2,TRUE)& VLOOKUP(AT40,$AN$2:$AO$21,2,TRUE)& IF(BC40=0,"",$AO$20)& IF(BD40=0,"",$AO$21) -> Kusen UPVC, Jendela UPVC, Kaca Tempered 8 mm
A41: =C41 -> J2 | B41: =LEFT(C41,1) -> J | C41: J2 | D41: 14.7 | F41: 21.6 | H41: 2.75 | P41: 6 | R41: 12 | AB41: =N41*N$27 -> 0 | AC41: =O41*O$27 -> 0 | AD41: =P41*P$27 -> 330000 | AE41: =Q41*Q$27 -> 0 | AF41: =R41*R$27 -> 474000 | AG41: =S41*S$27 -> 0 | AH41: =T41*T$27 -> 0 | AI41: =U41*U$27 -> 0 | ... AN41: =Z41*Z$27 -> 0 | AO41: =IF(B41="P","1 Unit Pek. Pintu ( "&C41&" )","1 Unit Pek. Jendela ( "&C41&" )") -> 1 Unit Pek. Jendela ( J2 ) | AP41: =SUM(AB41:AN41) -> 804000 | AR41: 5 | AS41: 99 | AT41: 7 | AV41: =IF(AR41=0,"0",VLOOKUP(AR41,$AN$2:$AP$21,3,TRUE)) -> 259337 | AW41: =IF(AS41=0,"0",VLOOKUP(AS41,$AN$2:$AP$21,3,TRUE)) -> 0 | AX41: =IF(AT41=0,"0",VLOOKUP(AT41,$AN$2:$AP$21,3,TRUE)) -> 528305 | AZ41: =D41*AV41 -> 3812253.9 | BA41: =E41*AW41 -> 0 | BB41: =F41*AX41 -> 11411388 | BC41: =G41*$AP$20 -> 0 | BD41: =H41*$AP$21 -> 1136943.5 | BE41: =SUM(AZ41:BD41) -> 16360585 | BF41: =ROUNDUP(SUM(AZ41:BD41)+$AP$22,0) -> 16610586 | BH41: =VLOOKUP(AR41,$AN$2:$AO$21,2,TRUE)& VLOOKUP(AS41,$AN$2:$AO$21,2,TRUE)& VLOOKUP(AT41,$AN$2:$AO$21,2,TRUE)& IF(BC41=0,"",$AO$20)& IF(BD41=0,"",$AO$21) -> Kusen UPVC, Jendela UPVC, Kaca Tempered 8 mm
A42: =C42 -> J3 | B42: =LEFT(C42,1) -> J | C42: J3 | D42: 12.1 | F42: 15 | H42: 1.884 | P42: 4 | R42: 8 | AB42: =N42*N$27 -> 0 | AC42: =O42*O$27 -> 0 | AD42: =P42*P$27 -> 220000 | AE42: =Q42*Q$27 -> 0 | AF42: =R42*R$27 -> 316000 | AG42: =S42*S$27 -> 0 | AH42: =T42*T$27 -> 0 | AI42: =U42*U$27 -> 0 | ... AN42: =Z42*Z$27 -> 0 | AO42: =IF(B42="P","1 Unit Pek. Pintu ( "&C42&" )","1 Unit Pek. Jendela ( "&C42&" )") -> 1 Unit Pek. Jendela ( J3 ) | AP42: =SUM(AB42:AN42) -> 536000 | AR42: 5 | AS42: 99 | AT42: 7 | AV42: =IF(AR42=0,"0",VLOOKUP(AR42,$AN$2:$AP$21,3,TRUE)) -> 259337 | AW42: =IF(AS42=0,"0",VLOOKUP(AS42,$AN$2:$AP$21,3,TRUE)) -> 0 | AX42: =IF(AT42=0,"0",VLOOKUP(AT42,$AN$2:$AP$21,3,TRUE)) -> 528305 | AZ42: =D42*AV42 -> 3137977.7 | BA42: =E42*AW42 -> 0 | BB42: =F42*AX42 -> 7924575 | BC42: =G42*$AP$20 -> 0 | BD42: =H42*$AP$21 -> 778909.66 | BE42: =SUM(AZ42:BD42) -> 11841462 | BF42: =ROUNDUP(SUM(AZ42:BD42)+$AP$22,0) -> 12091463 | BH42: =VLOOKUP(AR42,$AN$2:$AO$21,2,TRUE)& VLOOKUP(AS42,$AN$2:$AO$21,2,TRUE)& VLOOKUP(AT42,$AN$2:$AO$21,2,TRUE)& IF(BC42=0,"",$AO$20)& IF(BD42=0,"",$AO$21) -> Kusen UPVC, Jendela UPVC, Kaca Tempered 8 mm
A43: =C43 -> J4 | B43: =LEFT(C43,1) -> J | C43: J4 | D43: 5 | F43: 4.6 | H43: 0.66 | P43: 2 | R43: 4 | AB43: =N43*N$27 -> 0 | AC43: =O43*O$27 -> 0 | AD43: =P43*P$27 -> 110000 | AE43: =Q43*Q$27 -> 0 | AF43: =R43*R$27 -> 158000 | AG43: =S43*S$27 -> 0 | AH43: =T43*T$27 -> 0 | AI43: =U43*U$27 -> 0 | ... AN43: =Z43*Z$27 -> 0 | AO43: =IF(B43="P","1 Unit Pek. Pintu ( "&C43&" )","1 Unit Pek. Jendela ( "&C43&" )") -> 1 Unit Pek. Jendela ( J4 ) | AP43: =SUM(AB43:AN43) -> 268000 | AR43: 5 | AS43: 99 | AT43: 7 | AV43: =IF(AR43=0,"0",VLOOKUP(AR43,$AN$2:$AP$21,3,TRUE)) -> 259337 | AW43: =IF(AS43=0,"0",VLOOKUP(AS43,$AN$2:$AP$21,3,TRUE)) -> 0 | AX43: =IF(AT43=0,"0",VLOOKUP(AT43,$AN$2:$AP$21,3,TRUE)) -> 528305 | AZ43: =D43*AV43 -> 1296685 | BA43: =E43*AW43 -> 0 | BB43: =F43*AX43 -> 2430203 | BC43: =G43*$AP$20 -> 0 | BD43: =H43*$AP$21 -> 272866.44 | BE43: =SUM(AZ43:BD43) -> 3999754.4 | BF43: =ROUNDUP(SUM(AZ43:BD43)+$AP$22,0) -> 4249755 | BH43: =VLOOKUP(AR43,$AN$2:$AO$21,2,TRUE)& VLOOKUP(AS43,$AN$2:$AO$21,2,TRUE)& VLOOKUP(AT43,$AN$2:$AO$21,2,TRUE)& IF(BC43=0,"",$AO$20)& IF(BD43=0,"",$AO$21) -> Kusen UPVC, Jendela UPVC, Kaca Tempered 8 mm
A44: J5 | B44: =LEFT(C44,1) -> J | C44: J5 | D44: 0 | F44: 0 | H44: 0 | P44: 1 | R44: 2 | AB44: =N44*N$27 -> 0 | AC44: =O44*O$27 -> 0 | AD44: =P44*P$27 -> 55000 | AE44: =Q44*Q$27 -> 0 | AF44: =R44*R$27 -> 79000 | AG44: =S44*S$27 -> 0 | AH44: =T44*T$27 -> 0 | AI44: =U44*U$27 -> 0 | ... AN44: =Z44*Z$27 -> 0 | AO44: =IF(B44="P","1 Unit Pek. Pintu ( "&C44&" )","1 Unit Pek. Jendela ( "&C44&" )") -> 1 Unit Pek. Jendela ( J5 ) | AP44: =SUM(AB44:AN44) -> 134000 | AR44: 1 | AS44: 99 | AT44: 7 | AV44: =IF(AR44=0,"0",VLOOKUP(AR44,$AN$2:$AP$21,3,TRUE)) -> 105337 | AW44: =IF(AS44=0,"0",VLOOKUP(AS44,$AN$2:$AP$21,3,TRUE)) -> 0 | AX44: =IF(AT44=0,"0",VLOOKUP(AT44,$AN$2:$AP$21,3,TRUE)) -> 528305 | AZ44: =D44*AV44 -> 0 | BA44: =E44*AW44 -> 0 | BB44: =F44*AX44 -> 0 | BC44: =G44*$AP$20 -> 0 | BD44: =H44*$AP$21 -> 0 | BE44: =SUM(AZ44:BD44) -> 0 | BF44: =ROUNDUP(SUM(AZ44:BD44)+$AP$22,0) -> 250000 | BH44: =VLOOKUP(AR44,$AN$2:$AO$21,2,TRUE)& VLOOKUP(AS44,$AN$2:$AO$21,2,TRUE)& VLOOKUP(AT44,$AN$2:$AO$21,2,TRUE)& IF(BC44=0,"",$AO$20)& IF(BD44=0,"",$AO$21) -> Kusen Aluminium 4", Jendela UPVC
A45: =C45 -> J6 | B45: =LEFT(C45,1) -> J | C45: J6 | D45: 0 | F45: 0 | H45: 0 | AB45: =N45*N$27 -> 0 | AC45: =O45*O$27 -> 0 | AD45: =P45*P$27 -> 0 | AE45: =Q45*Q$27 -> 0 | AF45: =R45*R$27 -> 0 | AG45: =S45*S$27 -> 0 | AH45: =T45*T$27 -> 0 | AI45: =U45*U$27 -> 0 | ... AN45: =Z45*Z$27 -> 0 | AO45: =IF(B45="P","1 Unit Pek. Pintu ( "&C45&" )","1 Unit Pek. Jendela ( "&C45&" )") -> 1 Unit Pek. Jendela ( J6 ) | AP45: =SUM(AB45:AN45) -> 0 | AR45: 1 | AS45: 99 | AT45: 3 | AV45: =IF(AR45=0,"0",VLOOKUP(AR45,$AN$2:$AP$21,3,TRUE)) -> 105337 | AW45: =IF(AS45=0,"0",VLOOKUP(AS45,$AN$2:$AP$21,3,TRUE)) -> 0 | AX45: =IF(AT45=0,"0",VLOOKUP(AT45,$AN$2:$AP$21,3,TRUE)) -> 137405 | AZ45: =D45*AV45 -> 0 | BA45: =E45*AW45 -> 0 | BB45: =F45*AX45 -> 0 | BC45: =G45*$AP$20 -> 0 | BD45: =H45*$AP$21 -> 0 | BE45: =SUM(AZ45:BD45) -> 0 | BF45: =ROUNDUP(SUM(AZ45:BD45)+$AP$22,0) -> 250000 | BH45: =VLOOKUP(AR45,$AN$2:$AO$21,2,TRUE)& VLOOKUP(AS45,$AN$2:$AO$21,2,TRUE)& VLOOKUP(AT45,$AN$2:$AO$21,2,TRUE)& IF(BC45=0,"",$AO$20)& IF(BD45=0,"",$AO$21) -> Kusen Aluminium 4", Jendela Aluminium 3"
A46: =C46 -> J7 | B46: =LEFT(C46,1) -> J | C46: J7 | D46: 0 | F46: 0 | H46: 0 | AB46: =N46*N$27 -> 0 | AC46: =O46*O$27 -> 0 | AD46: =P46*P$27 -> 0 | AE46: =Q46*Q$27 -> 0 | AF46: =R46*R$27 -> 0 | AG46: =S46*S$27 -> 0 | AH46: =T46*T$27 -> 0 | AI46: =U46*U$27 -> 0 | ... AN46: =Z46*Z$27 -> 0 | AO46: =IF(B46="P","1 Unit Pek. Pintu ( "&C46&" )","1 Unit Pek. Jendela ( "&C46&" )") -> 1 Unit Pek. Jendela ( J7 ) | AP46: =SUM(AB46:AN46) -> 0 | AR46: 1 | AS46: 99 | AT46: 3 | AV46: =IF(AR46=0,"0",VLOOKUP(AR46,$AN$2:$AP$21,3,TRUE)) -> 105337 | AW46: =IF(AS46=0,"0",VLOOKUP(AS46,$AN$2:$AP$21,3,TRUE)) -> 0 | AX46: =IF(AT46=0,"0",VLOOKUP(AT46,$AN$2:$AP$21,3,TRUE)) -> 137405 | AZ46: =D46*AV46 -> 0 | BA46: =E46*AW46 -> 0 | BB46: =F46*AX46 -> 0 | BC46: =G46*$AP$20 -> 0 | BD46: =H46*$AP$21 -> 0 | BE46: =SUM(AZ46:BD46) -> 0 | BF46: =ROUNDUP(SUM(AZ46:BD46)+$AP$22,0) -> 250000 | BH46: =VLOOKUP(AR46,$AN$2:$AO$21,2,TRUE)& VLOOKUP(AS46,$AN$2:$AO$21,2,TRUE)& VLOOKUP(AT46,$AN$2:$AO$21,2,TRUE)& IF(BC46=0,"",$AO$20)& IF(BD46=0,"",$AO$21) -> Kusen Aluminium 4", Jendela Aluminium 3"
A47: =C47 -> J8 | B47: =LEFT(C47,1) -> J | C47: J8 | D47: 0 | F47: 0 | H47: 0 | AB47: =N47*N$27 -> 0 | AC47: =O47*O$27 -> 0 | AD47: =P47*P$27 -> 0 | AE47: =Q47*Q$27 -> 0 | AF47: =R47*R$27 -> 0 | AG47: =S47*S$27 -> 0 | AH47: =T47*T$27 -> 0 | AI47: =U47*U$27 -> 0 | ... AN47: =Z47*Z$27 -> 0 | AO47: =IF(B47="P","1 Unit Pek. Pintu ( "&C47&" )","1 Unit Pek. Jendela ( "&C47&" )") -> 1 Unit Pek. Jendela ( J8 ) | AP47: =SUM(AB47:AN47) -> 0 | AR47: 1 | AS47: 99 | AT47: 3 | AV47: =IF(AR47=0,"0",VLOOKUP(AR47,$AN$2:$AP$21,3,TRUE)) -> 105337 | AW47: =IF(AS47=0,"0",VLOOKUP(AS47,$AN$2:$AP$21,3,TRUE)) -> 0 | AX47: =IF(AT47=0,"0",VLOOKUP(AT47,$AN$2:$AP$21,3,TRUE)) -> 137405 | AZ47: =D47*AV47 -> 0 | BA47: =E47*AW47 -> 0 | BB47: =F47*AX47 -> 0 | BC47: =G47*$AP$20 -> 0 | BD47: =H47*$AP$21 -> 0 | BE47: =SUM(AZ47:BD47) -> 0 | BF47: =ROUNDUP(SUM(AZ47:BD47)+$AP$22,0) -> 250000 | BH47: =VLOOKUP(AR47,$AN$2:$AO$21,2,TRUE)& VLOOKUP(AS47,$AN$2:$AO$21,2,TRUE)& VLOOKUP(AT47,$AN$2:$AO$21,2,TRUE)& IF(BC47=0,"",$AO$20)& IF(BD47=0,"",$AO$21) -> Kusen Aluminium 4", Jendela Aluminium 3"
A48: =C48 -> BV1 | B48: =LEFT(C48,1) -> B | C48: BV1 | D48: 0.56 | F48: 0.4 | H48: 0.096 | P48: 1 | R48: 2 | AB48: =N48*N$27 -> 0 | AC48: =O48*O$27 -> 0 | AD48: =P48*P$27 -> 55000 | AE48: =Q48*Q$27 -> 0 | AF48: =R48*R$27 -> 79000 | AG48: =S48*S$27 -> 0 | AH48: =T48*T$27 -> 0 | AI48: =U48*U$27 -> 0 | ... AN48: =Z48*Z$27 -> 0 | AO48: =IF(B48="P","1 Unit Pek. Pintu ( "&C48&" )","1 Unit Pek. Jendela ( "&C48&" )") -> 1 Unit Pek. Jendela ( BV1 ) | AP48: =SUM(AB48:AN48) -> 134000 | AR48: 1 | AS48: 99 | AT48: 3 | AV48: =IF(AR48=0,"0",VLOOKUP(AR48,$AN$2:$AP$21,3,TRUE)) -> 105337 | AW48: =IF(AS48=0,"0",VLOOKUP(AS48,$AN$2:$AP$21,3,TRUE)) -> 0 | AX48: =IF(AT48=0,"0",VLOOKUP(AT48,$AN$2:$AP$21,3,TRUE)) -> 137405 | AZ48: =D48*AV48 -> 58988.72 | BA48: =E48*AW48 -> 0 | BB48: =F48*AX48 -> 54962 | BC48: =G48*$AP$20 -> 0 | BD48: =H48*$AP$21 -> 39689.664 | BE48: =SUM(AZ48:BD48) -> 153640.38 | BF48: =ROUNDUP(SUM(AZ48:BD48)+$AP$22,0) -> 403641 | BH48: =VLOOKUP(AR48,$AN$2:$AO$21,2,TRUE)& VLOOKUP(AS48,$AN$2:$AO$21,2,TRUE)& VLOOKUP(AT48,$AN$2:$AO$21,2,TRUE)& IF(BC48=0,"",$AO$20)& IF(BD48=0,"",$AO$21) -> Kusen Aluminium 4", Jendela Aluminium 3" , Kaca Tempered 8 mm
A49: BV | B49: B | C49: BV2 | D49: 1.12 | F49: 0.8 | H49: 0.192 | P49: 2 | R49: 4 | AB49: =N49*N$27 -> 0 | AC49: =O49*O$27 -> 0 | AD49: =P49*P$27 -> 110000 | AE49: =Q49*Q$27 -> 0 | AF49: =R49*R$27 -> 158000 | AG49: =S49*S$27 -> 0 | AH49: =T49*T$27 -> 0 | AI49: =U49*U$27 -> 0 | ... AN49: =Z49*Z$27 -> 0 | AO49: =IF(B49="P","1 Unit Pek. Pintu ( "&C49&" )","1 Unit Pek. Jendela ( "&C49&" )") -> 1 Unit Pek. Jendela ( BV2 ) | AP49: =SUM(AB49:AN49) -> 268000 | AR49: 1 | AS49: 99 | AT49: 3 | AV49: =IF(AR49=0,"0",VLOOKUP(AR49,$AN$2:$AP$21,3,TRUE)) -> 105337 | AW49: =IF(AS49=0,"0",VLOOKUP(AS49,$AN$2:$AP$21,3,TRUE)) -> 0 | AX49: =IF(AT49=0,"0",VLOOKUP(AT49,$AN$2:$AP$21,3,TRUE)) -> 137405 | AZ49: =D49*AV49 -> 117977.44 | BA49: =E49*AW49 -> 0 | BB49: =F49*AX49 -> 109924 | BC49: =G49*$AP$20 -> 0 | BD49: =H49*$AP$21 -> 79379.328 | BE49: =SUM(AZ49:BD49) -> 307280.77 | BF49: =ROUNDUP(SUM(AZ49:BD49)+$AP$22,0) -> 557281 | BH49: =VLOOKUP(AR49,$AN$2:$AO$21,2,TRUE)& VLOOKUP(AS49,$AN$2:$AO$21,2,TRUE)& VLOOKUP(AT49,$AN$2:$AO$21,2,TRUE)& IF(BC49=0,"",$AO$20)& IF(BD49=0,"",$AO$21) -> Kusen Aluminium 4", Jendela Aluminium 3" , Kaca Tempered 8 mm
A50: =C50 -> 0 | B50: =LEFT(C50,1) | AB50: =N50*N$27 -> 0 | AC50: =O50*O$27 -> 0 | AD50: =P50*P$27 -> 0 | AE50: =Q50*Q$27 -> 0 | AF50: =R50*R$27 -> 0 | AG50: =S50*S$27 -> 0 | AH50: =T50*T$27 -> 0 | AI50: =U50*U$27 -> 0 | ... AN50: =Z50*Z$27 -> 0 | AO50: =IF(B50="P","1 Unit Pek. Pintu ( "&C50&" )","1 Unit Pek. Jendela ( "&C50&" )") -> 1 Unit Pek. Jendela ( ) | AP50: =SUM(AB50:AN50) -> 0 | AV50: =IF(AR50=0,"0",VLOOKUP(AR50,$AN$2:$AP$21,3,TRUE)) -> 0 | AW50: =IF(AS50=0,"0",VLOOKUP(AS50,$AN$2:$AP$21,3,TRUE)) -> 0 | AX50: =IF(AT50=0,"0",VLOOKUP(AT50,$AN$2:$AP$21,3,TRUE)) -> 0 | AZ50: =D50*AV50 -> 0 | BA50: =E50*AW50 -> 0 | BB50: =F50*AX50 -> 0 | BC50: =G50*$AP$20 -> 0 | BD50: =H50*$AP$21 -> 0 | BE50: =SUM(AZ50:BD50) -> 0 | BF50: =ROUNDUP(SUM(AZ50:BD50)+$AP$22,0) -> 250000 | BH50: =VLOOKUP(AR50,$AN$2:$AO$21,2,TRUE)& VLOOKUP(AS50,$AN$2:$AO$21,2,TRUE)& VLOOKUP(AT50,$AN$2:$AO$21,2,TRUE)& IF(BC50=0,"",$AO$20)& IF(BD50=0,"",$AO$21) -> #N/A
A51: =C51 -> 0 | B51: =LEFT(C51,1) | AB51: =N51*N$27 -> 0 | AC51: =O51*O$27 -> 0 | AD51: =P51*P$27 -> 0 | AE51: =Q51*Q$27 -> 0 | AF51: =R51*R$27 -> 0 | AG51: =S51*S$27 -> 0 | AH51: =T51*T$27 -> 0 | AI51: =U51*U$27 -> 0 | ... AN51: =Z51*Z$27 -> 0 | AO51: =IF(B51="P","1 Unit Pek. Pintu ( "&C51&" )","1 Unit Pek. Jendela ( "&C51&" )") -> 1 Unit Pek. Jendela ( ) | AP51: =SUM(AB51:AN51) -> 0 | AV51: =IF(AR51=0,"0",VLOOKUP(AR51,$AN$2:$AP$21,3,TRUE)) -> 0 | AW51: =IF(AS51=0,"0",VLOOKUP(AS51,$AN$2:$AP$21,3,TRUE)) -> 0 | AX51: =IF(AT51=0,"0",VLOOKUP(AT51,$AN$2:$AP$21,3,TRUE)) -> 0 | AZ51: =D51*AV51 -> 0 | BA51: =E51*AW51 -> 0 | BB51: =F51*AX51 -> 0 | BC51: =G51*$AP$20 -> 0 | BD51: =H51*$AP$21 -> 0 | BE51: =SUM(AZ51:BD51) -> 0 | BF51: =ROUNDUP(SUM(AZ51:BD51)+$AP$22,0) -> 250000 | BH51: =VLOOKUP(AR51,$AN$2:$AO$21,2,TRUE)& VLOOKUP(AS51,$AN$2:$AO$21,2,TRUE)& VLOOKUP(AT51,$AN$2:$AO$21,2,TRUE)& IF(BC51=0,"",$AO$20)& IF(BD51=0,"",$AO$21) -> #N/A
A52: =C52 -> 0 | B52: =LEFT(C52,1) | AB52: =N52*N$27 -> 0 | AC52: =O52*O$27 -> 0 | AD52: =P52*P$27 -> 0 | AE52: =Q52*Q$27 -> 0 | AF52: =R52*R$27 -> 0 | AG52: =S52*S$27 -> 0 | AH52: =T52*T$27 -> 0 | AI52: =U52*U$27 -> 0 | ... AN52: =Z52*Z$27 -> 0 | AO52: =IF(B52="P","1 Unit Pek. Pintu ( "&C52&" )","1 Unit Pek. Jendela ( "&C52&" )") -> 1 Unit Pek. Jendela ( ) | AP52: =SUM(AB52:AN52) -> 0 | AV52: =IF(AR52=0,"0",VLOOKUP(AR52,$AN$2:$AP$21,3,TRUE)) -> 0 | AW52: =IF(AS52=0,"0",VLOOKUP(AS52,$AN$2:$AP$21,3,TRUE)) -> 0 | AX52: =IF(AT52=0,"0",VLOOKUP(AT52,$AN$2:$AP$21,3,TRUE)) -> 0 | AZ52: =D52*AV52 -> 0 | BA52: =E52*AW52 -> 0 | BB52: =F52*AX52 -> 0 | BC52: =G52*$AP$20 -> 0 | BD52: =H52*$AP$21 -> 0 | BE52: =SUM(AZ52:BD52) -> 0 | BF52: =ROUNDUP(SUM(AZ52:BD52)+$AP$22,0) -> 250000 | BH52: =VLOOKUP(AR52,$AN$2:$AO$21,2,TRUE)& VLOOKUP(AS52,$AN$2:$AO$21,2,TRUE)& VLOOKUP(AT52,$AN$2:$AO$21,2,TRUE)& IF(BC52=0,"",$AO$20)& IF(BD52=0,"",$AO$21) -> #N/A
A53: =C53 -> 0 | B53: =LEFT(C53,1) | AB53: =N53*N$27 -> 0 | AC53: =O53*O$27 -> 0 | AD53: =P53*P$27 -> 0 | AE53: =Q53*Q$27 -> 0 | AF53: =R53*R$27 -> 0 | AG53: =S53*S$27 -> 0 | AH53: =T53*T$27 -> 0 | AI53: =U53*U$27 -> 0 | ... AN53: =Z53*Z$27 -> 0 | AO53: =IF(B53="P","1 Unit Pek. Pintu ( "&C53&" )","1 Unit Pek. Jendela ( "&C53&" )") -> 1 Unit Pek. Jendela ( ) | AP53: =SUM(AB53:AN53) -> 0 | AV53: =IF(AR53=0,"0",VLOOKUP(AR53,$AN$2:$AP$21,3,TRUE)) -> 0 | AW53: =IF(AS53=0,"0",VLOOKUP(AS53,$AN$2:$AP$21,3,TRUE)) -> 0 | AX53: =IF(AT53=0,"0",VLOOKUP(AT53,$AN$2:$AP$21,3,TRUE)) -> 0 | AZ53: =D53*AV53 -> 0 | BA53: =E53*AW53 -> 0 | BB53: =F53*AX53 -> 0 | BC53: =G53*$AP$20 -> 0 | BD53: =H53*$AP$21 -> 0 | BE53: =SUM(AZ53:BD53) -> 0 | BF53: =ROUNDUP(SUM(AZ53:BD53)+$AP$22,0) -> 250000 | BH53: =VLOOKUP(AR53,$AN$2:$AO$21,2,TRUE)& VLOOKUP(AS53,$AN$2:$AO$21,2,TRUE)& VLOOKUP(AT53,$AN$2:$AO$21,2,TRUE)& IF(BC53=0,"",$AO$20)& IF(BD53=0,"",$AO$21) -> #N/A
A54: =C54 -> 0 | B54: =LEFT(C54,1) | AB54: =N54*N$27 -> 0 | AC54: =O54*O$27 -> 0 | AD54: =P54*P$27 -> 0 | AE54: =Q54*Q$27 -> 0 | AF54: =R54*R$27 -> 0 | AG54: =S54*S$27 -> 0 | AH54: =T54*T$27 -> 0 | AI54: =U54*U$27 -> 0 | ... AN54: =Z54*Z$27 -> 0 | AO54: =IF(B54="P","1 Unit Pek. Pintu ( "&C54&" )","1 Unit Pek. Jendela ( "&C54&" )") -> 1 Unit Pek. Jendela ( ) | AP54: =SUM(AB54:AN54) -> 0 | AV54: =IF(AR54=0,"0",VLOOKUP(AR54,$AN$2:$AP$21,3,TRUE)) -> 0 | AW54: =IF(AS54=0,"0",VLOOKUP(AS54,$AN$2:$AP$21,3,TRUE)) -> 0 | AX54: =IF(AT54=0,"0",VLOOKUP(AT54,$AN$2:$AP$21,3,TRUE)) -> 0 | AZ54: =D54*AV54 -> 0 | BA54: =E54*AW54 -> 0 | BB54: =F54*AX54 -> 0 | BC54: =G54*$AP$20 -> 0 | BD54: =H54*$AP$21 -> 0 | BE54: =SUM(AZ54:BD54) -> 0 | BF54: =ROUNDUP(SUM(AZ54:BD54)+$AP$22,0) -> 250000 | BH54: =VLOOKUP(AR54,$AN$2:$AO$21,2,TRUE)& VLOOKUP(AS54,$AN$2:$AO$21,2,TRUE)& VLOOKUP(AT54,$AN$2:$AO$21,2,TRUE)& IF(BC54=0,"",$AO$20)& IF(BD54=0,"",$AO$21) -> #N/A
A55: =C55 -> 0 | B55: =LEFT(C55,1) | AB55: =N55*N$27 -> 0 | AC55: =O55*O$27 -> 0 | AD55: =P55*P$27 -> 0 | AE55: =Q55*Q$27 -> 0 | AF55: =R55*R$27 -> 0 | AG55: =S55*S$27 -> 0 | AH55: =T55*T$27 -> 0 | AI55: =U55*U$27 -> 0 | ... AN55: =Z55*Z$27 -> 0 | AO55: =IF(B55="P","1 Unit Pek. Pintu ( "&C55&" )","1 Unit Pek. Jendela ( "&C55&" )") -> 1 Unit Pek. Jendela ( ) | AP55: =SUM(AB55:AN55) -> 0 | AV55: =IF(AR55=0,"0",VLOOKUP(AR55,$AN$2:$AP$21,3,TRUE)) -> 0 | AW55: =IF(AS55=0,"0",VLOOKUP(AS55,$AN$2:$AP$21,3,TRUE)) -> 0 | AX55: =IF(AT55=0,"0",VLOOKUP(AT55,$AN$2:$AP$21,3,TRUE)) -> 0 | AZ55: =D55*AV55 -> 0 | BA55: =E55*AW55 -> 0 | BB55: =F55*AX55 -> 0 | BC55: =G55*$AP$20 -> 0 | BD55: =H55*$AP$21 -> 0 | BE55: =SUM(AZ55:BD55) -> 0 | BF55: =ROUNDUP(SUM(AZ55:BD55)+$AP$22,0) -> 250000 | BH55: =VLOOKUP(AR55,$AN$2:$AO$21,2,TRUE)& VLOOKUP(AS55,$AN$2:$AO$21,2,TRUE)& VLOOKUP(AT55,$AN$2:$AO$21,2,TRUE)& IF(BC55=0,"",$AO$20)& IF(BD55=0,"",$AO$21) -> #N/A
A56: =C56 -> 0 | B56: =LEFT(C56,1) | AB56: =N56*N$27 -> 0 | AC56: =O56*O$27 -> 0 | AD56: =P56*P$27 -> 0 | AE56: =Q56*Q$27 -> 0 | AF56: =R56*R$27 -> 0 | AG56: =S56*S$27 -> 0 | AH56: =T56*T$27 -> 0 | AI56: =U56*U$27 -> 0 | ... AN56: =Z56*Z$27 -> 0 | AO56: =IF(B56="P","1 Unit Pek. Pintu ( "&C56&" )","1 Unit Pek. Jendela ( "&C56&" )") -> 1 Unit Pek. Jendela ( ) | AP56: =SUM(AB56:AN56) -> 0 | AV56: =IF(AR56=0,"0",VLOOKUP(AR56,$AN$2:$AP$21,3,TRUE)) -> 0 | AW56: =IF(AS56=0,"0",VLOOKUP(AS56,$AN$2:$AP$21,3,TRUE)) -> 0 | AX56: =IF(AT56=0,"0",VLOOKUP(AT56,$AN$2:$AP$21,3,TRUE)) -> 0 | AZ56: =D56*AV56 -> 0 | BA56: =E56*AW56 -> 0 | BB56: =F56*AX56 -> 0 | BC56: =G56*$AP$20 -> 0 | BD56: =H56*$AP$21 -> 0 | BE56: =SUM(AZ56:BD56) -> 0 | BF56: =ROUNDUP(SUM(AZ56:BD56)+$AP$22,0) -> 250000 | BH56: =VLOOKUP(AR56,$AN$2:$AO$21,2,TRUE)& VLOOKUP(AS56,$AN$2:$AO$21,2,TRUE)& VLOOKUP(AT56,$AN$2:$AO$21,2,TRUE)& IF(BC56=0,"",$AO$20)& IF(BD56=0,"",$AO$21) -> #N/A
A57: =C57 -> 0 | B57: =LEFT(C57,1) | AB57: =N57*N$27 -> 0 | AC57: =O57*O$27 -> 0 | AD57: =P57*P$27 -> 0 | AE57: =Q57*Q$27 -> 0 | AF57: =R57*R$27 -> 0 | AG57: =S57*S$27 -> 0 | AH57: =T57*T$27 -> 0 | AI57: =U57*U$27 -> 0 | ... AN57: =Z57*Z$27 -> 0 | AO57: =IF(B57="P","1 Unit Pek. Pintu ( "&C57&" )","1 Unit Pek. Jendela ( "&C57&" )") -> 1 Unit Pek. Jendela ( ) | AP57: =SUM(AB57:AN57) -> 0 | AV57: =IF(AR57=0,"0",VLOOKUP(AR57,$AN$2:$AP$21,3,TRUE)) -> 0 | AW57: =IF(AS57=0,"0",VLOOKUP(AS57,$AN$2:$AP$21,3,TRUE)) -> 0 | AX57: =IF(AT57=0,"0",VLOOKUP(AT57,$AN$2:$AP$21,3,TRUE)) -> 0 | AZ57: =D57*AV57 -> 0 | BA57: =E57*AW57 -> 0 | BB57: =F57*AX57 -> 0 | BC57: =G57*$AP$20 -> 0 | BD57: =H57*$AP$21 -> 0 | BE57: =SUM(AZ57:BD57) -> 0 | BF57: =ROUNDUP(SUM(AZ57:BD57)+$AP$22,0) -> 250000 | BH57: =VLOOKUP(AR57,$AN$2:$AO$21,2,TRUE)& VLOOKUP(AS57,$AN$2:$AO$21,2,TRUE)& VLOOKUP(AT57,$AN$2:$AO$21,2,TRUE)& IF(BC57=0,"",$AO$20)& IF(BD57=0,"",$AO$21) -> #N/A
A60: LANTAI 1
A61: NO | B61: NAMA | D61: LANTAI 1 | E61: LANTAI 2 | F61: LANTAI 3 | G61: LANTAI 4 | H61: TOTAL | I61: total tralis | J61: total list profil | N61: Kunci Tanam di Handle | O61: Kunci Tanam di Samping | P61: Kunci Grendel Jendela | Q61: Kunci Aluminium Rabuncis | R61: Engsel Jendela 4" | S61: Engsel Jendela casement | T61: Engsel Pintu 4" | U61: Kait Angin | V61: Door Closer | W61: Pegangan Pintu/Door Holder | X61: Aksesoris Sliding | Y61: Handle Pintu Single | Z61: Handle Pintu Double
A62: 1 | B62: =$B$93&C29&" "&$C$93 -> Pemasangan P1 (Full Aksesoris) | D62: 1 | H62: =SUM(D62:G62) -> 1 | I62: =H62*K29 -> 0 | J62: =H62*L29 -> 0 | N62: =$H62*N29 -> 1 | O62: =$H62*O29 -> 0 | P62: =$H62*P29 -> 2 | Q62: =$H62*Q29 -> 0 | R62: =$H62*R29 -> 0 | S62: =$H62*S29 -> 0 | T62: =$H62*T29 -> 4 | U62: =$H62*U29 -> 0 | ... Z62: =$H62*Z29 -> 2
A63: =A62+1 -> 2 | B63: =$B$93&C30&" "&$C$93 -> Pemasangan P2 (Full Aksesoris) | D63: 2 | H63: =SUM(D63:G63) -> 2 | I63: =H63*K30 -> 0 | J63: =H63*L30 -> 0 | N63: =$H63*N30 -> 2 | O63: =$H63*O30 -> 0 | P63: =$H63*P30 -> 4 | Q63: =$H63*Q30 -> 0 | R63: =$H63*R30 -> 0 | S63: =$H63*S30 -> 0 | T63: =$H63*T30 -> 8 | U63: =$H63*U30 -> 0 | ... Z63: =$H63*Z30 -> 4
A64: =A63+1 -> 3 | B64: =$B$93&C31&" "&$C$93 -> Pemasangan P3 (Full Aksesoris) | D64: 1 | H64: =SUM(D64:G64) -> 1 | I64: =H64*K31 -> 0 | J64: =H64*L31 -> 0 | N64: =$H64*N31 -> 1 | O64: =$H64*O31 -> 0 | P64: =$H64*P31 -> 6 | Q64: =$H64*Q31 -> 0 | R64: =$H64*R31 -> 0 | S64: =$H64*S31 -> 0 | T64: =$H64*T31 -> 0 | U64: =$H64*U31 -> 0 | ... Z64: =$H64*Z31 -> 2
A65: =A64+1 -> 4 | B65: =$B$93&C32&" "&$C$93 -> Pemasangan P4 (Full Aksesoris) | D65: 1 | H65: =SUM(D65:G65) -> 1 | I65: =H65*K32 -> 0 | J65: =H65*L32 -> 0 | N65: =$H65*N32 -> 1 | O65: =$H65*O32 -> 0 | P65: =$H65*P32 -> 0 | Q65: =$H65*Q32 -> 0 | R65: =$H65*R32 -> 0 | S65: =$H65*S32 -> 0 | T65: =$H65*T32 -> 2 | U65: =$H65*U32 -> 0 | ... Z65: =$H65*Z32 -> 0
A66: =A65+1 -> 5 | B66: =$B$93&C33&" "&$C$93 -> Pemasangan P5 (Full Aksesoris) | D66: 1 | H66: =SUM(D66:G66) -> 1 | I66: =H66*K33 -> 0 | J66: =H66*L33 -> 0 | N66: =$H66*N33 -> 1 | O66: =$H66*O33 -> 0 | P66: =$H66*P33 -> 0 | Q66: =$H66*Q33 -> 0 | R66: =$H66*R33 -> 2 | S66: =$H66*S33 -> 0 | T66: =$H66*T33 -> 2 | U66: =$H66*U33 -> 0 | ... Z66: =$H66*Z33 -> 2
A67: =A66+1 -> 6 | B67: =$B$93&C34&" "&$C$93 -> Pemasangan P6 (Full Aksesoris) | D67: 1 | H67: =SUM(D67:G67) -> 1 | I67: =H67*K34 -> 0 | J67: =H67*L34 -> 0 | N67: =$H67*N34 -> 1 | O67: =$H67*O34 -> 0 | P67: =$H67*P34 -> 0 | Q67: =$H67*Q34 -> 0 | R67: =$H67*R34 -> 0 | S67: =$H67*S34 -> 0 | T67: =$H67*T34 -> 4 | U67: =$H67*U34 -> 0 | ... Z67: =$H67*Z34 -> 2
A68: =A67+1 -> 7 | B68: =$B$93&C35&" "&$C$93 -> Pemasangan P7 (Full Aksesoris) | D68: 6 | H68: =SUM(D68:G68) -> 6 | I68: =H68*K35 -> 0 | J68: =H68*L35 -> 0 | N68: =$H68*N35 -> 6 | O68: =$H68*O35 -> 0 | P68: =$H68*P35 -> 0 | Q68: =$H68*Q35 -> 0 | R68: =$H68*R35 -> 0 | S68: =$H68*S35 -> 0 | T68: =$H68*T35 -> 12 | U68: =$H68*U35 -> 0 | ... Z68: =$H68*Z35 -> 0
A69: =A68+1 -> 8 | B69: =$B$93&C36&" "&$C$93 -> Pemasangan P8 (Full Aksesoris) | D69: 3 | H69: =SUM(D69:G69) -> 3 | I69: =H69*K36 -> 0 | J69: =H69*L36 -> 0 | N69: =$H69*N36 -> 3 | O69: =$H69*O36 -> 0 | P69: =$H69*P36 -> 0 | Q69: =$H69*Q36 -> 0 | R69: =$H69*R36 -> 0 | S69: =$H69*S36 -> 0 | T69: =$H69*T36 -> 6 | U69: =$H69*U36 -> 0 | ... Z69: =$H69*Z36 -> 0
A70: =A69+1 -> 9 | B70: =$B$93&C37&" "&$C$93 -> Pemasangan P9 (Full Aksesoris) | D70: 9 | H70: =SUM(D70:G70) -> 9 | I70: =H70*K37 -> 0 | J70: =H70*L37 -> 0 | N70: =$H70*N37 -> 9 | O70: =$H70*O37 -> 0 | P70: =$H70*P37 -> 0 | Q70: =$H70*Q37 -> 0 | R70: =$H70*R37 -> 0 | S70: =$H70*S37 -> 0 | T70: =$H70*T37 -> 18 | U70: =$H70*U37 -> 0 | ... Z70: =$H70*Z37 -> 0
A71: =A70+1 -> 10 | B71: =$B$93&C38&" "&$C$93 -> Pemasangan P10 (Full Aksesoris) | H71: =SUM(D71:G71) -> 0 | I71: =H71*K38 -> 0 | J71: =H71*L38 -> 0 | N71: =$H71*N38 -> 0 | O71: =$H71*O38 -> 0 | P71: =$H71*P38 -> 0 | Q71: =$H71*Q38 -> 0 | R71: =$H71*R38 -> 0 | S71: =$H71*S38 -> 0 | T71: =$H71*T38 -> 0 | U71: =$H71*U38 -> 0 | ... Z71: =$H71*Z38 -> 0
A72: =A71+1 -> 11 | B72: =$B$93&C39&" "&$C$93 -> Pemasangan P11 (Full Aksesoris) | H72: =SUM(D72:G72) -> 0 | I72: =H72*K39 -> 0 | J72: =H72*L39 -> 0 | N72: =$H72*N39 -> 0 | O72: =$H72*O39 -> 0 | P72: =$H72*P39 -> 0 | Q72: =$H72*Q39 -> 0 | R72: =$H72*R39 -> 0 | S72: =$H72*S39 -> 0 | T72: =$H72*T39 -> 0 | U72: =$H72*U39 -> 0 | ... Z72: =$H72*Z39 -> 0
A73: =A72+1 -> 12 | B73: =$B$93&C40&" "&$C$93 -> Pemasangan J1 (Full Aksesoris) | D73: 2 | H73: =SUM(D73:G73) -> 2 | I73: =H73*K40 -> 0 | J73: =H73*L40 -> 0 | N73: =$H73*N40 -> 0 | O73: =$H73*O40 -> 0 | P73: =$H73*P40 -> 8 | Q73: =$H73*Q40 -> 0 | R73: =$H73*R40 -> 16 | S73: =$H73*S40 -> 0 | T73: =$H73*T40 -> 0 | U73: =$H73*U40 -> 0 | ... Z73: =$H73*Z40 -> 0
A74: =A73+1 -> 13 | B74: =$B$93&C41&" "&$C$93 -> Pemasangan J2 (Full Aksesoris) | D74: 4 | H74: =SUM(D74:G74) -> 4 | I74: =H74*K41 -> 0 | J74: =H74*L41 -> 0 | N74: =$H74*N41 -> 0 | O74: =$H74*O41 -> 0 | P74: =$H74*P41 -> 24 | Q74: =$H74*Q41 -> 0 | R74: =$H74*R41 -> 48 | S74: =$H74*S41 -> 0 | T74: =$H74*T41 -> 0 | U74: =$H74*U41 -> 0 | ... Z74: =$H74*Z41 -> 0
A75: =A74+1 -> 14 | B75: =$B$93&C42&" "&$C$93 -> Pemasangan J3 (Full Aksesoris) | D75: 1 | H75: =SUM(D75:G75) -> 1 | I75: =H75*K42 -> 0 | J75: =H75*L42 -> 0 | N75: =$H75*N42 -> 0 | O75: =$H75*O42 -> 0 | P75: =$H75*P42 -> 4 | Q75: =$H75*Q42 -> 0 | R75: =$H75*R42 -> 8 | S75: =$H75*S42 -> 0 | T75: =$H75*T42 -> 0 | U75: =$H75*U42 -> 0 | ... Z75: =$H75*Z42 -> 0
A76: =A75+1 -> 15 | B76: =$B$93&C43&" "&$C$93 -> Pemasangan J4 (Full Aksesoris) | D76: 3 | H76: =SUM(D76:G76) -> 3 | I76: =H76*K43 -> 0 | J76: =H76*L43 -> 0 | N76: =$H76*N43 -> 0 | O76: =$H76*O43 -> 0 | P76: =$H76*P43 -> 6 | Q76: =$H76*Q43 -> 0 | R76: =$H76*R43 -> 12 | S76: =$H76*S43 -> 0 | T76: =$H76*T43 -> 0 | U76: =$H76*U43 -> 0 | ... Z76: =$H76*Z43 -> 0
A77: =A76+1 -> 16 | B77: =$B$93&C44&" "&$C$93 -> Pemasangan J5 (Full Aksesoris) | H77: =SUM(D77:G77) -> 0 | I77: =H77*K44 -> 0 | J77: =H77*L44 -> 0 | N77: =$H77*N44 -> 0 | O77: =$H77*O44 -> 0 | P77: =$H77*P44 -> 0 | Q77: =$H77*Q44 -> 0 | R77: =$H77*R44 -> 0 | S77: =$H77*S44 -> 0 | T77: =$H77*T44 -> 0 | U77: =$H77*U44 -> 0 | ... Z77: =$H77*Z44 -> 0
A78: =A77+1 -> 17 | B78: =$B$93&C45&" "&$C$93 -> Pemasangan J6 (Full Aksesoris) | H78: =SUM(D78:G78) -> 0 | I78: =H78*K45 -> 0 | J78: =H78*L45 -> 0 | N78: =$H78*N45 -> 0 | O78: =$H78*O45 -> 0 | P78: =$H78*P45 -> 0 | Q78: =$H78*Q45 -> 0 | R78: =$H78*R45 -> 0 | S78: =$H78*S45 -> 0 | T78: =$H78*T45 -> 0 | U78: =$H78*U45 -> 0 | ... Z78: =$H78*Z45 -> 0
A79: =A78+1 -> 18 | B79: =$B$93&C46&" "&$C$93 -> Pemasangan J7 (Full Aksesoris) | H79: =SUM(D79:G79) -> 0 | I79: =H79*K46 -> 0 | J79: =H79*L46 -> 0 | N79: =$H79*N46 -> 0 | O79: =$H79*O46 -> 0 | P79: =$H79*P46 -> 0 | Q79: =$H79*Q46 -> 0 | R79: =$H79*R46 -> 0 | S79: =$H79*S46 -> 0 | T79: =$H79*T46 -> 0 | U79: =$H79*U46 -> 0 | ... Z79: =$H79*Z46 -> 0
A80: =A79+1 -> 19 | B80: =$B$93&C47&" "&$C$93 -> Pemasangan J8 (Full Aksesoris) | H80: =SUM(D80:G80) -> 0 | I80: =H80*K47 -> 0 | J80: =H80*L47 -> 0 | N80: =$H80*N47 -> 0 | O80: =$H80*O47 -> 0 | P80: =$H80*P47 -> 0 | Q80: =$H80*Q47 -> 0 | R80: =$H80*R47 -> 0 | S80: =$H80*S47 -> 0 | T80: =$H80*T47 -> 0 | U80: =$H80*U47 -> 0 | ... Z80: =$H80*Z47 -> 0
A81: =A80+1 -> 20 | B81: =$B$93&C48&" "&$C$93 -> Pemasangan BV1 (Full Aksesoris) | D81: 4 | H81: =SUM(D81:G81) -> 4 | I81: =H81*K48 -> 0 | J81: =H81*L48 -> 0 | N81: =$H81*N48 -> 0 | O81: =$H81*O48 -> 0 | P81: =$H81*P48 -> 4 | Q81: =$H81*Q48 -> 0 | R81: =$H81*R48 -> 8 | S81: =$H81*S48 -> 0 | T81: =$H81*T48 -> 0 | U81: =$H81*U48 -> 0 | ... Z81: =$H81*Z48 -> 0
A82: =A81+1 -> 21 | B82: =$B$93&C49&" "&$C$93 -> Pemasangan BV2 (Full Aksesoris) | D82: 2 | H82: =SUM(D82:G82) -> 2 | I82: =H82*K49 -> 0 | J82: =H82*L49 -> 0 | N82: =$H82*N49 -> 0 | O82: =$H82*O49 -> 0 | P82: =$H82*P49 -> 4 | Q82: =$H82*Q49 -> 0 | R82: =$H82*R49 -> 8 | S82: =$H82*S49 -> 0 | T82: =$H82*T49 -> 0 | U82: =$H82*U49 -> 0 | ... Z82: =$H82*Z49 -> 0
A83: =A82+1 -> 22 | B83: =$B$93&C50&" "&$C$93 -> Pemasangan (Full Aksesoris) | H83: =SUM(D83:G83) -> 0 | I83: =H83*K50 -> 0 | J83: =H83*L50 -> 0 | N83: =$H83*N50 -> 0 | O83: =$H83*O50 -> 0 | P83: =$H83*P50 -> 0 | Q83: =$H83*Q50 -> 0 | R83: =$H83*R50 -> 0 | S83: =$H83*S50 -> 0 | T83: =$H83*T50 -> 0 | U83: =$H83*U50 -> 0 | ... Z83: =$H83*Z50 -> 0
A84: =A83+1 -> 23 | B84: =$B$93&C51&" "&$C$93 -> Pemasangan (Full Aksesoris) | H84: =SUM(D84:G84) -> 0 | I84: =H84*K51 -> 0 | J84: =H84*L51 -> 0 | N84: =$H84*N51 -> 0 | O84: =$H84*O51 -> 0 | P84: =$H84*P51 -> 0 | Q84: =$H84*Q51 -> 0 | R84: =$H84*R51 -> 0 | S84: =$H84*S51 -> 0 | T84: =$H84*T51 -> 0 | U84: =$H84*U51 -> 0 | ... Z84: =$H84*Z51 -> 0
A85: =A84+1 -> 24 | B85: =$B$93&C52&" "&$C$93 -> Pemasangan (Full Aksesoris) | H85: =SUM(D85:G85) -> 0 | I85: =H85*K52 -> 0 | J85: =H85*L52 -> 0 | N85: =$H85*N52 -> 0 | O85: =$H85*O52 -> 0 | P85: =$H85*P52 -> 0 | Q85: =$H85*Q52 -> 0 | R85: =$H85*R52 -> 0 | S85: =$H85*S52 -> 0 | T85: =$H85*T52 -> 0 | U85: =$H85*U52 -> 0 | ... Z85: =$H85*Z52 -> 0
A86: =A85+1 -> 25 | B86: =$B$93&C53&" "&$C$93 -> Pemasangan (Full Aksesoris) | H86: =SUM(D86:G86) -> 0 | I86: =H86*K53 -> 0 | J86: =H86*L53 -> 0 | N86: =$H86*N53 -> 0 | O86: =$H86*O53 -> 0 | P86: =$H86*P53 -> 0 | Q86: =$H86*Q53 -> 0 | R86: =$H86*R53 -> 0 | S86: =$H86*S53 -> 0 | T86: =$H86*T53 -> 0 | U86: =$H86*U53 -> 0 | ... Z86: =$H86*Z53 -> 0
A87: =A86+1 -> 26 | B87: =$B$93&C54&" "&$C$93 -> Pemasangan (Full Aksesoris) | H87: =SUM(D87:G87) -> 0 | I87: =H87*K54 -> 0 | J87: =H87*L54 -> 0 | N87: =$H87*N54 -> 0 | O87: =$H87*O54 -> 0 | P87: =$H87*P54 -> 0 | Q87: =$H87*Q54 -> 0 | R87: =$H87*R54 -> 0 | S87: =$H87*S54 -> 0 | T87: =$H87*T54 -> 0 | U87: =$H87*U54 -> 0 | ... Z87: =$H87*Z54 -> 0
A88: =A87+1 -> 27 | B88: =$B$93&C55&" "&$C$93 -> Pemasangan (Full Aksesoris) | H88: =SUM(D88:G88) -> 0 | I88: =H88*K55 -> 0 | J88: =H88*L55 -> 0 | N88: =$H88*N55 -> 0 | O88: =$H88*O55 -> 0 | P88: =$H88*P55 -> 0 | Q88: =$H88*Q55 -> 0 | R88: =$H88*R55 -> 0 | S88: =$H88*S55 -> 0 | T88: =$H88*T55 -> 0 | U88: =$H88*U55 -> 0 | ... Z88: =$H88*Z55 -> 0
A89: =A88+1 -> 28 | B89: =$B$93&C56&" "&$C$93 -> Pemasangan (Full Aksesoris) | H89: =SUM(D89:G89) -> 0 | I89: =H89*K56 -> 0 | J89: =H89*L56 -> 0 | N89: =$H89*N56 -> 0 | O89: =$H89*O56 -> 0 | P89: =$H89*P56 -> 0 | Q89: =$H89*Q56 -> 0 | R89: =$H89*R56 -> 0 | S89: =$H89*S56 -> 0 | T89: =$H89*T56 -> 0 | U89: =$H89*U56 -> 0 | ... Z89: =$H89*Z56 -> 0
A90: =A89+1 -> 29 | B90: =$B$93&C57&" "&$C$93 -> Pemasangan (Full Aksesoris) | H90: =SUM(D90:G90) -> 0 | I90: =H90*K57 -> 0 | J90: =H90*L57 -> 0 | N90: =$H90*N57 -> 0 | O90: =$H90*O57 -> 0 | P90: =$H90*P57 -> 0 | Q90: =$H90*Q57 -> 0 | R90: =$H90*R57 -> 0 | S90: =$H90*S57 -> 0 | T90: =$H90*T57 -> 0 | U90: =$H90*U57 -> 0 | ... Z90: =$H90*Z57 -> 0
I91: =SUM(I62:I90) -> 0 | J91: =SUM(J62:J90) -> 0 | N91: =SUM(N62:N90) -> 25 | O91: =SUM(O62:O90) -> 0 | P91: =SUM(P62:P90) -> 62 | Q91: =SUM(Q62:Q90) -> 0 | R91: =SUM(R62:R90) -> 102 | S91: =SUM(S62:S90) -> 0 | T91: =SUM(T62:T90) -> 56 | U91: =SUM(U62:U90) -> 0 | ... Z91: =SUM(Z62:Z90) -> 12
B93: Pemasangan | C93: (Full Aksesoris)
B94: jumlah kunci
B95: Kunci Tanam di Handle | C95: =$N$91 -> 25
B96: Kunci Tanam di Samping | C96: =$O$91 -> 0
B97: Kunci Grendel Jendela | C97: =$P$91 -> 62
B98: Kunci Aluminium Rabuncis | C98: =$Q$91 -> 0
B99: Engsel Jendela 4" | C99: =$R$91 -> 102
B100: Engsel Jendela casement | C100: =$S$91 -> 0
B101: Engsel Pintu 4" | C101: =$T$91 -> 56
B102: Kait Angin | C102: =$U$91 -> 0
B103: Door Closer | C103: =$V$91 -> 0
B104: Pegangan Pintu/Door Holder | C104: =$W$91 -> 0
B105: Aksesoris Sliding | C105: =$X$91 -> 0
B106: Handle Pintu Single | C106: =$Y$91 -> 19
B107: Handle Pintu Double | C107: =$Z$91 -> 12

Sheet INSTALASI AIR
A1: TINGGI LANTAI | B1: 4.45
A2: TINGGI PLAFOND | B2: 3.8
B4: =B1-B2 -> 0.65
B5: =B2-0.8 -> 3
B6: =B1+0.2 -> 4.65

Sheet LISTRIK
H1: 1 PK | I1: 2 PK
B2: 18 | C2: 12 | D2: 5 | E2: 200 | G2: 40 | H2: 735.5 | I2: 0 | J2: 8 | K2: 9 | L2: 16 | M2: 25 | N2: 27 | O2: 48 | P2: 16 | Q2: 5 | R2: 17
AJ3: JUMLAH | AK3: MCB | AP3: 1 | AQ3: 2A | AS3: SAKLAR 1 | AT3: SAKLAR 2 | AU3: SAKLAR 3 | AV3: SAKLAR 4 | AW3: S HOTEL 1 | AX3: S HOTEL 2 | AZ3: lampu luar | BA3: lampu dalam
A4: LANTAI 1 | E4: 42 | F4: 6 | S4: =B4*B$2 -> 0 | T4: =C4*C$2 -> 0 | U4: =D4*D$2 -> 0 | V4: =E4*E$2 -> 8400 | W4: =F4*F$2 -> 0 | X4: =G4*G$2 -> 0 | Y4: =H4*H$2 -> 0 | Z4: =I4*I$2 -> 0 | ... AI4: =R4*R$2 -> 0 | AJ4: =SUM(S4:AI4) -> 8400 | AK4: =VLOOKUP(AJ4,$AP$3:$AQ$14,2,TRUE) -> 50A | AM4: 440 | AN4: 2 | AP4: 450 | AQ4: 4A | AR4: 1 | AS4: 6 | AT4: 13 | AU4: 13 | AV4: 10 | AW4: 0 | AY4: =AS4+AT4*2+AU4*3+AV4*4+AW4+AX4*2 -> 111 | AZ4: 35 | BA4: 90
B5: 10 | C5: # | D5: 21 | G5: 1 | J5: 25 | K5: 3 | M5: 2 | P5: 3 | Q5: 2 | S5: =B5*B$2 -> 180 | U5: =D5*D$2 -> 105 | V5: =E5*E$2 -> 0 | W5: =F5*F$2 -> 0 | X5: =G5*G$2 -> 40 | Y5: =H5*H$2 -> 0 | Z5: =I5*I$2 -> 0 | AA5: =J5*J$2 -> 200 | AB5: =K5*K$2 -> 27 | ... AI5: =R5*R$2 -> 0 | AJ5: =SUM(S5:AI5) -> 660 | AK5: =VLOOKUP(AJ5,$AP$3:$AQ$14,2,TRUE) -> 4A | AM5: 880 | AN5: 4 | AP5: 900 | AQ5: 6A | AR5: 2 | AS5: 0 | AT5: 0 | AU5: 0 | AV5: 0 | AW5: 0 | AY5: =AS5+AT5*2+AU5*3+AV5*4+AW5+AX5*2 -> 0 | AZ5: 0 | BA5: =AY5-AZ5 -> 0
H6: 5.5 | I6: 4 | S6: =B6*B$2 -> 0 | T6: =C6*C$2 -> 0 | U6: =D6*D$2 -> 0 | V6: =E6*E$2 -> 0 | W6: =F6*F$2 -> 0 | X6: =G6*G$2 -> 0 | Y6: =H6*H$2 -> 4045.25 | Z6: =I6*I$2 -> 0 | ... AI6: =R6*R$2 -> 0 | AJ6: =SUM(S6:AI6) -> 4045.25 | AK6: =VLOOKUP(AJ6,$AP$3:$AQ$14,2,TRUE) -> 20A | AM6: 1320 | AN6: 6 | AP6: 1300 | AQ6: 10A | AR6: 3 | AS6: 0 | AT6: 0 | AU6: 0 | AV6: 0 | AW6: 0 | AY6: 0 | AZ6: 0 | BA6: =AY6-AZ6 -> 0
S7: =B7*B$2 -> 0 | T7: =C7*C$2 -> 0 | U7: =D7*D$2 -> 0 | V7: =E7*E$2 -> 0 | W7: =F7*F$2 -> 0 | X7: =G7*G$2 -> 0 | Y7: =H7*H$2 -> 0 | Z7: =I7*I$2 -> 0 | ... AI7: =R7*R$2 -> 0 | AJ7: =SUM(S7:AI7) -> 0 | AK7: =VLOOKUP(AJ7,$AP$3:$AQ$14,2,TRUE) -> #N/A | AM7: 2200 | AN7: 10 | AP7: 2200 | AQ7: 16A | AR7: 4 | AY7: =AS7+AT7*2+AU7*3+AV7*4+AW7+AX7*2 -> 0 | BA7: =AY7-AZ7 -> 0
A8: 2 | S8: =B8*B$2 -> 0 | T8: =C8*C$2 -> 0 | U8: =D8*D$2 -> 0 | V8: =E8*E$2 -> 0 | W8: =F8*F$2 -> 0 | X8: =G8*G$2 -> 0 | Y8: =H8*H$2 -> 0 | Z8: =I8*I$2 -> 0 | ... AI8: =R8*R$2 -> 0 | AJ8: =SUM(S8:AI8) -> 0 | AK8: =VLOOKUP(AJ8,$AP$3:$AQ$14,2,TRUE) -> #N/A | AM8: 3520 | AN8: 16 | AP8: 3500 | AQ8: 20A | AR8: 5 | AY8: =AS8+AT8*2+AU8*3+AV8*4+AW8+AX8*2 -> 0 | BA8: =AY8-AZ8 -> 0
C9: 1 | S9: =B9*B$2 -> 0 | T9: =C9*C$2 -> 12 | U9: =D9*D$2 -> 0 | V9: =E9*E$2 -> 0 | W9: =F9*F$2 -> 0 | X9: =G9*G$2 -> 0 | Y9: =H9*H$2 -> 0 | Z9: =I9*I$2 -> 0 | ... AI9: =R9*R$2 -> 0 | AJ9: =SUM(S9:AI9) -> 12 | AK9: =VLOOKUP(AJ9,$AP$3:$AQ$14,2,TRUE) -> 2A | AM9: 4400 | AN9: 20 | AP9: 4400 | AQ9: 25A
S10: =B10*B$2 -> 0 | T10: =C10*C$2 -> 0 | U10: =D10*D$2 -> 0 | V10: =E10*E$2 -> 0 | W10: =F10*F$2 -> 0 | X10: =G10*G$2 -> 0 | Y10: =H10*H$2 -> 0 | Z10: =I10*I$2 -> 0 | ... AI10: =R10*R$2 -> 0 | AJ10: =SUM(S10:AI10) -> 0 | AK10: =VLOOKUP(AJ10,$AP$3:$AQ$14,2,TRUE) -> #N/A | AM10: 5500 | AN10: 25 | AP10: 5500 | AQ10: 32A | AR10: output | AS10: KBL LUAR | AT10: KBL DAL | AU10: KBL SK | AW10: input | AX10: KABEL OUTDOOR | AY10: KABEL INDOOR | AZ10: KABEL STOP KONTAK
S11: =B11*B$2 -> 0 | T11: =C11*C$2 -> 0 | U11: =D11*D$2 -> 0 | V11: =E11*E$2 -> 0 | W11: =F11*F$2 -> 0 | X11: =G11*G$2 -> 0 | Y11: =H11*H$2 -> 0 | Z11: =I11*I$2 -> 0 | ... AI11: =R11*R$2 -> 0 | AJ11: =SUM(S11:AI11) -> 0 | AK11: =VLOOKUP(AJ11,$AP$3:$AQ$14,2,TRUE) -> #N/A | AM11: 7040 | AN11: 32 | AP11: 7700 | AQ11: 50A | AR11: =AR4 -> 1 | AS11: =AX11+$AS$19*AZ4 -> 381.05 | AT11: =AY11+$AS$19*BA4 -> 384.12 | AU11: =AZ11+$AS$18*(E4+1) -> 232.2 | AX11: 332.05 | AY11: 258.12 | AZ11: 215
A12: 3 | S12: =B12*B$2 -> 0 | T12: =C12*C$2 -> 0 | U12: =D12*D$2 -> 0 | V12: =E12*E$2 -> 0 | W12: =F12*F$2 -> 0 | X12: =G12*G$2 -> 0 | Y12: =H12*H$2 -> 0 | Z12: =I12*I$2 -> 0 | ... AI12: =R12*R$2 -> 0 | AJ12: =SUM(S12:AI12) -> 0 | AK12: =VLOOKUP(AJ12,$AP$3:$AQ$14,2,TRUE) -> #N/A | AM12: 8800 | AN12: 40 | AP12: 11000 | AQ12: 63A | AR12: =AR5 -> 2 | AS12: =AX12+$AT$19*AZ5 -> 0 | AT12: =AY12+$AT$19*BA5 -> 0 | AU12: =AZ12+AT18*(1+E8) -> 0 | AX12: 0 | AY12: 0 | AZ12: 0
B13: 4 | S13: =B13*B$2 -> 72 | T13: =C13*C$2 -> 0 | U13: =D13*D$2 -> 0 | V13: =E13*E$2 -> 0 | W13: =F13*F$2 -> 0 | X13: =G13*G$2 -> 0 | Y13: =H13*H$2 -> 0 | Z13: =I13*I$2 -> 0 | ... AI13: =R13*R$2 -> 0 | AJ13: =SUM(S13:AI13) -> 72 | AK13: =VLOOKUP(AJ13,$AP$3:$AQ$14,2,TRUE) -> 2A | AM13: 11000 | AN13: 50 | AP13: 13900 | AQ13: 80A | AR13: =AR6 -> 3 | AS13: =AX13+$AT$19*AZ6 -> 0 | AT13: =AY13+$AT$19*BA6 -> 0 | AU13: =AZ13+AT18*(1+E12) -> 0 | AX13: 0 | AY13: 0 | AZ13: 0
S14: =B14*B$2 -> 0 | T14: =C14*C$2 -> 0 | U14: =D14*D$2 -> 0 | V14: =E14*E$2 -> 0 | W14: =F14*F$2 -> 0 | X14: =G14*G$2 -> 0 | Y14: =H14*H$2 -> 0 | Z14: =I14*I$2 -> 0 | ... AI14: =R14*R$2 -> 0 | AJ14: =SUM(S14:AI14) -> 0 | AK14: =VLOOKUP(AJ14,$AP$3:$AQ$14,2,TRUE) -> #N/A | AM14: 13860 | AN14: 63 | AP14: 17000 | AQ14: 100A | AR14: =AR7 -> 4 | AS14: =AX14+$AS$19*AZ7 -> 0 | AT14: =AY14+$AS$19*BA7 -> 0 | AU14: =AZ14+AT18*(1+E16) -> 0
S15: =B15*B$2 -> 0 | T15: =C15*C$2 -> 0 | U15: =D15*D$2 -> 0 | V15: =E15*E$2 -> 0 | W15: =F15*F$2 -> 0 | X15: =G15*G$2 -> 0 | Y15: =H15*H$2 -> 0 | Z15: =I15*I$2 -> 0 | ... AI15: =R15*R$2 -> 0 | AJ15: =SUM(S15:AI15)/5 -> 0 | AK15: =VLOOKUP(AJ15,$AP$3:$AQ$14,2,TRUE) -> #N/A | AR15: =AR8 -> 5 | AS15: =AX15+$AS$19*AZ8 -> 0 | AT15: =AY15+$AS$19*BA8 -> 0 | AU15: 0
A16: 4 | S16: =B16*B$2 -> 0 | T16: =C16*C$2 -> 0 | U16: =D16*D$2 -> 0 | V16: =E16*E$2 -> 0 | W16: =F16*F$2 -> 0 | X16: =G16*G$2 -> 0 | Y16: =H16*H$2 -> 0 | Z16: =I16*I$2 -> 0 | ... AI16: =R16*R$2 -> 0 | AJ16: =SUM(S16:AI16) -> 0 | AK16: =VLOOKUP(AJ16,$AP$3:$AQ$14,2,TRUE) -> #N/A
S17: =B17*B$2 -> 0 | T17: =C17*C$2 -> 0 | U17: =D17*D$2 -> 0 | V17: =E17*E$2 -> 0 | W17: =F17*F$2 -> 0 | X17: =G17*G$2 -> 0 | Y17: =H17*H$2 -> 0 | Z17: =I17*I$2 -> 0 | ... AI17: =R17*R$2 -> 0 | AJ17: =SUM(S17:AI17) -> 0 | AK17: =VLOOKUP(AJ17,$AP$3:$AQ$14,2,TRUE) -> #N/A
S18: =B18*B$2 -> 0 | T18: =C18*C$2 -> 0 | U18: =D18*D$2 -> 0 | V18: =E18*E$2 -> 0 | W18: =F18*F$2 -> 0 | X18: =G18*G$2 -> 0 | Y18: =H18*H$2 -> 0 | Z18: =I18*I$2 -> 0 | ... AI18: =R18*R$2 -> 0 | AJ18: =SUM(S18:AI18) -> 0 | AK18: =VLOOKUP(AJ18,$AP$3:$AQ$14,2,TRUE) -> #N/A | AR18: S KONTAK | AS18: 0.4 | AT18: 0
S19: =B19*B$2 -> 0 | T19: =C19*C$2 -> 0 | U19: =D19*D$2 -> 0 | V19: =E19*E$2 -> 0 | W19: =F19*F$2 -> 0 | X19: =G19*G$2 -> 0 | Y19: =H19*H$2 -> 0 | Z19: =I19*I$2 -> 0 | ... AI19: =R19*R$2 -> 0 | AJ19: =SUM(S19:AI19) -> 0 | AK19: =VLOOKUP(AJ19,$AP$3:$AQ$14,2,TRUE) -> #N/A | AR19: SAKLAR | AS19: 1.4 | AT19: 0
A20: 5 | S20: =B20*B$2 -> 0 | T20: =C20*C$2 -> 0 | U20: =D20*D$2 -> 0 | V20: =E20*E$2 -> 0 | W20: =F20*F$2 -> 0 | X20: =G20*G$2 -> 0 | Y20: =H20*H$2 -> 0 | Z20: =I20*I$2 -> 0 | ... AI20: =R20*R$2 -> 0 | AJ20: =SUM(S20:AI20) -> 0 | AK20: =VLOOKUP(AJ20,$AP$3:$AQ$14,2,TRUE) -> #N/A | AN20: MCB | AO20: Ampere | AR20: KETINGGIAN PLAFOND | AS20: 3.8 | AT20: 0
S21: =B21*B$2 -> 0 | T21: =C21*C$2 -> 0 | U21: =D21*D$2 -> 0 | V21: =E21*E$2 -> 0 | W21: =F21*F$2 -> 0 | X21: =G21*G$2 -> 0 | Y21: =H21*H$2 -> 0 | Z21: =I21*I$2 -> 0 | ... AI21: =R21*R$2 -> 0 | AJ21: =SUM(S21:AI21) -> 0 | AK21: =VLOOKUP(AJ21,$AP$3:$AQ$14,2,TRUE) -> #N/A | AN21: =$AN$20&" "&AN4&" "&$AO$20 -> MCB 2 Ampere
S22: =B22*B$2 -> 0 | T22: =C22*C$2 -> 0 | U22: =D22*D$2 -> 0 | V22: =E22*E$2 -> 0 | W22: =F22*F$2 -> 0 | X22: =G22*G$2 -> 0 | Y22: =H22*H$2 -> 0 | Z22: =I22*I$2 -> 0 | ... AI22: =R22*R$2 -> 0 | AJ22: =SUM(S22:AI22) -> 0 | AK22: =VLOOKUP(AJ22,$AP$3:$AQ$14,2,TRUE) -> #N/A | AN22: =$AN$20&" "&AN5&" "&$AO$20 -> MCB 4 Ampere
AJ23: =SUM(S23:AI23) -> 0 | AN23: =$AN$20&" "&AN6&" "&$AO$20 -> MCB 6 Ampere
AN24: =$AN$20&" "&AN7&" "&$AO$20 -> MCB 10 Ampere | AS24: SELALU CEK LAGI
AN25: =$AN$20&" "&AN8&" "&$AO$20 -> MCB 16 Ampere | AS25: ini rumah
AN26: =$AN$20&" "&AN9&" "&$AO$20 -> MCB 20 Ampere
AN27: =$AN$20&" "&AN10&" "&$AO$20 -> MCB 25 Ampere | AS27: stop kontak + 1
AN28: =$AN$20&" "&AN11&" "&$AO$20 -> MCB 32 Ampere
AN29: =$AN$20&" "&AN12&" "&$AO$20 -> MCB 40 Ampere
AN30: =$AN$20&" "&AN13&" "&$AO$20 -> MCB 50 Ampere
AN31: =$AN$20&" "&AN14&" "&$AO$20 -> MCB 63 Ampere

Sheet PRP
A2: 1 | B2: Pekerjaan Pagar Sementara Seng Gelombang
B3: X : | C3: ='REKAP '!$O$4 -> 35 | D3: LUAS : | E3: =2*(C3+C4) -> 202
B4: Y : | C4: 66
A6: 2 | B6: Pengukuran dan Pasng Bouwplank
B7: X : | C7: ='REKAP '!$O$4 -> 35 | D7: LUAS : | E7: =2*(C7+C8) -> 202
B8: Y : | C8: ='REKAP '!$P$4 -> 66
A10: 3 | B10: Pembuatan Kantor Sementara
B11: X : | C11: 4 | D11: LUAS : | E11: =C11*C12 -> 24
B12: Y : | C12: 6
A14: 4 | B14: Gudang material/direksi keet
B15: X : | C15: 4 | D15: LUAS : | E15: =C15*C16 -> 24
B16: Y : | C16: 6
A18: 5 | B18: Bedeng Buruh
B19: X : | C19: 0 | D19: LUAS : | E19: =C19*C20 -> 0
B20: Y : | C20: 0

Sheet PSP
B2: A. ANALISA HARGA SATUAN PEKERJAAN PERSIAPAN
B4: No. | D4: URAIAN | E4: SATUAN | F4: VOLUME | G4: HARGA SATUAN | H4: HARGA
G5: (Rp) | H5: (Rp)
B6: A-01 | C6: 1 M' Pagar Sementara Seng Gelombang Tinggi 2 m | J6: =BOQ!$E$17 -> 202
C7: - | D7: Dolken Kayu Ø 8-10 / 400 cm | E7: Btg | F7: 1.25 | G7: =BAHAN!$E$78 -> 30000 | H7: =F7*G7 -> 37500 | J7: =$J$6 -> 202 | K7: =J7*F7 -> 252.5 | L7: Btg
C8: - | D8: Semen Tiga Roda | E8: Kg | F8: 2.5 | G8: =BAHAN!$E$30/50 -> 1500 | H8: =F8*G8 -> 3750 | J8: =$J$6 -> 202 | K8: =J8*F8 -> 505 | L8: Kg
C9: - | D9: Seng Gelombang BJLS-30 | E9: Lbr | F9: 1.2 | G9: =BAHAN!$E$167 -> 25000 | H9: =F9*G9 -> 30000 | J9: =$J$6 -> 202 | K9: =J9*F9 -> 242.4 | L9: Lbr
C10: - | D10: Pasir beton Cilegon | E10: M3 | F10: 0.005 | G10: =BAHAN!$E$10 -> 345000 | H10: =F10*G10 -> 1725 | J10: =$J$6 -> 202 | K10: =J10*F10 -> 1.01 | L10: M3
C11: - | D11: Split Beton 2/3 | E11: M3 | F11: 0.009 | G11: =BAHAN!$E$13 -> 297000 | H11: =F11*G11 -> 2673 | J11: =$J$6 -> 202 | K11: =J11*F11 -> 1.818 | L11: M3
C12: - | D12: Kayu balok 5/7/3 Albasia | E12: M3 | F12: 0.072 | G12: =BAHAN!$E$66 -> 2100000 | H12: =F12*G12 -> 151200 | J12: =$J$6 -> 202 | K12: =J12*F12 -> 14.544 | L12: M3
C13: - | D13: Paku Biasa 2"-5" | E13: Kg | F13: 0.06 | G13: =BAHAN!$E$209 -> 17500 | H13: =F13*G13 -> 1050 | J13: =$J$6 -> 202 | K13: =J13*F13 -> 12.12 | L13: Kg
C14: - | D14: Meni Besi | E14: Kg | F14: 0.45 | G14: =BAHAN!$E$61 -> 44500 | H14: =F14*G14 -> 20025 | I14: =SUM(H7:H14) -> 247923 | J14: =$J$6 -> 202 | K14: =J14*F14 -> 90.9 | L14: Kg
C15: - | D15: Pekerja | E15: Oh | F15: 0.4 | G15: =UPAH!$E$26 -> 136000 | H15: =F15*G15 -> 54400
C16: - | D16: Tukang Kayu | E16: Oh | F16: 0.2 | G16: =UPAH!$E$17 -> 160000 | H16: =F16*G16 -> 32000
C17: - | D17: Kepala Tukang | E17: Oh | F17: 0.02 | G17: =UPAH!$E$11 -> 150000 | H17: =F17*G17 -> 3000
C18: - | D18: Mandor | E18: Oh | F18: 0.02 | G18: =UPAH!$E$9 -> 180000 | H18: =F18*G18 -> 3600 | I18: =SUM(H15:H18) -> 93000
D19: Jumlah | H19: =SUM(H7:H18) -> 340923
C20: Dibulatkan | H20: =ROUND(H19,0) -> 340923
B21: A-02 | C21: 1 M2 Pengukuran Dan Pasang Bouwplank
C22: - | D22: Kayu balok 5/7/3 Albasia | E22: M3 | F22: 0.012 | G22: =G12 -> 2100000 | H22: =F22*G22 -> 25200 | J22: =BOQ!$E$18 -> 202 | K22: =J22*F22 -> 2.424 | L22: M3
C23: - | D23: Paku Biasa 2"-5" | E23: Kg | F23: 0.02 | G23: =G13 -> 17500 | H23: =F23*G23 -> 350 | J23: =BOQ!$E$18 -> 202 | K23: =J23*F23 -> 4.04 | L23: Kg
C24: - | D24: Kayu papan albasia 2/20/3 | E24: M3 | F24: 0.007 | G24: =BAHAN!$E$76 -> 2141666.7 | H24: =F24*G24 -> 14991.667 | I24: =SUM(H22:H24) -> 40541.667 | J24: =BOQ!$E$18 -> 202 | K24: =J24*F24 -> 1.414 | L24: M3
C25: - | D25: Pekerja | E25: Oh | F25: 0.1 | G25: =G15 -> 136000 | H25: =F25*G25 -> 13600
C26: - | D26: Tukang Kayu | E26: Oh | F26: 0.1 | G26: =G16 -> 160000 | H26: =F26*G26 -> 16000
C27: - | D27: Kepala Tukang | E27: Oh | F27: 0.01 | G27: =G17 -> 150000 | H27: =F27*G27 -> 1500
C28: - | D28: Mandor | E28: Oh | F28: 0.005 | G28: =G18 -> 180000 | H28: =F28*G28 -> 900 | I28: =SUM(H25:H28) -> 32000
D29: Jumlah | H29: =SUM(H22:H28) -> 72541.667
C30: Dibulatkan | H30: =ROUND(H29,0) -> 72542
B31: A-03 | C31: 1 M2 Pembuatan Kantor Sementara dgn Lantai Diplester
C32: - | D32: Dolken Kayu Ø 8-10 / 400 cm | E32: Btg | F32: 1.25 | G32: =G7 -> 30000 | H32: =F32*G32 -> 37500 | J32: =BOQ!$E$21 -> 24 | K32: =J32*F32 -> 30
C33: - | D33: Kayu Balok 5/7/4 Meranti | E33: M3 | F33: 0.18 | G33: =BAHAN!$E$67 -> 7435571.4 | H33: =F33*G33 -> 1338402.9 | J33: =BOQ!$E$21 -> 24 | K33: =J33*F33 -> 4.32
C34: - | D34: Paku Biasa 2"-5" | E34: Kg | F34: 0.85 | G34: =G23 -> 17500 | H34: =F34*G34 -> 14875 | J34: =BOQ!$E$21 -> 24 | K34: =J34*F34 -> 20.4
C35: - | D35: Besi Strip | E35: Kg | F35: 1.1 | G35: =BAHAN!$E$158 -> 33750 | H35: =F35*G35 -> 37125 | J35: =BOQ!$E$21 -> 24 | K35: =J35*F35 -> 26.4
C36: - | D36: Semen Tiga Roda | E36: Kg | F36: 35 | G36: =G8 -> 1500 | H36: =F36*G36 -> 52500 | J36: =BOQ!$E$21 -> 24 | K36: =J36*F36 -> 840
C37: - | D37: Pasir Pasang Putih Rangkas | E37: M3 | F37: 0.15 | G37: =BAHAN!$E$9 -> 246000 | H37: =F37*G37 -> 36900 | J37: =BOQ!$E$21 -> 24 | K37: =J37*F37 -> 3.6
C38: - | D38: Pasir beton Cilegon | E38: M3 | F38: 0.1 | G38: =G10 -> 345000 | H38: =F38*G38 -> 34500 | J38: =BOQ!$E$21 -> 24 | K38: =J38*F38 -> 2.4
C39: - | D39: Split Beton 2/3 | E39: M3 | F39: 0.15 | G39: =G11 -> 297000 | H39: =F39*G39 -> 44550 | J39: =BOQ!$E$21 -> 24 | K39: =J39*F39 -> 3.6
C40: - | D40: Bata Merah | E40: Bh | F40: 30 | G40: =BAHAN!$E$22 -> 1100 | H40: =F40*G40 -> 33000 | J40: =BOQ!$E$21 -> 24 | K40: =J40*F40 -> 720
C41: - | D41: Seng Gelombang BJLS-30 | E41: M2 | F41: 1.05 | G41: =G9 -> 25000 | H41: =F41*G41 -> 26250 | J41: =BOQ!$E$21 -> 24 | K41: =J41*F41 -> 25.2
C42: - | D42: Kawat harmonika | E42: M2 | F42: 2 | G42: =BAHAN!$E$154 -> 25000 | H42: =F42*G42 -> 50000 | J42: =BOQ!$E$21 -> 24 | K42: =J42*F42 -> 48
C43: - | D43: Kaca Polos 3mm | E43: M2 | F43: 0.08 | G43: =BAHAN!$E$197 -> 110500 | H43: =F43*G43 -> 8840 | J43: =BOQ!$E$21 -> 24 | K43: =J43*F43 -> 1.92
C44: - | D44: Kunci Tanam Lokal | E44: Bh | F44: 0.15 | G44: =BAHAN!$E$343 -> 180000 | H44: =F44*G44 -> 27000 | J44: =BOQ!$E$21 -> 24 | K44: =J44*F44 -> 3.6
C45: - | D45: Plywood 120 x 240 x 0,4 cm | E45: Lbr | F45: 0.06 | G45: =BAHAN!$E$97 -> 114500 | H45: =F45*G45 -> 6870 | I45: =SUM(H32:H45) -> 1748312.9 | J45: =BOQ!$E$21 -> 24 | K45: =J45*F45 -> 1.44
C46: - | D46: Pekerja | E46: Oh | F46: 2 | G46: =G25 -> 136000 | H46: =F46*G46 -> 272000
C47: - | D47: Tukang Kayu | E47: Oh | F47: 2 | G47: =G26 -> 160000 | H47: =F47*G47 -> 320000
C48: - | D48: Tukang Batu | E48: Oh | F48: 1 | G48: =UPAH!$E$16 -> 160000 | H48: =F48*G48 -> 160000
C49: - | D49: Kepala Tukang | E49: Oh | F49: 0.3 | G49: =G27 -> 150000 | H49: =F49*G49 -> 45000
C50: - | D50: Mandor | E50: Oh | F50: 0.05 | G50: =G28 -> 180000 | H50: =F50*G50 -> 9000 | I50: =SUM(H46:H50) -> 806000
D51: Jumlah | H51: =SUM(H32:H50) -> 2554312.9
C52: Dibulatkan | H52: =ROUND(H51,0) -> 2554313
B53: A-04 | C53: 1 M2 Pembuatan Gudang Semen dan Alat-alat
C54: - | D54: Dolken Kayu Ø 8-10 / 400 cm | E54: Btg | F54: 1.7 | G54: =G32 -> 30000 | H54: =F54*G54 -> 51000 | J54: =BOQ!$E$22 -> 24 | K54: =J54*F54 -> 40.8
C55: - | D55: Kayu Balok 5/7/4 Meranti | E55: M3 | F55: 0.21 | G55: =G33 -> 7435571.4 | H55: =F55*G55 -> 1561470 | J55: =BOQ!$E$22 -> 24 | K55: =J55*F55 -> 5.04
C56: - | D56: Paku Biasa 2"-5" | E56: Kg | F56: 0.3 | G56: =G34 -> 17500 | H56: =F56*G56 -> 5250 | J56: =BOQ!$E$22 -> 24 | K56: =J56*F56 -> 7.2
C57: - | D57: Semen Tiga Roda | E57: Kg | F57: 10.5 | G57: =G36 -> 1500 | H57: =F57*G57 -> 15750 | J57: =BOQ!$E$22 -> 24 | K57: =J57*F57 -> 252
C58: - | D58: Pasir beton Cilegon | E58: M3 | F58: 0.03 | G58: =G38 -> 345000 | H58: =F58*G58 -> 10350 | J58: =BOQ!$E$22 -> 24 | K58: =J58*F58 -> 0.72
C59: - | D59: Split Beton 2/3 | E59: M3 | F59: 0.05 | G59: =G39 -> 297000 | H59: =F59*G59 -> 14850 | J59: =BOQ!$E$22 -> 24 | K59: =J59*F59 -> 1.2
C60: - | D60: Seng Gelombang BJLS 30 | E60: Lbr | F60: 1.5 | G60: =G9 -> 25000 | H60: =F60*G60 -> 37500 | I60: =SUM(H54:H60) -> 1696170 | J60: =BOQ!$E$22 -> 24 | K60: =J60*F60 -> 36
C61: - | D61: Pekerja | E61: Oh | F61: 1 | G61: =G25 -> 136000 | H61: =F61*G61 -> 136000
C62: - | D62: Tukang Kayu | E62: Oh | F62: 2 | G62: =G26 -> 160000 | H62: =F62*G62 -> 320000
C63: - | D63: Kepala Tukang | E63: Oh | F63: 0.2 | G63: =G27 -> 150000 | H63: =F63*G63 -> 30000
C64: - | D64: Mandor | E64: Oh | F64: 0.05 | G64: =G28 -> 180000 | H64: =F64*G64 -> 9000 | I64: =SUM(H61:H64) -> 495000
D65: Jumlah | H65: =SUM(H54:H64) -> 2191170
C66: Dibulatkan | H66: =ROUND(H65,0) -> 2191170
B67: A-05 | C67: 1 M2 Pembuatan Bedeng Buruh
C68: - | D68: Dolken Kayu Ø 8-10 / 400 cm | E68: Btg | F68: 1.25 | G68: =G54 -> 30000 | H68: =F68*G68 -> 37500 | J68: =BOQ!$E$23 -> 0 | K68: =J68*F68 -> 0
C69: - | D69: Kayu Balok 5/7/4 Meranti | E69: M3 | F69: 0.186 | G69: =G55 -> 7435571.4 | H69: =F69*G69 -> 1383016.3 | J69: =BOQ!$E$23 -> 0 | K69: =J69*F69 -> 0
C70: - | D70: Paku Biasa 2"-5" | E70: Kg | F70: 0.3 | G70: =G56 -> 17500 | H70: =F70*G70 -> 5250 | J70: =BOQ!$E$23 -> 0 | K70: =J70*F70 -> 0
C71: - | D71: Semen Tiga Roda | E71: Kg | F71: 18 | G71: =G57 -> 1500 | H71: =F71*G71 -> 27000 | J71: =BOQ!$E$23 -> 0 | K71: =J71*F71 -> 0
C72: - | D72: Pasir beton Cilegon | E72: M3 | F72: 0.03 | G72: =G58 -> 345000 | H72: =F72*G72 -> 10350 | J72: =BOQ!$E$23 -> 0 | K72: =J72*F72 -> 0
C73: - | D73: Split Beton 2/3 | E73: M3 | F73: 0.05 | G73: =G59 -> 297000 | H73: =F73*G73 -> 14850 | J73: =BOQ!$E$23 -> 0 | K73: =J73*F73 -> 0
C74: - | D74: Seng Gelombang BJLS 30 | E74: Lbr | F74: 1.5 | G74: =G60 -> 25000 | H74: =F74*G74 -> 37500 | I74: =SUM(H68:H74) -> 1515466.3 | J74: =BOQ!$E$23 -> 0 | K74: =J74*F74 -> 0
C75: - | D75: Pekerja | E75: Oh | F75: 1 | G75: =G61 -> 136000 | H75: =F75*G75 -> 136000
C76: - | D76: Tukang Kayu | E76: Oh | F76: 2 | G76: =G62 -> 160000 | H76: =F76*G76 -> 320000
C77: - | D77: Kepala Tukang | E77: Oh | F77: 0.2 | G77: =G63 -> 150000 | H77: =F77*G77 -> 30000
C78: - | D78: Mandor | E78: Oh | F78: 0.05 | G78: =G64 -> 180000 | H78: =F78*G78 -> 9000 | I78: =SUM(H75:H78) -> 495000
D79: Jumlah | H79: =SUM(H68:H78) -> 2010466.3
C80: Dibulatkan | H80: =ROUND(H79,0) -> 2010466
B81: A-06 | C81: 1 M2 Membersihkan Lapangan dan Perataan
C82: - | D82: Pekerja | E82: Oh | F82: 0.1 | G82: =G61 -> 136000 | H82: =F82*G82 -> 13600
C83: - | D83: Mandor | E83: Oh | F83: 0.05 | G83: =G64 -> 180000 | H83: =F83*G83 -> 9000 | I83: =SUM(H82:H83) -> 22600
D84: Jumlah | H84: =SUM(H82:H83) -> 22600
C85: Dibulatkan | H85: =ROUND(H84,0) -> 22600
B86: A-07 | C86: 1 M3 Bongkaran Beton Bertulang
C87: - | D87: Pekerja | E87: Oh | F87: 6.667 | G87: =G82 -> 136000 | H87: =F87*G87 -> 906712
C88: - | D88: Mandor | E88: Oh | F88: 0.333 | G88: =G83 -> 180000 | H88: =F88*G88 -> 59940 | I88: =SUM(H87:H88) -> 966652
D89: Jumlah | H89: =SUM(H87:H88) -> 966652
C90: Dibulatkan | H90: =ROUND(H89,0) -> 966652
B91: A-08 | C91: 1 M3 Bongkaran Dinding Tembok Bata Merah
C92: - | D92: Pekerja | E92: Oh | F92: 6.667 | G92: =G87 -> 136000 | H92: =F92*G92 -> 906712 | I92: =SUM(H92:H93) -> 912652
C93: - | D93: Mandor | E93: Oh | F93: 0.033 | G93: =G88 -> 180000 | H93: =F93*G93 -> 5940
D94: Jumlah | H94: =SUM(H92:H93) -> 912652
C95: Dibulatkan | H95: =ROUND(H94,0) -> 912652
B96: A-09 | C96: 1 M2 Steiger Werk / perancah dari Bambu
C97: - | D97: Bambu Ø 6 - 10 (600) cm | E97: btng | F97: 1 | G97: =BAHAN!$E$65 -> 25000 | H97: =F97*G97 -> 25000
C98: - | D98: Tali ijuk | E98: kg | F98: 0.25 | G98: =BAHAN!$E$81 -> 25000 | H98: =F98*G98 -> 6250 | I98: =SUM(H97:H98) -> 31250
C99: - | D99: Pekerja | E99: org | F99: 0.25 | G99: =G75 -> 136000 | H99: =F99*G99 -> 34000
C100: - | D100: Tukang kayu | E100: org | F100: 0.017 | G100: =G76 -> 160000 | H100: =F100*G100 -> 2720
C101: - | D101: Kepala tukang | E101: org | F101: 0.002 | G101: =G77 -> 150000 | H101: =F101*G101 -> 300
C102: - | D102: Mandor | E102: org | F102: 0.013 | G102: =G78 -> 180000 | H102: =F102*G102 -> 2340 | I102: =SUM(H99:H102) -> 39360
...

Sheet B
B2: B. ANALISA HARGA SATUAN PEKERJAAN TANAH
B4: No. | D4: URAIAN | E4: SATUAN | F4: VOLUME | G4: HARGA SATUAN | H4: HARGA
G5: (Rp) | H5: (Rp)
B6: B-01 | C6: 1 M3 Galian Tanah Biasa sedalam 1 m
C7: - | D7: Pekerja | E7: Oh | F7: 0.4 | G7: =UPAH!E26 -> 136000 | H7: =F7*G7 -> 54400
C8: - | D8: Mandor | E8: Oh | F8: 0.04 | G8: =UPAH!E9 -> 180000 | H8: =F8*G8 -> 7200 | I8: =SUM(H7:H8) -> 61600
D9: Jumlah | H9: =SUM(H7:H8) -> 61600
C10: Dibulatkan | H10: =ROUND(H9,0) -> 61600
B11: B-02 | C11: 1 M3 Galian Tanah Biasa Sedalam 2 m
C12: - | D12: Pekerja | E12: Oh | F12: 0.526 | G12: =G7 -> 136000 | H12: =F12*G12 -> 71536
C13: - | D13: Mandor | E13: Oh | F13: 0.052 | G13: =G8 -> 180000 | H13: =F13*G13 -> 9360 | I13: =SUM(H12:H13) -> 80896
D14: Jumlah | H14: =SUM(H12:H13) -> 80896
C15: Dibulatkan | H15: =ROUND(H14,0) -> 80896
B16: B-03 | C16: 1 M1 Galian Tanah Manual Strauspile dia - 30 cm
C17: - | D17: Upah | E17: ls | F17: 1 | G17: 75000 | H17: =F17*G17 -> 75000 | I17: =SUM(H17) -> 75000 | J17: ='PONDASI DAN SLOOF'!C27 -> 0
D18: Jumlah | H18: =SUM(H17:H17) -> 75000
C19: Dibulatkan | H19: =ROUND(H18,0) -> 75000
B20: B-04 | C20: 1 M1 Galian Tanah mesin minicrane Strauspile dia - 30 cm
C21: - | D21: Upah | E21: ls | F21: 1 | G21: 120000 | H21: =F21*G21 -> 120000 | I21: =SUM(H21) -> 120000
D22: Jumlah | H22: =SUM(H21:H21) -> 120000
C23: Dibulatkan | H23: =ROUND(H22,0) -> 120000
B24: B-05 | C24: 1 M3 Pembuangan Tanah sejauh 150 m
C25: - | D25: Pekerja | E25: Oh | F25: 0.516 | G25: =G7 -> 136000 | H25: =F25*G25 -> 70176
C26: - | D26: Mandor | E26: Oh | F26: 0.05 | G26: =G8 -> 180000 | H26: =F26*G26 -> 9000 | I26: =SUM(H25:H26) -> 79176
D27: Jumlah | H27: =SUM(H25:H26) -> 79176
C28: Dibulatkan | H28: =ROUND(H27,0) -> 79176
B29: B-06 | C29: 1 M3 Urugan Kembali
C30: - | D30: Pekerja | E30: Oh | F30: 0.192 | G30: =G25 -> 136000 | H30: =F30*G30 -> 26112
C31: - | D31: Mandor | E31: Oh | F31: 0.019 | G31: =G26 -> 180000 | H31: =F31*G31 -> 3420 | I31: =SUM(H30:H31) -> 29532
D32: Jumlah | H32: =SUM(H30:H31) -> 29532
C33: Dibulatkan | H33: =ROUND(H32,0) -> 29532
B34: B-07 | C34: 1 M3 Pemadatan Tanah
C35: - | D35: Pekerja | E35: Oh | F35: 0.5 | G35: =G30 -> 136000 | H35: =F35*G35 -> 68000
C36: - | D36: Mandor | E36: Oh | F36: 0.05 | G36: =G31 -> 180000 | H36: =F36*G36 -> 9000 | I36: =SUM(H35:H36) -> 77000
D37: Jumlah | H37: =SUM(H35:H36) -> 77000
C38: Dibulatkan | H38: =ROUND(H37,0) -> 77000
B39: B-08 | C39: 1 M3 Urugaan Pasir
C40: - | D40: Pasir Urug Cilegon | E40: M3 | F40: 1.2 | G40: =BAHAN!$E$6 -> 170000 | H40: =F40*G40 -> 204000 | I40: =SUM(H40) -> 204000 | J40: =BOQ!$E$38+BOQ!$E$917 -> 51.586 | K40: =J40*F40 -> 61.9032 | L40: M3
C41: - | D41: Pekerja | E41: Oh | F41: 0.3 | G41: =G35 -> 136000 | H41: =F41*G41 -> 40800
C42: - | D42: Mandor | E42: Oh | F42: 0.01 | G42: =G36 -> 180000 | H42: =F42*G42 -> 1800 | I42: =SUM(H41:H42) -> 42600
D43: Jumlah | H43: =SUM(H40:H42) -> 246600
C44: Dibulatkan | H44: =ROUND(H43,0) -> 246600
B45: B-09 | C45: 1 M3 Urugan Sirtu
C46: - | D46: Sirtu | E46: M3 | F46: 1.2 | G46: =BAHAN!$E$8 -> 290000 | H46: =F46*G46 -> 348000 | I46: =SUM(H46) -> 348000 | J46: =BOQ!$E$39 -> 0 | K46: =J46*F46 -> 0
C47: - | D47: Pekerja | E47: Oh | F47: 0.25 | G47: =G41 -> 136000 | H47: =F47*G47 -> 34000
C48: - | D48: Mandor | E48: Oh | F48: 0.025 | G48: =G42 -> 180000 | H48: =F48*G48 -> 4500 | I48: =SUM(H47:H48) -> 38500
D49: Jumlah | H49: =SUM(H46:H48) -> 386500
C50: Dibulatkan | H50: =ROUND(H49,0) -> 386500
B51: B-10 | C51: 1 M3 Urugan Tanah Pilihan
C52: - | D52: Tanah urug pilihan | E52: M3 | F52: 1.2 | G52: =BAHAN!$E$7 -> 255000 | H52: =F52*G52 -> 306000 | I52: =SUM(H52) -> 306000 | J52: =BOQ!$E$40 -> 0 | K52: =J52*F52 -> 0 | L52: M3
C53: - | D53: Pekerja | E53: Oh | F53: 0.25 | G53: =G47 -> 136000 | H53: =F53*G53 -> 34000
C54: - | D54: Mandor | E54: Oh | F54: 0.025 | G54: =G48 -> 180000 | H54: =F54*G54 -> 4500 | I54: =SUM(H53:H54) -> 38500
D55: Jumlah | H55: =SUM(H52:H54) -> 344500
C56: Dibulatkan | H56: =ROUND(H55,0) -> 344500

Sheet C
B2: C. ANALISA HARGA SATUAN PEKERJAAN PONDASI
B4: No. | D4: URAIAN | E4: SATUAN | F4: VOLUME | G4: HARGA SATUAN | H4: HARGA
G5: (Rp) | H5: (Rp)
B6: C-01 | C6: 1 M3 Pasang Pondasi Batu kali adk 1pc : 5ps
C7: - | D7: Batu Belah | E7: M3 | F7: 1.1 | G7: =BAHAN!$E$16 -> 285000 | H7: =F7*G7 -> 313500 | J7: =BOQ!$E$46 -> 109.725 | K7: =J7*F7 -> 120.6975 | L7: =E7 -> M3
C8: - | D8: Semen Tiga Roda | E8: Kg | F8: 136 | G8: =BAHAN!$E$30/50 -> 1500 | H8: =F8*G8 -> 204000 | J8: =$J$7 -> 109.725 | K8: =J8*F8 -> 14922.6 | L8: =E8 -> Kg
C9: - | D9: Pasir Pasang Putih Rangkas | E9: M3 | F9: 0.544 | G9: =BAHAN!$E$9 -> 246000 | H9: =F9*G9 -> 133824 | I9: =SUM(H7:H9) -> 651324 | J9: =$J$7 -> 109.725 | K9: =J9*F9 -> 59.6904 | L9: =E9 -> M3
C10: - | D10: Pekerja | E10: Oh | F10: 1.5 | G10: =UPAH!E26 -> 136000 | H10: =F10*G10 -> 204000
C11: - | D11: Tukang Batu | E11: Oh | F11: 0.6 | G11: =UPAH!E16 -> 160000 | H11: =F11*G11 -> 96000
C12: - | D12: Kepala Tukang | E12: Oh | F12: 0.06 | G12: =UPAH!E10 -> 170000 | H12: =F12*G12 -> 10200
C13: - | D13: Mandor | E13: Oh | F13: 0.075 | G13: =UPAH!E9 -> 180000 | H13: =F13*G13 -> 13500 | I13: =SUM(H10:H13) -> 323700
D14: Jumlah | H14: =SUM(H7:H13) -> 975024
C15: Dibulatkan | H15: =ROUND(H14,0) -> 975024
B16: C-02 | C16: 1 M3 Pasang Pondasi Batu Kosong (aanstamping)
C17: - | D17: Batu Belah | E17: M3 | F17: 1.2 | G17: =G7 -> 285000 | H17: =F17*G17 -> 342000 | J17: =BOQ!$E$47 -> 16.1975 | K17: =J17*F17 -> 19.437 | L17: =E17 -> M3
C18: - | D18: Pasir Urug Cilegon | E18: M3 | F18: 0.3 | G18: =BAHAN!$E$16 -> 285000 | H18: =F18*G18 -> 85500 | I18: =SUM(H17:H18) -> 427500 | J18: =$J$17 -> 16.1975 | K18: =J18*F18 -> 4.85925 | L18: =E18 -> M3
C19: - | D19: Pekerja | E19: Oh | F19: 0.78 | G19: =G10 -> 136000 | H19: =F19*G19 -> 106080 | J19: =$J$17 -> 16.1975 | K19: =J19*F19 -> 12.63405 | L19: =E19 -> Oh
C20: - | D20: Tukang Batu | E20: Oh | F20: 0.39 | G20: =G11 -> 160000 | H20: =F20*G20 -> 62400
C21: - | D21: Kepala Tukang | E21: Oh | F21: 0.039 | G21: =G12 -> 170000 | H21: =F21*G21 -> 6630
C22: - | D22: Mandor | E22: Oh | F22: 0.039 | G22: =G13 -> 180000 | H22: =F22*G22 -> 7020 | I22: =SUM(H19:H22) -> 182130
D23: Jumlah | H23: =SUM(H17:H22) -> 609630
C24: Dibulatkan | H24: =ROUND(H23,0) -> 609630
B25: C-03 | C25: 1 Titik Pemasangan Straus pile (30x30) cm kedalaman 3 meter
C26: - | D26: Besi Beton 16 mm ulir isi 5bh | E26: kg | F26: =5*3.5*1.58 -> 27.65 | G26: =BAHAN!$E$139 -> 8583.86 | H26: =F26*G26 -> 237343.73 | J26: =SUMIF(BOQ!$G$1:$G$2430,I31,BOQ!$E$1:$E$2430) -> 0 | K26: =J26*F26 -> 0
C27: - | D27: Besi Beton 8 mm polos | E27: kg | F27: =(3/0.15)*(3.14*0.3)*0.395 -> 7.4418 | G27: =BAHAN!$E$141 -> 8417.72 | H27: =F27*G27 -> 62642.989 | J27: =J26 -> 0 | K27: =J27*F27 -> 0
